BEGIN:VCALENDAR
VERSION:2.0
PRODID:-//NoonSong - ECPv6.15.20//NONSGML v1.0//EN
CALSCALE:GREGORIAN
METHOD:PUBLISH
X-WR-CALNAME:NoonSong
X-ORIGINAL-URL:https://noonsong.de/en/
X-WR-CALDESC:Events for NoonSong
REFRESH-INTERVAL;VALUE=DURATION:PT1H
X-Robots-Tag:noindex
X-PUBLISHED-TTL:PT1H
BEGIN:VTIMEZONE
TZID:Europe/Berlin
BEGIN:DAYLIGHT
TZOFFSETFROM:+0100
TZOFFSETTO:+0200
TZNAME:CEST
DTSTART:20080330T010000
END:DAYLIGHT
BEGIN:STANDARD
TZOFFSETFROM:+0200
TZOFFSETTO:+0100
TZNAME:CET
DTSTART:20081026T010000
END:STANDARD
BEGIN:DAYLIGHT
TZOFFSETFROM:+0100
TZOFFSETTO:+0200
TZNAME:CEST
DTSTART:20090329T010000
END:DAYLIGHT
BEGIN:STANDARD
TZOFFSETFROM:+0200
TZOFFSETTO:+0100
TZNAME:CET
DTSTART:20091025T010000
END:STANDARD
BEGIN:DAYLIGHT
TZOFFSETFROM:+0100
TZOFFSETTO:+0200
TZNAME:CEST
DTSTART:20100328T010000
END:DAYLIGHT
BEGIN:STANDARD
TZOFFSETFROM:+0200
TZOFFSETTO:+0100
TZNAME:CET
DTSTART:20101031T010000
END:STANDARD
END:VTIMEZONE
BEGIN:VEVENT
DTSTART;TZID=Europe/Berlin:20090711T120000
DTEND;TZID=Europe/Berlin:20090711T130000
DTSTAMP:20260419T145914
CREATED:20250707T194331Z
LAST-MODIFIED:20250707T194331Z
UID:41506-1247313600-1247317200@noonsong.de
SUMMARY:33. NoonSong am 11.07.2009 um 12:00
DESCRIPTION:Programme\n\n\n\n\nOrgan prelude: Johannes Brahms (1833-1897): Schmücke dich\, o liebe Seele (op. 122\, Nr. 5)Preces: Herbert Howells (1892-1983): Preces & Responses für vierstimmig gemischten Chor a cappellaPsalm of the day: Psalm 123: Giovanni Pierluigi da Palestrina (1525-1594): Ad te levavi oculos meos für vierstimmig gemischten Chor a cappellaPsalm of the week: Psalm 73: Heinrich Schütz (1585-1672): Herr\, wenn ich nur Dich habe (2. Teil der „Musikalischen Exequien“) für achtstimmigen Chor a cappellaResponsorium: gregorianisch\n\nCanticle: Jürgen Essl (*1961): Magnificat für vierstimmig gemischten Chor a cappellaHymn: Guillaume Franc (1515-1570): Preis\, Lob und Dank für vierstimmig gemischten Chor a cappellaOrgan postlude: Charles-Marie Widor (1844-1937): Andante cantabile\, aus der 4. Symphonie \n\n\n\n\n\n\n\n\nLiturgy: 5. Sonntag nach Trinitatis\n\nOrganist: Rudolf Seidel\nLocation: Kirche am Hohenzollernplatz\n\n\n\n\n\n\n\n\n\n\nProgramme PDF\n\n\n\n\nRead more about this NoonSong in the programme document. \n\n\n\n\n\n\n\n\n\n\n\n\nPDF DOWNLOAD\n\n\n\n\n\n\n\n\n\n\n\n\n\n\, Howells\, Herbert Norman \, \, Palestrina\, Giov. Pierluigi da; Palestrina\, G. Pierluigi da; Palestrina\, G. P. da; Palestrina\, G.P. da; Palestrina\, Giovanni Pierluigi; Palestrina\, Giovanni Pietro; Palestrina\, Giovanni Petraloysio; Palestrina\, Giovanni L.; Palestrina\, Giovanni; Palestrina\, G. P.; Palestrina\, G.P.; Palestrina\, Giovanni da; Palestrina\, Giovanno; Palestrina\, C. P. da; Palestrina\, C.P. da; Palestrina\, Jean Pierluigi de; Palestrina\, J. P.; Palestrina\, J.P.; Palestrina\, Joachim; Palestrina\, Petrus Aloysius; Palestrina\, Petrus A.; Palestrina\, Pierluigi da; Palestrina\, Pier Luigi; Palestrina\, P. L. da; Palestrina\, P.L. da; Palestrina; Palästrina\, G.; Palestrino\, Joannes P.; Praenestinius\, Ioannes P.; Praenestinius\, Joannes Petraloysius; Praenestinus\, Joann Petraloysius; Praenestinius\, Joannes P.; Praenestino\, Joanne Petraloysio; Praenestino\, Joanne Petro Aloysio; Praenestino\, Joannis P.; Praenestino\, Petro Aloysio; Praenestinus\, Ioannes P.; Praenestinus\, Joannes Petraloysius; Praenestinus\, Jo. Petraloysius; Praenestinus\, Joannes P.; Praenestinus\, Joann. P.; Praenestinus\, Joannes Petrus Aloysius; Prænestinus\, Ioan. Petraloysius; Prænestinus\, Ioannes Aloysius; Prænestinus\, Johannes Petrus Aloysius; Prenestino\, Giovanni Pierluigi da; Prenestino\, Giovanni Pietro Aloysio; Prenestinus\, Giovanni P.; Prenestinus\, Petrus Aloysius; Pierluigi\, Giovanni; Pierluigi da Palestrina\, Giovanni; Da Palestrina\, Giovanni Pierluigi; Da Palestrina\, Pierluigi; DaPalestrina\, Giovanni Pierluigi; Giannetto; Sante da Palestrina\, Pier Luigi\, Musikalische Exequien. Herr\, wenn ich nur dich habe	\nHerr\, wenn ich nur dich habe\nSWV 280\, Schütz\, Hinrich; Schütz\, Henricus; Schütz\, Heinrico; Schütz\, H.; Schütze\, Henrich; Schütze\, Heinrich; Schuetz\, Heinrich; Schutz\, Heinrich; Schuetz von Pfeilstadt\, Henri; Schüzzius\, Heinricus; Schüzze\, Heinrich; Schüz\, Heinrich; Schüz\, Henricus; Schützius\, Henricus; Schützen\, Heinrich; Schützen\, Henrich; Schütz\, Henrich; Schütz; Sagittarius\, Heinricus; Sagittario\, Henrico; Sagittarius\, Henricus; Sagittarius\, Heinricus\,; Sagitarius\, Henricus; Saettario\, Enrico; Šjutc\, Genrich\, \, \, \, Franck\, Guillaume; Franc\, Wilhelm\, Choralvorspiele\, op. 122. Schmücke dich\, o liebe Seele	\nSchmücke dich\, o liebe Seele\nop. 122\, Nr. 5\, Brahms; Brahms-Joachim\, Johannes; Brahms\, J.; Brahms\, Joh.; Brams\, Iogannes; Brahms\, Johs.; Brams\, I.; Marks\, G.W.\, Sinfonien\, Orgel\, Nr. 1-4\, op. 13. Nr. 4\nSinfonien\, Org op. 13\, 4\nAndante cantabile aus der 4. Orgelsymphonie\, Widor\, Ch. M.; Widor\, Charles M.; Widor\, Charles Maria; Widor\, Ch.-M.; Widor\, Charles Marie; Widor\, Charles-Marie-Jean-Albert; Widor\, …; Widor\, Charles-M.; Widor\, Charles Marie Jean Albert; Widor\, Charles\,
URL:https://noonsong.de/en/event/noonsong-event-2009-07-11/
LOCATION:Kirche Am Hohenzollernplatz Berlin\, Nassauische Strasse 66\, Berlin\, Berlin\, 10717\, Deutschland
CATEGORIES:20th century,21. Jahrhundert,Baroque,Berlin,Choir,Church service,Church,Concert,Liturgy,NoonSong,PDF,Renaissance,Romantik,Vowel
ATTACH;FMTTYPE=image/jpeg:https://noonsong.de/wp-content/uploads/2023/05/title-picture-for-noonsong-33.jpg
ORGANIZER;CN="NoonSong e.V.":MAILTO:contact@noonsong.de
END:VEVENT
END:VCALENDAR