BEGIN:VCALENDAR
VERSION:2.0
PRODID:-//NoonSong - ECPv6.15.20//NONSGML v1.0//EN
CALSCALE:GREGORIAN
METHOD:PUBLISH
X-WR-CALNAME:NoonSong
X-ORIGINAL-URL:https://noonsong.de/en/
X-WR-CALDESC:Events for NoonSong
REFRESH-INTERVAL;VALUE=DURATION:PT1H
X-Robots-Tag:noindex
X-PUBLISHED-TTL:PT1H
BEGIN:VTIMEZONE
TZID:Europe/Berlin
BEGIN:DAYLIGHT
TZOFFSETFROM:+0100
TZOFFSETTO:+0200
TZNAME:CEST
DTSTART:20080330T010000
END:DAYLIGHT
BEGIN:STANDARD
TZOFFSETFROM:+0200
TZOFFSETTO:+0100
TZNAME:CET
DTSTART:20081026T010000
END:STANDARD
BEGIN:DAYLIGHT
TZOFFSETFROM:+0100
TZOFFSETTO:+0200
TZNAME:CEST
DTSTART:20090329T010000
END:DAYLIGHT
BEGIN:STANDARD
TZOFFSETFROM:+0200
TZOFFSETTO:+0100
TZNAME:CET
DTSTART:20091025T010000
END:STANDARD
BEGIN:DAYLIGHT
TZOFFSETFROM:+0100
TZOFFSETTO:+0200
TZNAME:CEST
DTSTART:20100328T010000
END:DAYLIGHT
BEGIN:STANDARD
TZOFFSETFROM:+0200
TZOFFSETTO:+0100
TZNAME:CET
DTSTART:20101031T010000
END:STANDARD
END:VTIMEZONE
BEGIN:VEVENT
DTSTART;TZID=Europe/Berlin:20090905T120000
DTEND;TZID=Europe/Berlin:20090905T130000
DTSTAMP:20260419T141736
CREATED:20250707T193614Z
LAST-MODIFIED:20250707T193614Z
UID:41355-1252152000-1252155600@noonsong.de
SUMMARY:34. NoonSong am 05.09.2009 um 12:00
DESCRIPTION:Programme\n\n\n\n\nOrgan prelude: Jehan Alain (1911-1940): Le Jardin suspenduPreces: Bernard Rose (1916-1996): Preces & Responses für vierstimmig gemischten Chor a cappellaPsalm of the day: Psalm 49: Matthew Camidge (1764-1844): Anglican chant für vierstimmig gemischten Chor a cappellaPsalm of the week: Psalm 112: Jan Pieterszoon Sweelinck (1562-1621): O bienheureuse la personne für fünfstimmig gemischten Chor a cappellaResponsorium: gregorianisch\n\nHymn: Hans Leo Haßler (1564-1612): Ich ruf zu Dir\, Herr Jesu Christ für vierstimmig gemischten Chor a cappellaOrgan postlude: Eugène Gigout (1844-1925): Scherzo in E-Dur \n\n\n\n\n\n\n\n\nLiturgy: 13. Sonntag nach Trinitatis\nPfarrer: Christhard G. Neubert\nOrganistin: KMD Barbara Weber\nLocation: Kirche am Hohenzollernplatz\n\n\n\n\n\n\n\n\n\n\nProgramme PDF\n\n\n\n\nRead more about this NoonSong in the programme document. \n\n\n\n\n\n\n\n\n\n\n\n\nPDF DOWNLOAD\n\n\n\n\n\n\n\n\n\n\n\n\n\n\, Rose\, Bernard George Williams\, \, \, \, Sweeling\, Jan P.; Sweelinck\, Jan P.; Sweelink\, Jan P.; Sweelinck\, …; Sweeling\, Johan Peterssen; Swelingh\, Jean Pierre; Sweelinck\, Jan Peter; Sweling\, Johan P.; Sweling\, Johann P.; Sweling\, Johan Peterssen; Sweling\, Johann Peterssen; Swelingh\, D. J.; Sweelinck\, J. P.; Sweelinck\, Jan Pieterszon; Sweelinck\, Jan Pieterszn; Sweelinck\, Jan Pieters; Sweelinck\, Jan Pieter; Sweeling\, Jan Pieterszoon; Zwelinck\, Jan Pieterszoon; Sweelingh\, Jan Pieterszoon; Sweling\, Jan Pieterszoon; Swelingh\, Jan Pieterszoon; Swelinck\, Jan Pietersz.; Swelinck\, Jan Pieterszoon; Sweelinck\, Johann Peter\, \, Hassler\, Hans Leo; Hassler\, J. L.; Hasler\, Jean Leo; Hasler\, Hans Leo von; Hasler\, Giovan Leo; Hasler\, Ioannes Leo; Hasler\, L.; Hasler\, Hanns Leo; Hassler\, Hans L.; Hasler\, Hans L.; Hasler\, Joanne Leone; Hasler\, …; Hassler\, Johann Leo; Hasler\, Johann Leo; Hasler\, Hans Leo; Hasler\, Johannes Leo; Hasler\, J. L.; Haslerus\, Hans Leo; Hassler\, H. L.; Hassler\, Léo; Hassler\, Hans Leo; Haslero\, Joanne Leone\, \, Alain\, …; Alain\, Jehan Ariste; Alain\, Jehan-Ariste; Alain\, Jehan A.; Alain\, Jean-Ariste; Alain\, Jean Artiste\, Stücke\, Org (1892). Scherzo\, Gigout\, Eug.; Gigout\, E.\,
URL:https://noonsong.de/en/event/noonsong-event-2009-09-05/
LOCATION:Kirche Am Hohenzollernplatz Berlin\, Nassauische Strasse 66\, Berlin\, Berlin\, 10717\, Deutschland
CATEGORIES:20th century,Avantgarde,Berlin,Choir,Church service,Church,Concert,Liturgy,NoonSong,PDF,Renaissance,Romantik,Vowel
ATTACH;FMTTYPE=image/jpeg:https://noonsong.de/wp-content/uploads/2023/05/title-picture-for-noonsong-34.jpg
ORGANIZER;CN="NoonSong e.V.":MAILTO:contact@noonsong.de
END:VEVENT
END:VCALENDAR