BEGIN:VCALENDAR
VERSION:2.0
PRODID:-//NoonSong - ECPv6.15.20//NONSGML v1.0//EN
CALSCALE:GREGORIAN
METHOD:PUBLISH
X-WR-CALNAME:NoonSong
X-ORIGINAL-URL:https://noonsong.de/en/
X-WR-CALDESC:Events for NoonSong
REFRESH-INTERVAL;VALUE=DURATION:PT1H
X-Robots-Tag:noindex
X-PUBLISHED-TTL:PT1H
BEGIN:VTIMEZONE
TZID:Europe/Berlin
BEGIN:DAYLIGHT
TZOFFSETFROM:+0100
TZOFFSETTO:+0200
TZNAME:CEST
DTSTART:20110327T010000
END:DAYLIGHT
BEGIN:STANDARD
TZOFFSETFROM:+0200
TZOFFSETTO:+0100
TZNAME:CET
DTSTART:20111030T010000
END:STANDARD
BEGIN:DAYLIGHT
TZOFFSETFROM:+0100
TZOFFSETTO:+0200
TZNAME:CEST
DTSTART:20120325T010000
END:DAYLIGHT
BEGIN:STANDARD
TZOFFSETFROM:+0200
TZOFFSETTO:+0100
TZNAME:CET
DTSTART:20121028T010000
END:STANDARD
BEGIN:DAYLIGHT
TZOFFSETFROM:+0100
TZOFFSETTO:+0200
TZNAME:CEST
DTSTART:20130331T010000
END:DAYLIGHT
BEGIN:STANDARD
TZOFFSETFROM:+0200
TZOFFSETTO:+0100
TZNAME:CET
DTSTART:20131027T010000
END:STANDARD
END:VTIMEZONE
BEGIN:VEVENT
DTSTART;TZID=Europe/Berlin:20120602T120000
DTEND;TZID=Europe/Berlin:20120602T130000
DTSTAMP:20260419T171412
CREATED:20250707T194249Z
LAST-MODIFIED:20250707T194249Z
UID:41512-1338638400-1338642000@noonsong.de
SUMMARY:158. NoonSong am 02.06.2012 um 12:00
DESCRIPTION:Programme\n\n\n\n\nOrgan prelude: Olivier Messiaen (1908-1992): Majesté du Christ demandant sa gloire à son père\, aus: L' ascension (Die Himmelfahrt); 1. SatzPreces: William Byrd (ca. 1540-1623): Preces & Responses für fünfstimmig gemischten Chor a cappellaPsalm of the day: Psalm 77: Albert Becker (1834-1899): Ich gedenke der alten Zeit für achtstimmig gemischten Chor a cappellaPsalm of the week: Psalm 145a: John Amner (1579-1641): O God my King für vierstimmig gemischten Chor a cappellaResponsorium: gregorianisch\n\nCanticle: Melchior Franck (1579-1639): Meine Seele erhebt den Herren (Der Lobgesang Mariens) für vierstimmig gemischten Chor a cappellaHymn: Johannes Eccard (1553-1611): Komm\, Gott Schöpfer\, heiliger Geist für fünfstimmig gemischten Chor a cappellaOrgan postlude: Olivier Messiaen (1908-1992): Prière après la ​communion\, aus: Livre du Saint Sacrement (Nr. 16)Bible reading: Buch Jesaja 6\,1-13 \n\n\n\n\n\n\n\n\nLiturgy: Trinitatis\n\nOrganist: Rudolf Seidel\nLocation: Kirche am Hohenzollernplatz\n\n\n\n\n\n\n\n\n\nListen\n\n\n\n\nHere you can listen to this NoonSong. If you’d like to listen to more NoonSongs recordings\, please register. \n\n\n	This content has been restricted to logged-in users only. Please log in to view this content.\n\n\n\n\n\n\n\n\, \, \, Byrd\, …; Byrd\, W.; Byrd\, Guil.; Byrd of Virginia\, William; Berd\, V.; Byred\, William; Bird\, William; Byrde\, William\, Motetten\, op. 83. Antiphon und Psalm\nAntiphon und Psalm\nAntiphone und Psalm\nIch gedenke der alten Zeit\nGeistliche Gesänge\, op. 83. Antiphon und Psalm\, Becker\, Ernst Albert; Becker\, Albert Ernst Anton\, \, Amner\, Iohn\, Magnificat\nDer Lobgesang Mariens\nDas deutsche Magnificat: Meine Seele erhebt den Herren\, Francus\, Melchior; Frank\, Melchior; Franco\, Melchior; Francke\, Melchior; Franc\, Melchior; Franc\, M.\, \, Eccardus\, Johannes aus Mühlhausen; Eccard\, Johann; Eccard\, Johann.; Eccard\, J.; Eccard\, Johan; Eccardt\, Johannes; Eccardus\, Johannes; Eckard\, Johann\, L' ascension\, Orgel\nHimmelfahrt\nThe ascension\nMéditations symphoniques\, Messiaen\, …; Messiaen\, Olivier Eugène; Messiaën\, Olivier Eugène; Messian\, O.; Messian\, Olivʹe; Messian\, Olivier; Messiaen\, O.; Messiaen\, Olivier Eugène Prosper Charles; Messiaen\, Oliver\, Livre du saint sacrement. Prière après la communion\, Messiaen\, …; Messiaen\, Olivier Eugène; Messiaën\, Olivier Eugène; Messian\, O.; Messian\, Olivʹe; Messian\, Olivier; Messiaen\, O.; Messiaen\, Olivier Eugène Prosper Charles; Messiaen\, Oliver\,
URL:https://noonsong.de/en/event/noonsong-event-2012-06-02/
LOCATION:Kirche Am Hohenzollernplatz Berlin\, Nassauische Strasse 66\, Berlin\, Berlin\, 10717\, Deutschland
CATEGORIES:20th century,Audio,Avantgarde,Baroque,Berlin,Choir,Church service,Church,Concert,Liturgy,NoonSong,Renaissance,Romantik,Vowel
ATTACH;FMTTYPE=image/jpeg:https://noonsong.de/wp-content/uploads/2023/05/title-picture-for-noonsong-158.jpg
ORGANIZER;CN="NoonSong e.V.":MAILTO:contact@noonsong.de
END:VEVENT
END:VCALENDAR