BEGIN:VCALENDAR
VERSION:2.0
PRODID:-//NoonSong - ECPv6.15.20//NONSGML v1.0//EN
CALSCALE:GREGORIAN
METHOD:PUBLISH
X-WR-CALNAME:NoonSong
X-ORIGINAL-URL:https://noonsong.de/en/
X-WR-CALDESC:Events for NoonSong
REFRESH-INTERVAL;VALUE=DURATION:PT1H
X-Robots-Tag:noindex
X-PUBLISHED-TTL:PT1H
BEGIN:VTIMEZONE
TZID:Europe/Berlin
BEGIN:DAYLIGHT
TZOFFSETFROM:+0100
TZOFFSETTO:+0200
TZNAME:CEST
DTSTART:20110327T010000
END:DAYLIGHT
BEGIN:STANDARD
TZOFFSETFROM:+0200
TZOFFSETTO:+0100
TZNAME:CET
DTSTART:20111030T010000
END:STANDARD
BEGIN:DAYLIGHT
TZOFFSETFROM:+0100
TZOFFSETTO:+0200
TZNAME:CEST
DTSTART:20120325T010000
END:DAYLIGHT
BEGIN:STANDARD
TZOFFSETFROM:+0200
TZOFFSETTO:+0100
TZNAME:CET
DTSTART:20121028T010000
END:STANDARD
BEGIN:DAYLIGHT
TZOFFSETFROM:+0100
TZOFFSETTO:+0200
TZNAME:CEST
DTSTART:20130331T010000
END:DAYLIGHT
BEGIN:STANDARD
TZOFFSETFROM:+0200
TZOFFSETTO:+0100
TZNAME:CET
DTSTART:20131027T010000
END:STANDARD
END:VTIMEZONE
BEGIN:VEVENT
DTSTART;TZID=Europe/Berlin:20120804T120000
DTEND;TZID=Europe/Berlin:20120804T130000
DTSTAMP:20260422T184151
CREATED:20260418T020110Z
LAST-MODIFIED:20260418T020110Z
UID:42631-1344081600-1344085200@noonsong.de
SUMMARY:163. NoonSong am 04.08.2012 um 12:00
DESCRIPTION:Programme\n\n\n\n\nOrgan prelude: Théodore Salomé (1834-1896): Grand chœur in GPreces: John Bertalot (1931-2026): Preces & Responses für vierstimmig gemischten Chor a cappellaPsalm of the day: Psalm 85\,13: James MacMillan (*1959): Dominus dabit für sechsstimmig gemischten Chor a cappellaPsalm of the week: Psalm 40: Moritz Hauptmann (1792-1868): Herr\, Du wollest Deine Barmherzigkeit für vierstimmigen Chor und vier SolistenResponsorium: gregorianisch\n\nCanticle: Andrzej Koszewski (1922-2015): Magnificat für vierstimmig gemischten Chor a cappellaHymn: Johann Hermann Schein (1586-1630): Ich weiß\, mein Gott\, dass all mein Tun für vierstimmig gemischten Chor a cappellaOrgan postlude: Modest Petrowitsch Mussorgski (1839-1881): Die Hütte der Baba Yaga\, aus: Bilder einer AusstellungBible reading: Evangelium nach Matthäus 25\,14-30 \n\n\n\n\n\n\n\n\nLiturgy: 9. Sonntag nach Trinitatis\nPfarrer: Pater Hans-Georg Löffler\nOrganist: Mirlan Kasymaliev\nLocation: Kirche am Hohenzollernplatz\n\n\n\n\n\n\n\n\n\nListen\n\n\n\n\nHere you can listen to this NoonSong. If you’d like to listen to more NoonSongs recordings\, please register. \n\n\n	This content has been restricted to logged-in users only. Please log in to view this content.\n\n\n\n\n\n\n\n\n\nProgramme PDF\n\n\n\n\nRead more about this NoonSong in the programme document. \n\n\n\n\n\n\n\n\n\n\n\n\nPDF DOWNLOAD\n\n\n\n\n\n\n\n\n\n\n\n\n\n\, \, \, \, The Strathclyde motets\, MacMillan\, …; MacM.\, J.; McMillan\, James; Mac Millan\, James; MacMillan\, James Loy\, Geistliche Gesänge\, op. 33. Bittgesang\nBittgesang\nHerr\, du wollest deine Barmherzigkeit\, Hauptmann\, M.\, \, \, \, Schein\, Joh. Herm.; Schein\, Johan-Herman; Schein\, J. H.; Schein\, Johann H.; Schein\, Johann-Hermann; Scheinius\, Johann Hermannus; Schein\, Johan Herman; Schein\, Hermann; Schein\, Iohan-Hermanus; Schein\, Johan-Hermanus; Schein\, Johannes Hermann; Schein\, Johann Herman; Schein\, J.H.; Schein\, Joan-Herman\, \, Salomé\, T. C.; Salomé\, Thre.; Salomé\, T.; Salomé\, Théodore César; Salomé\, Théodor César; Salomé\, Théodore C.; Salomé\, Th.\, Kartinki s vystavki. Izbuška na kur'ich nožkach\nDie Hütte der Baba-Yaga\, Mussorgsky\, Modest Petrovich; Musorgskii\, M. P.; Musorgskij\, M.; Moessorgskie\, Modest Petrowietsj; Moussorgski\, …; Mussorgsky\, …; Mussorgskij\, …; Musorgskis\, Modests; Musorgsky\, M.; Musorhsḱyi\, Modest Petrovych; Mussorgski\, Modest P.; Moussorgsky\, M.; Mousorgski\, Modest Petrovitch; Mussorgskij\, Modeste P.; Mussorgsky\, M.; Musorgski\, …; Moussorgsky\, Modest; Musorgskij\, Modesto; Mussorgskij\, M.; Mussorgskij\, Modest P.; Mussorgsky\, M. P.; Mussorgsky\, Modest Petrovich; Mussorgsky\, Modest Petrowitsch; Moussorgskij\, Modest; Musorgskij\, Modest; Mussorgshij\, Modest; Mussorgskij\, M. P.; Mussorgsky\, Modest P.; Mussorgsky\, Modeste; Musorgsky\, Modeste P.; Mussorgski\, Modest; Moussorgski\, Modeste Petrovich; Moussorgsky\, Modest Petrovich; Mussorgskij\, Modest Petrowitsch; Moussorgsky\, Modeste Petrovich; Musorgskij\, Modest P.; Mussorgskij\, Modest; Mussorgsky\, Modest; Moussorgsky\, Modeste; Mussorgsky\, Modeste Petrowitsch; Moussorgsky\, Modeste Pétrovitch; Musorgsky\, Modest Petrovich; Musorgskiĭ\, Modest Petrovich; Moessirgskie\, Modest Petrowietsj; Musorgskij\, Modest Petrovič; Musorgskii\, M.P.; Musorhsʹkyi\, Modest Petrovych; Musorgsky\, Modeste; Mussorgski\, Modest Petrowitsch; Moussorgski\, Modeste Pétrovitch\,
URL:https://noonsong.de/en/event/noonsong-event-2012-08-04/
LOCATION:Kirche Am Hohenzollernplatz Berlin\, Nassauische Strasse 66\, Berlin\, Berlin\, 10717\, Deutschland
CATEGORIES:20th century,21. Jahrhundert,Audio,Baroque,Berlin,Choir,Church service,Church,Concert,Liturgy,NoonSong,PDF,Romantik,Vowel
ATTACH;FMTTYPE=image/jpeg:https://noonsong.de/wp-content/uploads/2023/05/title-picture-for-noonsong-163.jpg
ORGANIZER;CN="NoonSong e.V.":MAILTO:contact@noonsong.de
END:VEVENT
END:VCALENDAR