BEGIN:VCALENDAR
VERSION:2.0
PRODID:-//NoonSong - ECPv6.15.20//NONSGML v1.0//EN
CALSCALE:GREGORIAN
METHOD:PUBLISH
X-WR-CALNAME:NoonSong
X-ORIGINAL-URL:https://noonsong.de/en/
X-WR-CALDESC:Events for NoonSong
REFRESH-INTERVAL;VALUE=DURATION:PT1H
X-Robots-Tag:noindex
X-PUBLISHED-TTL:PT1H
BEGIN:VTIMEZONE
TZID:Europe/Berlin
BEGIN:DAYLIGHT
TZOFFSETFROM:+0100
TZOFFSETTO:+0200
TZNAME:CEST
DTSTART:20110327T010000
END:DAYLIGHT
BEGIN:STANDARD
TZOFFSETFROM:+0200
TZOFFSETTO:+0100
TZNAME:CET
DTSTART:20111030T010000
END:STANDARD
BEGIN:DAYLIGHT
TZOFFSETFROM:+0100
TZOFFSETTO:+0200
TZNAME:CEST
DTSTART:20120325T010000
END:DAYLIGHT
BEGIN:STANDARD
TZOFFSETFROM:+0200
TZOFFSETTO:+0100
TZNAME:CET
DTSTART:20121028T010000
END:STANDARD
BEGIN:DAYLIGHT
TZOFFSETFROM:+0100
TZOFFSETTO:+0200
TZNAME:CEST
DTSTART:20130331T010000
END:DAYLIGHT
BEGIN:STANDARD
TZOFFSETFROM:+0200
TZOFFSETTO:+0100
TZNAME:CET
DTSTART:20131027T010000
END:STANDARD
END:VTIMEZONE
BEGIN:VEVENT
DTSTART;TZID=Europe/Berlin:20121027T120000
DTEND;TZID=Europe/Berlin:20121027T130000
DTSTAMP:20260424T185043
CREATED:20250707T194310Z
LAST-MODIFIED:20250707T194310Z
UID:41333-1351339200-1351342800@noonsong.de
SUMMARY:175. NoonSong am 27.10.2012 um 12:00
DESCRIPTION:Programme\n\n\n\n\nOrgan prelude: Antonio de Cabezón (1510-1566): Diferencias sobre la Gallarda MilanesaPreces: Frank Schwemmer (*1961): Preces und Responses für vierstimmig gemischten Chor a cappelaPsalm of the day: Psalm 40a: Orlando di Lasso (ca. 1532-1594): Expectans expectavi für vierstimmig gemischten Chor a cappellaPsalm of the week: Psalm 37C: Anton Bruckner (1824-1896): Os justi für achtstimmig gemischten Chor a cappellaResponsorium: gregorianisch\n\nCanticle: Siegfried Strohbach (1929-2019): Magnificat für vierstimmig gemischten Chor a cappellaHymn: Michael Praetorius (1571-1621): Ach Gott\, vom Himmel sieh darein für vierstimmig gemischten Chor a cappellaOrgan postlude: Jaak Nikolaas Lemmens (1823-1881): Fanfare D-DurBible reading: Evangelium nach Matthäus 5\,38-48 \n\n\n\n\n\n\n\n\nLiturgy: 21. Sonntag nach Trinitatis\nPfarrerin: Anna Kim-Chi Nguyen-Huu\nOrganist: Mirlan Kasymaliev\nLocation: Kirche am Hohenzollernplatz\n\n\n\n\n\n\n\n\n\, \, \, \, Sacrae cantiones (1585). Expectans expectavi Dominum\nExpectans expectavi Dominum\nExpectans expectaui Dominum\, Lasso\, Orlando di; Lasso\, Orlando de; Lassus\, Rolando di; DiLasso\, Orlando; Lassus\, Orlandus di; Lassus\, Orlando di; Lassus\, Orlande de; Lassus\, Rolando de; Lasso\, Orlandi di; Lassus\, Rolland de; Lassus\, Orlando de; Orlando\, Di Lasso; Lassvs\, Orlando de; Di Lasso\, Orlando; Lassus\, Orlandus; Orlande De Lassus; Lassus\, Roland de; De Lassus\, Orlandus; De Lassus\, Roland; Lassus\, Orlandus de; Lassus\, Orland de; De Lassus\, Orland\, Os justi meditabitur\nOs justi meditabitur sapientiam\nOs iusti\nWAB 30\, Bruckner\, A.; Brukner\, Anton; Bruckner\, …; Bruckner\, Joseph Anton; Bruckner\, Josef Anton; Burukkunā\, Anton\, \, \, \, Praetorius\, M.; Praetorius; Praetorij\, Michaëlis; Prätorius\, Michael; Prätorius\, Mich.; Schultheiß\, Michael; Schultheiss\, Michael\, Diferencias\, Cabezón\, Antonius A.; Cabezón\, Felix-Antoine de; Cabeçon\, Antonio de; Cabezón\, Antonius de; Cabezon\, Antonius a; De Cabezón\, Antonio\, Ecole d'orgue basée sur le plain-chant romain. Fanfare\nFanfare\nEcole d'orgue basée sur le plain-chant romain <Fanfare>\, Lemmens\, Jacques-Nicolas; Lemmens\, J.-N.; Lemmens\, Nicolas J.; Lemmens\, N. J.; Lemmens\, Jacques Nicolas; Lemmens\, Jaak-Nikolaas; Lemmens\, Jacques-Nicholas; Lemmens\, Jacques; Lemmens\, Nicolas Jacques; Lemmens\, Nikolaas Jaak; Lemmens\, Nicolas Jacob\,
URL:https://noonsong.de/en/event/noonsong-event-2012-10-27/
LOCATION:Kirche Am Hohenzollernplatz Berlin\, Nassauische Strasse 66\, Berlin\, Berlin\, 10717\, Deutschland
CATEGORIES:20th century,21. Jahrhundert,Baroque,Berlin,Choir,Church service,Church,Concert,Liturgy,NoonSong,Renaissance,Romantik,Vowel
ATTACH;FMTTYPE=image/jpeg:https://noonsong.de/wp-content/uploads/2023/05/title-picture-for-noonsong-175.jpg
ORGANIZER;CN="NoonSong e.V.":MAILTO:contact@noonsong.de
END:VEVENT
END:VCALENDAR