BEGIN:VCALENDAR
VERSION:2.0
PRODID:-//NoonSong - ECPv6.15.20//NONSGML v1.0//EN
CALSCALE:GREGORIAN
METHOD:PUBLISH
X-WR-CALNAME:NoonSong
X-ORIGINAL-URL:https://noonsong.de/en/
X-WR-CALDESC:Events for NoonSong
REFRESH-INTERVAL;VALUE=DURATION:PT1H
X-Robots-Tag:noindex
X-PUBLISHED-TTL:PT1H
BEGIN:VTIMEZONE
TZID:Europe/Berlin
BEGIN:DAYLIGHT
TZOFFSETFROM:+0100
TZOFFSETTO:+0200
TZNAME:CEST
DTSTART:20120325T010000
END:DAYLIGHT
BEGIN:STANDARD
TZOFFSETFROM:+0200
TZOFFSETTO:+0100
TZNAME:CET
DTSTART:20121028T010000
END:STANDARD
BEGIN:DAYLIGHT
TZOFFSETFROM:+0100
TZOFFSETTO:+0200
TZNAME:CEST
DTSTART:20130331T010000
END:DAYLIGHT
BEGIN:STANDARD
TZOFFSETFROM:+0200
TZOFFSETTO:+0100
TZNAME:CET
DTSTART:20131027T010000
END:STANDARD
BEGIN:DAYLIGHT
TZOFFSETFROM:+0100
TZOFFSETTO:+0200
TZNAME:CEST
DTSTART:20140330T010000
END:DAYLIGHT
BEGIN:STANDARD
TZOFFSETFROM:+0200
TZOFFSETTO:+0100
TZNAME:CET
DTSTART:20141026T010000
END:STANDARD
END:VTIMEZONE
BEGIN:VEVENT
DTSTART;TZID=Europe/Berlin:20130323T120000
DTEND;TZID=Europe/Berlin:20130323T130000
DTSTAMP:20260424T082535
CREATED:20250707T194417Z
LAST-MODIFIED:20250707T194417Z
UID:41776-1364040000-1364043600@noonsong.de
SUMMARY:194. NoonSong am 23.03.2013 um 12:00
DESCRIPTION:Programme\n\n\n\n\nOrgan prelude: Samuel Scheidt (1587-1654): Da Jesus an dem Kreuze stundPreces: Duncan Faulkner (*1951): Preces & Responses für vierstimmig gemischten Chor a cappellaResponsorium: gregorianisch\n\nHymn: Johann Sebastian Bach (1685-1750): Du großer Schmerzensmann für vierstimmig gemischten Chor a cappellaOrgan postlude: Jan Pieterszoon Sweelinck (1562-1621): O Mensch bewein Dein Sünde großChristoph Demantius (1567-1643): Passion nach dem Evangelisten Johannes für sechsstimmig gemischten Chor a cappella \n\n\n\n\n\n\n\n\nLiturgy: Palmarum\nPfarrerin: Claudia Wüstenhagen\nOrganist: Peter Uehling\nLocation: Kirche am Hohenzollernplatz\n\n\n\n\n\n\n\n\n\n\nProgramme PDF\n\n\n\n\nRead more about this NoonSong in the programme document. \n\n\n\n\n\n\n\n\n\n\n\n\nPDF DOWNLOAD\n\n\n\n\n\n\n\n\n\n\n\n\n\n\, \, \, Bach; Bach\, G. S.; Bach\, Iogann Sebastʹjan; Bach\, Joh. Sebastian; Bach\, Giov. Sebast.; Bach\, Jean Sebastien; Bach\, Jean Sebastian; Bach\, J. Seb.; Bach\, Sebastiano; Bach\, John Sebastian; Bach\, Iogann S.; Bach\, Iogann Sebast'jan; Bach\, Iogann Sebastian; Bach\, Giovanni Sebastian; Bach\, Johan Sebastian; Bach\, Joannes Sebastianus; Bach\, Giov. Seb.; Bach\, Giovanni S.; Bāḵ\, Jōhān Sebaṣtī'ān; Bach\, I. S.; Bach\, J.-S.; Bach\, Giovanni Sebastiano; Bach\, Jean-Sebastien; Bach\, Sebastian; Bach\, Jan Sebastian; Bach\, J. S.; Bach\, Johann-Sebastian; Bach\, Jean S.; Bach\, Johannes S.; Bach\, Johannes Sebastian; Bach\, Joh. Seb.; Bach\, Joh.-Seb.; Bach\, Joh. Sebas.; Bach\, Johann Seb.; Bach\, Joh. Sebast.; Bach\, Johann S.; Bach\, Iogann Sebastjan; Bach\, Jean Sébastien; Bach\, Jean-Sébastien; Bach\, Johann; Bakh\, Iogann Sebastian\, Tabulatura nova\, pars 1. Da Jesus an dem Kreuze stund\nDa Jesus an dem Kreuze stund\, SSWV 113\nTabulatura nova\, pars 1. Psalm\nSSWV 113\, Scheidt\, …; Scheidt\, Sam; Scheit\, Samuel; Scheidt\, S.; Scheidt\, Sam.\, Choralpartita "O Mensch\, bewein' dein Sünde groß"\nChoralpartiten\nO Mensch\, bewein' dein Sünde groß\, Sweeling\, Jan P.; Sweelinck\, Jan P.; Sweelink\, Jan P.; Sweelinck\, …; Sweeling\, Johan Peterssen; Swelingh\, Jean Pierre; Sweelinck\, Jan Peter; Sweling\, Johan P.; Sweling\, Johann P.; Sweling\, Johan Peterssen; Sweling\, Johann Peterssen; Swelingh\, D. J.; Sweelinck\, J. P.; Sweelinck\, Jan Pieterszon; Sweelinck\, Jan Pieterszn; Sweelinck\, Jan Pieters; Sweelinck\, Jan Pieter; Sweeling\, Jan Pieterszoon; Zwelinck\, Jan Pieterszoon; Sweelingh\, Jan Pieterszoon; Sweling\, Jan Pieterszoon; Swelingh\, Jan Pieterszoon; Swelinck\, Jan Pietersz.; Swelinck\, Jan Pieterszoon; Sweelinck\, Johann Peter\, Deutsche Passion nach dem Evangelisten Sankte Johanne\nDeutsche Johannes-Passion\nDeutsche Passion Nach dem Evangelisten S.Iohanne. Benebenst der Geistreichen Weissagung des vnschuldigen Leidens und Sterbens Iesu Christi\, aus dem 53. Capitel des Propheten Esaie\nPassion nach dem Evangelisten Johannes\nHöret das Leiden\, Demantius\, Johann Christoph; Demandt\, Christoph; Demant\, Christoph; Demuth\, Johann Christoph; Demantius\, Christoph Johannes; Demant\, Christoff; Demand\, Christoph; Demantius\, Johannes Christoph ((VD-16); RISM; Diz.mus.); Demant\, Johann Christoph; Demant\, Johannes; Demantius\, Christopherus; Demantius\, Johann C.; Dematius\, Johann Christoph; Demantius\, Christophorus; Demantius\, Christof\,
URL:https://noonsong.de/en/event/noonsong-event-2013-03-23/
LOCATION:Kirche Am Hohenzollernplatz Berlin\, Nassauische Strasse 66\, Berlin\, Berlin\, 10717\, Deutschland
CATEGORIES:20th century,Baroque,Berlin,Choir,Church service,Church,Concert,Liturgy,NoonSong,PDF,Renaissance,Vowel
ATTACH;FMTTYPE=image/jpeg:https://noonsong.de/wp-content/uploads/2023/08/title-picture-for-noonsong-194.jpg
ORGANIZER;CN="NoonSong e.V.":MAILTO:contact@noonsong.de
END:VEVENT
END:VCALENDAR