BEGIN:VCALENDAR
VERSION:2.0
PRODID:-//NoonSong - ECPv6.15.20//NONSGML v1.0//EN
CALSCALE:GREGORIAN
METHOD:PUBLISH
X-WR-CALNAME:NoonSong
X-ORIGINAL-URL:https://noonsong.de/en/
X-WR-CALDESC:Events for NoonSong
REFRESH-INTERVAL;VALUE=DURATION:PT1H
X-Robots-Tag:noindex
X-PUBLISHED-TTL:PT1H
BEGIN:VTIMEZONE
TZID:Europe/Berlin
BEGIN:DAYLIGHT
TZOFFSETFROM:+0100
TZOFFSETTO:+0200
TZNAME:CEST
DTSTART:20130331T010000
END:DAYLIGHT
BEGIN:STANDARD
TZOFFSETFROM:+0200
TZOFFSETTO:+0100
TZNAME:CET
DTSTART:20131027T010000
END:STANDARD
BEGIN:DAYLIGHT
TZOFFSETFROM:+0100
TZOFFSETTO:+0200
TZNAME:CEST
DTSTART:20140330T010000
END:DAYLIGHT
BEGIN:STANDARD
TZOFFSETFROM:+0200
TZOFFSETTO:+0100
TZNAME:CET
DTSTART:20141026T010000
END:STANDARD
BEGIN:DAYLIGHT
TZOFFSETFROM:+0100
TZOFFSETTO:+0200
TZNAME:CEST
DTSTART:20150329T010000
END:DAYLIGHT
BEGIN:STANDARD
TZOFFSETFROM:+0200
TZOFFSETTO:+0100
TZNAME:CET
DTSTART:20151025T010000
END:STANDARD
END:VTIMEZONE
BEGIN:VEVENT
DTSTART;TZID=Europe/Berlin:20140531T120000
DTEND;TZID=Europe/Berlin:20140531T130000
DTSTAMP:20260419T141833
CREATED:20250707T194025Z
LAST-MODIFIED:20250707T194025Z
UID:41653-1401537600-1401541200@noonsong.de
SUMMARY:247. NoonSong am 31.05.2014 um 12:00
DESCRIPTION:Programme\n\n\n\n\nOrgan prelude: Louis Lewandowski (1821-1894): Präludium in D (op.37)Preces: Simon Berg (*1973): Preces und Responses für vierstimmig gemischten Chor a cappellaPsalm of the day: Psalm 29: Edward Elgar (1857-1937): Give unto the Lord für vierstimmigen Chor und OrgelPsalm of the week: Psalm 27a: Heinrich Hartmann (ca. 1580-1616): Eins bitt ich vom Herrn für fünfstimmigen Chor a cappellaResponsorium: gregorianisch\n\nCanticle: George Dyson (1883-1964): Magnificat für einstimmigen Chor und OrgelHymn: Stefan Schuck (*1963): Heilger Geist\, du Tröster mein für vierstimmig gemischten Chor a cappellaOrgan postlude: Edward Elgar (1857-1937): Cantique (op.3)Bible reading: Buch Jeremia 31\,31-34 \n\n\n\n\n\n\n\n\nLiturgy: Exaudi\nPfarrer: Alexander Brodt-Zabka\nOrganist: Mirlan Kasymaliev\nLocation: Kirche am Hohenzollernplatz\n\n\n\n\n\n\n\n\n\nListen\n\n\n\n\nHere you can listen to this NoonSong. If you’d like to listen to more NoonSongs recordings\, please register. \n\n\n	This content has been restricted to logged-in users only. Please log in to view this content.\n\n\n\n\n\n\n\n\n\nProgramme PDF\n\n\n\n\nRead more about this NoonSong in the programme document. \n\n\n\n\n\n\n\n\n\n\n\n\nPDF DOWNLOAD\n\n\n\n\n\n\n\n\n\n\n\n\n\n\, \, \, \, \, Elgar\, Sir Edward; Francke\, Gustav; Elgar\, E.; Elgar\, …; Elgar\, Edward W.; Elgar\, Edward William; Elgar\, Edgar William\, \, Hartmannus\, Heinricus; Hartmannus\, Henricus; Hartmann\, Heinricus; Hartmann\, Henricus\, \, \, \, \, Fest-Präludien\nop. 37\, Lewandowsky\, Louis; Lewandowski\, Louis L.; Lewandowski\, Lazarus; Lewandowski\, Lazarus Louis; Lewandowski\, Eliezer; Lewandowski\, Louis Eliezer\, \, Elgar\, Sir Edward; Francke\, Gustav; Elgar\, E.; Elgar\, …; Elgar\, Edward W.; Elgar\, Edward William; Elgar\, Edgar William\,
URL:https://noonsong.de/en/event/noonsong-event-2014-05-31/
LOCATION:Kirche Am Hohenzollernplatz Berlin\, Nassauische Strasse 66\, Berlin\, Berlin\, 10717\, Deutschland
CATEGORIES:20th century,21. Jahrhundert,Audio,Baroque,Berlin,Choir,Church service,Church,Concert,Liturgy,NoonSong,PDF,Romantik,Vowel
ATTACH;FMTTYPE=image/jpeg:https://noonsong.de/wp-content/uploads/2023/05/title-picture-for-noonsong-247.jpg
ORGANIZER;CN="NoonSong e.V.":MAILTO:contact@noonsong.de
END:VEVENT
END:VCALENDAR