BEGIN:VCALENDAR
VERSION:2.0
PRODID:-//NoonSong - ECPv6.15.20//NONSGML v1.0//EN
CALSCALE:GREGORIAN
METHOD:PUBLISH
X-WR-CALNAME:NoonSong
X-ORIGINAL-URL:https://noonsong.de/en/
X-WR-CALDESC:Events for NoonSong
REFRESH-INTERVAL;VALUE=DURATION:PT1H
X-Robots-Tag:noindex
X-PUBLISHED-TTL:PT1H
BEGIN:VTIMEZONE
TZID:Europe/Berlin
BEGIN:DAYLIGHT
TZOFFSETFROM:+0100
TZOFFSETTO:+0200
TZNAME:CEST
DTSTART:20140330T010000
END:DAYLIGHT
BEGIN:STANDARD
TZOFFSETFROM:+0200
TZOFFSETTO:+0100
TZNAME:CET
DTSTART:20141026T010000
END:STANDARD
BEGIN:DAYLIGHT
TZOFFSETFROM:+0100
TZOFFSETTO:+0200
TZNAME:CEST
DTSTART:20150329T010000
END:DAYLIGHT
BEGIN:STANDARD
TZOFFSETFROM:+0200
TZOFFSETTO:+0100
TZNAME:CET
DTSTART:20151025T010000
END:STANDARD
BEGIN:DAYLIGHT
TZOFFSETFROM:+0100
TZOFFSETTO:+0200
TZNAME:CEST
DTSTART:20160327T010000
END:DAYLIGHT
BEGIN:STANDARD
TZOFFSETFROM:+0200
TZOFFSETTO:+0100
TZNAME:CET
DTSTART:20161030T010000
END:STANDARD
END:VTIMEZONE
BEGIN:VEVENT
DTSTART;TZID=Europe/Berlin:20150110T120000
DTEND;TZID=Europe/Berlin:20150110T130000
DTSTAMP:20260419T145918
CREATED:20260418T020050Z
LAST-MODIFIED:20260418T020050Z
UID:41503-1420891200-1420894800@noonsong.de
SUMMARY:272. NoonSong am 10.01.2015 um 12:00
DESCRIPTION:Programme\n\n\n\n\nOrgan prelude: Alexandre Guilmant (1837-1911): Grand choeur dans la tonalité grégorienne\, d-Moll (op. 52\,2)Preces: John Bertalot (1931-2026): Preces & Responses für vierstimmig gemischten Chor a cappellaPsalm of the day: Psalm 100: Felix Mendelssohn Bartholdy (1809-1847): Jauchzet dem Herrn\, alle Welt für vier- bis achtstimmig gemischten Chor a cappellaPsalm of the week: Psalm 89: Josef Gabriel Rheinberger (1839-1901): Hymne op. 69\,2 für fünfstimmig gemischten Chor a cappellaResponsorium: gregorianisch\n\nCanticle: Reimar Johne (*1969): Verbum caro factum est für achtstimmigen Chor a cappellaHymn: Max Reger (1873-1916): Morgengesang: Du höchstes Licht\, ewiger Schein (op. 138) für sechsstimmig gemischten Chor a cappellaOrgan postlude: Everett E. Truette (1861-1933): InterludeBible reading: Evangelium nach Markus 1\,1-8 \n\n\n\n\n\n\n\n\nLiturgy: 1. Sonntag nach Epiphanias\nPfarrerin: Barbara Deml\nOrganist: Mirlan Kasymaliev\nLocation: Kirche am Hohenzollernplatz\n\n\n\n\n\n\n\n\n\nListen\n\n\n\n\nHere you can listen to this NoonSong. If you’d like to listen to more NoonSongs recordings\, please register. \n\n\n	This content has been restricted to logged-in users only. Please log in to view this content.\n\n\n\n\n\n\n\n\n\nProgramme PDF\n\n\n\n\nRead more about this NoonSong in the programme document. \n\n\n\n\n\n\n\n\n\n\n\n\nPDF DOWNLOAD\n\n\n\n\n\n\n\n\n\n\n\n\n\n\, \, \, \, Psalm 100\, MWV B 45\nJauchzet dem Herrn\, alle Welt\nDer 100. Psalm\, Mendelssohn-Bartholdy\, Felix; Mendelssohn-Bartholdi\, Felix; Mendelssohn Bartholdi; Mendelssohn-Bartholdy\, Felix; Mendelssohn B.\, Felix; Mendelssohn Bartholdy\, Jakob Ludwig Felix; Mendelssohn-Bartholdy\, Jakob Ludwig Felix; Mendelssohn-Bartholdy\, Jacob Ludwig Felix; Mendelssohn Bartholdy\, Felix Jakob; Mendelssohn\, Jakob Ludwig Felix; Mendelssohn Bartholdy\, F.; Mendelssohn Bartholdy; Mendelssohn-Bartholdy; Mendelssohn; F.; Mendelson-Bartoldi\, Feliks; Mendelʹson-Bartolʹdi\, Feliks; Mendelsson-Bartholdy\, Felix; Mendelsohn-Bartholdy\, Felix; Bartholdy\, Felix Mendelssohn; Mendelssohn\, Felix; Mendelssohn\, F.; Mendelssohn-Bartholdy\, F.; Mendelssohn Batholdy\, Felix; Mendel'son\, Feliks; Mendel'son\, F.\, Geistliche Gesänge\, op. 69. Dein sind die Himmel\nGeistliche Gesänge\, op. 69 (Dein sind die Himmel)\nGeistliche Gesänge op. 69. Dein sind die Himmel\nDein sind die Himmel \nTui sunt coeli\nop. 69\,2\, Rheinberger\, Josef\, 1839-1901; Rheinberger\, …; Rheinberger\, Gabriel; Rheinberger\, Josef von; Rheinberger\, Giuseppe; Rheinberger\, Gabriel J.; Rheinberger\, Joseph Gabriel von; Rheinberger\, J.; Rheinberger\, J. G.; Rheinberger\, Josef G.; Rheinberger\, Jos.; Rheinberger\, Josef Gabriel; Rheinberger\, Gabriel Joseph; Rheinberger\, Gabriel Josef; Rheinberger\, Joseph von; Rheinberger\, Joseph Gabriel; Rheinberger\, Joseph G.; Rheinberger\, Josef\, \, \, Geistliche Gesänge\, op. 138. Morgengesang\nGeistliche Gesänge op. 138\, Nr. 2\nMorgengesang\nDu höchstes Licht\, ewiger Schein\, Reger\, Max; Reger\, Johann Baptist Joseph Maximilian; Reger\, M.; Reger\, …; Reger\, Maks; Rēgers\, M.\, \, Guilmant\, F. Alexandre; Guilmant\, …; Guilmant\, Félix A.; Guilmant\, Alexander; Guilmant\, Félix Alexandre; Guilmant\, Félix-Alexandre; Guilmant\, F. A.\, \, Truette\, Everett; Truette\, Everett Ellsworth; Ellsworth Truette\, Everett\,
URL:https://noonsong.de/en/event/noonsong-event-2015-01-10/
LOCATION:Kirche Am Hohenzollernplatz Berlin\, Nassauische Strasse 66\, Berlin\, Berlin\, 10717\, Deutschland
CATEGORIES:20th century,Audio,Berlin,Choir,Church service,Church,Concert,Liturgy,NoonSong,PDF,Romantik,Vowel
ATTACH;FMTTYPE=image/jpeg:https://noonsong.de/wp-content/uploads/2023/05/title-picture-for-noonsong-272.jpg
ORGANIZER;CN="NoonSong e.V.":MAILTO:contact@noonsong.de
END:VEVENT
END:VCALENDAR