BEGIN:VCALENDAR
VERSION:2.0
PRODID:-//NoonSong - ECPv6.15.20//NONSGML v1.0//EN
CALSCALE:GREGORIAN
METHOD:PUBLISH
X-WR-CALNAME:NoonSong
X-ORIGINAL-URL:https://noonsong.de/en/
X-WR-CALDESC:Events for NoonSong
REFRESH-INTERVAL;VALUE=DURATION:PT1H
X-Robots-Tag:noindex
X-PUBLISHED-TTL:PT1H
BEGIN:VTIMEZONE
TZID:Europe/Berlin
BEGIN:DAYLIGHT
TZOFFSETFROM:+0100
TZOFFSETTO:+0200
TZNAME:CEST
DTSTART:20140330T010000
END:DAYLIGHT
BEGIN:STANDARD
TZOFFSETFROM:+0200
TZOFFSETTO:+0100
TZNAME:CET
DTSTART:20141026T010000
END:STANDARD
BEGIN:DAYLIGHT
TZOFFSETFROM:+0100
TZOFFSETTO:+0200
TZNAME:CEST
DTSTART:20150329T010000
END:DAYLIGHT
BEGIN:STANDARD
TZOFFSETFROM:+0200
TZOFFSETTO:+0100
TZNAME:CET
DTSTART:20151025T010000
END:STANDARD
BEGIN:DAYLIGHT
TZOFFSETFROM:+0100
TZOFFSETTO:+0200
TZNAME:CEST
DTSTART:20160327T010000
END:DAYLIGHT
BEGIN:STANDARD
TZOFFSETFROM:+0200
TZOFFSETTO:+0100
TZNAME:CET
DTSTART:20161030T010000
END:STANDARD
END:VTIMEZONE
BEGIN:VEVENT
DTSTART;TZID=Europe/Berlin:20151003T120000
DTEND;TZID=Europe/Berlin:20151003T130000
DTSTAMP:20260419T153918
CREATED:20250707T193558Z
LAST-MODIFIED:20250707T193558Z
UID:41139-1443873600-1443877200@noonsong.de
SUMMARY:303. NoonSong am 03.10.2015 um 12:00
DESCRIPTION:Programme\n\n\n\n\nOrgan prelude: Jehan Alain (1911-1940): Choral aus der Suite für OrgelPreces: John Tavener (1944-2013): Preces & Responses für achtstimmig gemischten Chor a cappellaPsalm of the day: Psalm 49: Matthew Camidge (1764-1844): Anglican chant für vierstimmig gemischten Chor a cappellaPsalm of the week: Psalm 19b: Ernest Bloch (1880-1959): Yih‘yu L‘ratzon für vierstimmig gemischten ChorResponsorium: gregorianisch\n\nCanticle: John Taverner (1490-1545): Magnificat für fünfstimmig gemischten Chor a cappellaHymn: Johann Crüger (1598-1662): In Gottes Namen fang ich an für vierstimmig gemischten Chor a cappellaOrgan postlude: Jehan Alain (1911-1940): Deux danses à Agni YavishtaBible reading: Brief an die Galather 5\,13-18 \n\n\n\n\n\n\n\n\nLiturgy: 18. Sonntag nach Trinitatis\nPfarrerin: Anna Kim-Chi Nguyen-Huu\nOrganist: Rudolf Seidel\nLocation: Kirche am Hohenzollernplatz\n\n\n\n\n\n\n\n\n\nListen\n\n\n\n\nHere you can listen to this NoonSong. If you’d like to listen to more NoonSongs recordings\, please register. \n\n\n	This content has been restricted to logged-in users only. Please log in to view this content.\n\n\n\n\n\n\n\n\n\nProgramme PDF\n\n\n\n\nRead more about this NoonSong in the programme document. \n\n\n\n\n\n\n\n\n\n\n\n\nPDF DOWNLOAD\n\n\n\n\n\n\n\n\n\n\n\n\n\n\, \, \, Tavener\, Sir John; Tavener\, John Kenneth\, \, \, \, Bloch\, Ernst\, \, \, \, Crüger\, Johann; Crüger\, Johannes; Crüger\, J.; Crügerus\, Johannes; Krüger\, Johann; Krüger\, Johannes\, \, Alain\, …; Alain\, Jehan Ariste; Alain\, Jehan-Ariste; Alain\, Jehan A.; Alain\, Jean-Ariste; Alain\, Jean Artiste\, \, Alain\, …; Alain\, Jehan Ariste; Alain\, Jehan-Ariste; Alain\, Jehan A.; Alain\, Jean-Ariste; Alain\, Jean Artiste\,
URL:https://noonsong.de/en/event/noonsong-event-2015-10-03/
LOCATION:Kirche Am Hohenzollernplatz Berlin\, Nassauische Strasse 66\, Berlin\, Berlin\, 10717\, Deutschland
CATEGORIES:20th century,21. Jahrhundert,Audio,Avantgarde,Baroque,Berlin,Choir,Church service,Church,Concert,Liturgy,NoonSong,PDF,Renaissance,Romantik,Vowel
ATTACH;FMTTYPE=image/jpeg:https://noonsong.de/wp-content/uploads/2023/05/title-picture-for-noonsong-303.jpg
ORGANIZER;CN="NoonSong e.V.":MAILTO:contact@noonsong.de
END:VEVENT
END:VCALENDAR