BEGIN:VCALENDAR
VERSION:2.0
PRODID:-//NoonSong - ECPv6.15.20//NONSGML v1.0//EN
CALSCALE:GREGORIAN
METHOD:PUBLISH
X-WR-CALNAME:NoonSong
X-ORIGINAL-URL:https://noonsong.de/en/
X-WR-CALDESC:Events for NoonSong
REFRESH-INTERVAL;VALUE=DURATION:PT1H
X-Robots-Tag:noindex
X-PUBLISHED-TTL:PT1H
BEGIN:VTIMEZONE
TZID:Europe/Berlin
BEGIN:DAYLIGHT
TZOFFSETFROM:+0100
TZOFFSETTO:+0200
TZNAME:CEST
DTSTART:20160327T010000
END:DAYLIGHT
BEGIN:STANDARD
TZOFFSETFROM:+0200
TZOFFSETTO:+0100
TZNAME:CET
DTSTART:20161030T010000
END:STANDARD
BEGIN:DAYLIGHT
TZOFFSETFROM:+0100
TZOFFSETTO:+0200
TZNAME:CEST
DTSTART:20170326T010000
END:DAYLIGHT
BEGIN:STANDARD
TZOFFSETFROM:+0200
TZOFFSETTO:+0100
TZNAME:CET
DTSTART:20171029T010000
END:STANDARD
BEGIN:DAYLIGHT
TZOFFSETFROM:+0100
TZOFFSETTO:+0200
TZNAME:CEST
DTSTART:20180325T010000
END:DAYLIGHT
BEGIN:STANDARD
TZOFFSETFROM:+0200
TZOFFSETTO:+0100
TZNAME:CET
DTSTART:20181028T010000
END:STANDARD
END:VTIMEZONE
BEGIN:VEVENT
DTSTART;TZID=Europe/Berlin:20170107T120000
DTEND;TZID=Europe/Berlin:20170107T130000
DTSTAMP:20260425T013853
CREATED:20250707T194301Z
LAST-MODIFIED:20250707T194301Z
UID:41380-1483790400-1483794000@noonsong.de
SUMMARY:359. NoonSong am 07.01.2017 um 12:00
DESCRIPTION:Programme\n\n\n\n\nOrgan prelude: Dietrich Buxtehude (1637-1707): Toccata und Fuge F-Dur (BuxWV 157)Preces: William Smith (1603-1645): Preces & Responses für vierstimmig gemischten Chor a cappellaPsalm of the day: Psalm 110: Ruggiero Giovannelli (ca. 1560-1625): Dixit Dominus für vierstimmig gemischten Chor a cappellaPsalm of the week: Psalm 89: Francesco Durante (1694-1755): Misericordias Domini für achtstimmig gemischten Chor a cappellaResponsorium: gregorianisch\n\nCanticle: Pandolfo Zallamella (1551-ca.1591): Verbum caro factum est für fünfstimmig gemischten Chor a cappellaHymn: anonym (Paris 1681): Christus\, das Licht der Welt für vierstimmig gemischten Chor a cappellaOrgan postlude: Wolfgang Amadeus Mozart (1756-1791): Orgeltranskription über die Variationen „Ah vous dirai-je Maman“ (Auszug)Bible reading: Evangelium nach Markus 1\,1-8 \n\n\n\n\n\n\n\n\nLiturgy: 1. Sonntag nach Epiphanias\nPfarrer: Alexander Brodt-Zabka\nOrganist: Rudolf Seidel\nLocation: Kirche am Hohenzollernplatz\n\n\n\n\n\n\n\n\n\nListen\n\n\n\n\nHere you can listen to this NoonSong. If you’d like to listen to more NoonSongs recordings\, please register. \n\n\n	This content has been restricted to logged-in users only. Please log in to view this content.\n\n\n\n\n\n\n\n\n\nProgramme PDF\n\n\n\n\nRead more about this NoonSong in the programme document. \n\n\n\n\n\n\n\n\n\n\n\n\nPDF DOWNLOAD\n\n\n\n\n\n\n\n\n\n\n\n\n\n\, \, \, \, \, Giovannelli\, Ruggero; Giovanelli\, Rogerio; Giovanelli\, Ruggero; Giovanelli\, Ruggiero; Giovanelli\, Rug.; Iovannelius\, Rogerius; Iovannellius\, Rogerius; Jovanelli\, Rogerio\, \, Durante\, F.; Durante\, Pasquale-Francesco\, \, Zallamella\, Pandolfo; Zalamella\, Pandolpho; Zallamella\, Pandolpho\, \, Anonymus\, Tokkaten\, Orgel\, BuxWV 157 (F-Dur)\nTokkaten\, Org K 157\, Buxtehude\, …; Buxtehude\, D.; Buxtehude\, Diderik; Buxtehude\, Diderich; Buxtehude\, Dieterich\, Variationen über "Ah\, vous dirai-je\, maman"\nAh\, vous dirai-je\, maman\nVariationen über das französische Lied "Ah\, vous dirai-je\, maman"\nVariations on the French song "Ah\, vous dirai-je\, maman"\nVariations on "Ah\, vous dirai-je\, maman"\nVariations sur la chanson française "Ah\, vous dirai-je\, maman"\nVariations on the theme "Ah\, vous dirai-je\, maman"\nVariationen über das französische Kinderlied "Ah\, vous dirai-je\, maman"\nVariationen über "Morgen kommt der Weihnachtsmann"\nVariationen "Ah\, vous dirai-je\, maman"\nVariations "Ah\, vous dirai-je\, maman"\nMorgen kommt der Weihnachtsmann\nVariationen\, Kl\, KV 265\nVariationen\, Kl KV 265\, Mozart\, Wolfgang Amadeus\, 1756-1791; Mocart\, Volfgang Amadeus; Mocʹarti\, Wolpʹgang Amadei; Mozart\, Wolffgango; Mozart\, Wolfg. Amadeus; Mocart\, V. A.; Mocart\, V.; Mozart\, Wolfgang-Amadeus; Mozart\, A. W.; Mozart\, W. Am.; Mocart\, Volʹfgang Amadej (Sowj. Enz.); Mūzār\, Wulfgāng Āmādiūs; Mozart\, Wolfgang; Mozzart\, Wolfgang; Mōtsaruto; Mozart\, Johann Chrysostomus Wolfgang Theophil; Mozart\, Johannes C.; Mozart\, Johannes Chrysostomus Wolfgangus Theophil; Mozart\, Joannes Chrysostomus Wolfgangus Theophil; Mozart; Mozart\, Wolfgang G.; Mozart\, Wolfgango Amedeo; Mozartus\, Wolfgang A.; Mozzart\, Wolfgango; Mozart\, Wolfgang A.; Mozart\, Johannes Chrysostomus Wolfgang Gottlieb; Mozart\, Johannes Chrysostomus Wolfgangus Theophilus; Mozart\, W. A.; Mozart\, Wolfgang Amadé; Mozart\, Johannes Chrisostomus Wolfgangus Theophilus; Mozart\, Johann Chrysostom Wolfgang Amadeus; Mozart\, Joannes Chrysostomus Wolfgangus Amadeus; Mozard\,
URL:https://noonsong.de/en/event/noonsong-event-2017-01-07/
LOCATION:Kirche Am Hohenzollernplatz Berlin\, Nassauische Strasse 66\, Berlin\, Berlin\, 10717\, Deutschland
CATEGORIES:Audio,Baroque,Berlin,Choir,Church service,Church,Klassik,Concert,Liturgy,NoonSong,PDF,Renaissance,Vowel
ATTACH;FMTTYPE=image/jpeg:https://noonsong.de/wp-content/uploads/2023/05/title-picture-for-noonsong-359.jpg
ORGANIZER;CN="NoonSong e.V.":MAILTO:contact@noonsong.de
END:VEVENT
END:VCALENDAR