BEGIN:VCALENDAR
VERSION:2.0
PRODID:-//NoonSong - ECPv6.15.20//NONSGML v1.0//EN
CALSCALE:GREGORIAN
METHOD:PUBLISH
X-WR-CALNAME:NoonSong
X-ORIGINAL-URL:https://noonsong.de/en/
X-WR-CALDESC:Events for NoonSong
REFRESH-INTERVAL;VALUE=DURATION:PT1H
X-Robots-Tag:noindex
X-PUBLISHED-TTL:PT1H
BEGIN:VTIMEZONE
TZID:Europe/Berlin
BEGIN:DAYLIGHT
TZOFFSETFROM:+0100
TZOFFSETTO:+0200
TZNAME:CEST
DTSTART:20160327T010000
END:DAYLIGHT
BEGIN:STANDARD
TZOFFSETFROM:+0200
TZOFFSETTO:+0100
TZNAME:CET
DTSTART:20161030T010000
END:STANDARD
BEGIN:DAYLIGHT
TZOFFSETFROM:+0100
TZOFFSETTO:+0200
TZNAME:CEST
DTSTART:20170326T010000
END:DAYLIGHT
BEGIN:STANDARD
TZOFFSETFROM:+0200
TZOFFSETTO:+0100
TZNAME:CET
DTSTART:20171029T010000
END:STANDARD
BEGIN:DAYLIGHT
TZOFFSETFROM:+0100
TZOFFSETTO:+0200
TZNAME:CEST
DTSTART:20180325T010000
END:DAYLIGHT
BEGIN:STANDARD
TZOFFSETFROM:+0200
TZOFFSETTO:+0100
TZNAME:CET
DTSTART:20181028T010000
END:STANDARD
END:VTIMEZONE
BEGIN:VEVENT
DTSTART;TZID=Europe/Berlin:20170513T120000
DTEND;TZID=Europe/Berlin:20170513T130000
DTSTAMP:20260424T162957
CREATED:20260418T020110Z
LAST-MODIFIED:20260418T020110Z
UID:42635-1494676800-1494680400@noonsong.de
SUMMARY:376. NoonSong am 13.05.2017 um 12:00
DESCRIPTION:Programme\n\n\n\n\nOrgan prelude: Olivier Messiaen (1908-1992): Majesté du Christ demandant sa gloire à son père\, aus: L' ascension (Die Himmelfahrt); 1. SatzPreces: John Bertalot (1931-2026): Preces & Responses für vierstimmig gemischten Chor a cappellaPsalm of the day: Psalm 9: Samuel Wesley (1766-1837): Anglican chant für vierstimmig gemischten Chor a cappellaPsalm of the week: Psalm 98: Jacobus Gallus (1550-1591): Cantate Domino für neunstimmig gemischten Chor a cappellaResponsorium: gregorianisch\n\nCanticle: Johann Pachelbel (1653-1706): Magnificat für vierstimmig gemischten Chor a cappellaHymn: Adam Gumpelzhaimer (1559-1625): Lob Gott getrost mit Singen für vierstimmig gemischten Chor a cappellaOrgan postlude: Jehan Alain (1911-1940): 2. FantasieBible reading: Brief an die Kolosser 3\,12-17 \n\n\n\n\n\n\n\n\nLiturgy: Kantate\nPfarrerin: Barbara Deml\nOrganist: Rudolf Seidel\nLocation: Kirche am Hohenzollernplatz\n\n\n\n\n\n\n\n\n\nListen\n\n\n\n\nHere you can listen to this NoonSong. If you’d like to listen to more NoonSongs recordings\, please register. \n\n\n	This content has been restricted to logged-in users only. Please log in to view this content.\n\n\n\n\n\n\n\n\n\nProgramme PDF\n\n\n\n\nRead more about this NoonSong in the programme document. \n\n\n\n\n\n\n\n\n\n\n\n\nPDF DOWNLOAD\n\n\n\n\n\n\n\n\n\n\n\n\n\n\, \, \, \, \, Wesley\, Samual\, \, Handl\, Jacob; Gallus\, Jacobo; Gallus\, Jacob; Gallus\, Jakobus; Gallus\, Jakob; Gallus\, Iacobus; Gallus Carniolus\, Jacobus; Gallus; Gallo\, Giacomo; Gallo; Carniolanus\, Jacobus; Carniolus\, Jacobus; Jacobus\, Gallus; Hähnel\, Jacob; Händel\, Jacobus; Haendel\, Jacob; Haendl\, Jacob; Händl\, Jacobus; Händl\, Jacob; Hänel\, Jacob; Hahnl\, Jakob; Handelius\, Jacobus; Handl\, Iacobus; Handl\, Jacob; Handl\, Jacobus; Handl\, Jakobus; Handl\, Jakob; Handl\, J.; Hándl\, Iacobus; Hándl\, Iacobo; Handl-Gallus\, Jacobus; Handl Gallus\, Jacobus; Handl-Gallus\, Iacobus; Handl Gallus\, Jakob; Handl-Gallus\, J.; Pelelin\, Jakob; Petelin\, Jakob; Petelin\, Jacobus; Petelin\, \, Pachelbel; Pachelbel\, J.; Bachelbel\, Johann; Pachelbel\, Joannes; Pachelbel\, Johann Christoph; Pachelbel\, Johannes\, Neue deutsche geistliche Lieder (1594). Lob Gott getrost mit Singen\nNeue deutsche geistliche Lieder … (1594). Lob Gott getrost mit Singen\nNeue teutsche geistliche Lieder nach art der Welschen Canzonen. Lob Gott getrost mit Singen\nWirtzgärtlins teutsch und lateinischer geistlicher Lieder\, Teil 1. Lob Gott getrost mit Singen\, Gumpeltzhaimer\, Adam; Gumpelzhaimer\, Adamus; Gvmpelzhaimer\, Adamvs; A. G.; A. G. T. B.; Gumpelshaimer\, Adam; Gumpeltzheimer\, Adam; Gumpelzheimer\, Adam; Gumpelzhaimerus\, Adamus; Gumpelzhaimer\, Adam.\, L' ascension\, Orgel\nHimmelfahrt\nThe ascension\nMéditations symphoniques\, Messiaen\, …; Messiaen\, Olivier Eugène; Messiaën\, Olivier Eugène; Messian\, O.; Messian\, Olivʹe; Messian\, Olivier; Messiaen\, O.; Messiaen\, Olivier Eugène Prosper Charles; Messiaen\, Oliver\, Fantasien\, Org\, Nr. 2\nAWV 91\nJA 117\, Alain\, …; Alain\, Jehan Ariste; Alain\, Jehan-Ariste; Alain\, Jehan A.; Alain\, Jean-Ariste; Alain\, Jean Artiste\,
URL:https://noonsong.de/en/event/noonsong-event-2017-05-13/
LOCATION:Kirche Am Hohenzollernplatz Berlin\, Nassauische Strasse 66\, Berlin\, Berlin\, 10717\, Deutschland
CATEGORIES:20th century,Audio,Avantgarde,Baroque,Berlin,Choir,Church service,Church,Concert,Liturgy,NoonSong,PDF,Renaissance,Romantik,Vowel
ATTACH;FMTTYPE=image/jpeg:https://noonsong.de/wp-content/uploads/2023/05/title-picture-for-noonsong-376.jpg
ORGANIZER;CN="NoonSong e.V.":MAILTO:contact@noonsong.de
END:VEVENT
END:VCALENDAR