BEGIN:VCALENDAR
VERSION:2.0
PRODID:-//NoonSong - ECPv6.15.20//NONSGML v1.0//EN
CALSCALE:GREGORIAN
METHOD:PUBLISH
X-WR-CALNAME:NoonSong
X-ORIGINAL-URL:https://noonsong.de/en/
X-WR-CALDESC:Events for NoonSong
REFRESH-INTERVAL;VALUE=DURATION:PT1H
X-Robots-Tag:noindex
X-PUBLISHED-TTL:PT1H
BEGIN:VTIMEZONE
TZID:Europe/Berlin
BEGIN:DAYLIGHT
TZOFFSETFROM:+0100
TZOFFSETTO:+0200
TZNAME:CEST
DTSTART:20160327T010000
END:DAYLIGHT
BEGIN:STANDARD
TZOFFSETFROM:+0200
TZOFFSETTO:+0100
TZNAME:CET
DTSTART:20161030T010000
END:STANDARD
BEGIN:DAYLIGHT
TZOFFSETFROM:+0100
TZOFFSETTO:+0200
TZNAME:CEST
DTSTART:20170326T010000
END:DAYLIGHT
BEGIN:STANDARD
TZOFFSETFROM:+0200
TZOFFSETTO:+0100
TZNAME:CET
DTSTART:20171029T010000
END:STANDARD
BEGIN:DAYLIGHT
TZOFFSETFROM:+0100
TZOFFSETTO:+0200
TZNAME:CEST
DTSTART:20180325T010000
END:DAYLIGHT
BEGIN:STANDARD
TZOFFSETFROM:+0200
TZOFFSETTO:+0100
TZNAME:CET
DTSTART:20181028T010000
END:STANDARD
END:VTIMEZONE
BEGIN:VEVENT
DTSTART;TZID=Europe/Berlin:20170520T120000
DTEND;TZID=Europe/Berlin:20170520T130000
DTSTAMP:20260424T122553
CREATED:20250707T193954Z
LAST-MODIFIED:20250707T193954Z
UID:41264-1495281600-1495285200@noonsong.de
SUMMARY:377. NoonSong am 20.05.2017 um 12:00
DESCRIPTION:Programme\n\n\n\n\nOrgan prelude: Jaak Nikolaas Lemmens (1823-1881): Prélude in EsPreces: Michael Walsh: Preces and Responses für vierstimmig gemischten Chor a cappellaPsalm of the day: Psalm 22: Johannes Brahms (1833-1897): Unsere Väter hofften auf Dich\, aus: Fest- und Gedenksprüche op. 109 für achtstimmigen (Doppel-)Chor a cappellaPsalm of the week: Psalm 95: Albert Becker (1834-1899): Kommt herzu (op. 82) für achtstimmigen Chor a cappellaResponsorium: gregorianisch\n\nCanticle: Heinrich von Herzogenberg (1843-1900): Meine Seele erhebt den Herren op. 81\,1 für achtstimmig gemischten Chor a cappellaHymn: Stefan Schuck (*1963): Zieh ein zu deinen Toren für vierstimmig gemischten Chor a cappellaOrgan postlude: Robert Schumann (1810-1856): aus „Sechs Fugen über den Namen B-A-C-H“ (op. 60): Nr. 5 „Lebhaft“Bible reading: Evangelium nach Markus 9\,14-29 \n\n\n\n\n\n\n\n\nLiturgy: Rogate\n\nOrganist: Daniel Clark\nLocation: Kirche am Hohenzollernplatz\n\n\n\n\n\n\n\n\n\nListen\n\n\n\n\nHere you can listen to this NoonSong. If you’d like to listen to more NoonSongs recordings\, please register. \n\n\n	This content has been restricted to logged-in users only. Please log in to view this content.\n\n\n\n\n\n\n\n\n\nProgramme PDF\n\n\n\n\nRead more about this NoonSong in the programme document. \n\n\n\n\n\n\n\n\n\n\n\n\nPDF DOWNLOAD\n\n\n\n\n\n\n\n\n\n\n\n\n\n\, \, \, \, Fest- und Gedenksprüche\nFest- und Gedenksprüche\, op. 109\, Brahms; Brahms-Joachim\, Johannes; Brahms\, J.; Brahms\, Joh.; Brams\, Iogannes; Brahms\, Johs.; Brams\, I.; Marks\, G.W.\, Psalmen 95\, Becker\, Ernst Albert; Becker\, Albert Ernst Anton\, Liturgische Gesänge\, op. 81. Zur Adventszeit\nLiturgische Gesänge für Chor a capella für die akademischen Gottesdienste zu Strassburg i/E. Leipzig\nZur Adventszeit\, Herzogenberg\, Heinrich von; Herzogenberg\, Leopold Heinrich Picot de Peccaduc; Picot de Peccaduc\, Henry; Von Herzogenberg\, Heinrich; Peccaduc\, Picot de; Herzogenberg\, Leopold H.; Herzogenberg\, Heinrich von\, Freiherr von\, \, \, Prélude\nPräludium\, Lemmens\, Jacques-Nicolas; Lemmens\, J.-N.; Lemmens\, Nicolas J.; Lemmens\, N. J.; Lemmens\, Jacques Nicolas; Lemmens\, Jaak-Nikolaas; Lemmens\, Jacques-Nicholas; Lemmens\, Jacques; Lemmens\, Nicolas Jacques; Lemmens\, Nikolaas Jaak; Lemmens\, Nicolas Jacob\, Fugen über den Namen BACH. Fuge\, Nr. 5\nFugen über den Namen BACH. Nr. 5 (F-Dur)\nFugues on the name BACH. No. 5 (F major)\nFugen op. 60\, Nr. 5\, Schumann\, Robert Kurt; Schumann\, Rob.; Schumann\, R.; Schuman\, Robert; Schuhmann; Schumann\, Franz; Šuman\, Robert Aleksandr; Šuman\, Robert Aleksander; Šuman\, Robert; Ekert [Pseudonym]; Schumann; Šuman\, R.; Schumann\, Robert Alexander; Schumann\, Roberto; Shuman\, Robert\,
URL:https://noonsong.de/en/event/noonsong-event-2017-05-20/
LOCATION:Kirche Am Hohenzollernplatz Berlin\, Nassauische Strasse 66\, Berlin\, Berlin\, 10717\, Deutschland
CATEGORIES:20th century,21. Jahrhundert,Audio,Berlin,Choir,Church service,Church,Concert,Liturgy,NoonSong,PDF,Romantik,Vowel
ATTACH;FMTTYPE=image/jpeg:https://noonsong.de/wp-content/uploads/2023/05/title-picture-for-noonsong-377.jpg
ORGANIZER;CN="NoonSong e.V.":MAILTO:contact@noonsong.de
END:VEVENT
END:VCALENDAR