BEGIN:VCALENDAR
VERSION:2.0
PRODID:-//NoonSong - ECPv6.15.20//NONSGML v1.0//EN
CALSCALE:GREGORIAN
METHOD:PUBLISH
X-WR-CALNAME:NoonSong
X-ORIGINAL-URL:https://noonsong.de/en/
X-WR-CALDESC:Events for NoonSong
REFRESH-INTERVAL;VALUE=DURATION:PT1H
X-Robots-Tag:noindex
X-PUBLISHED-TTL:PT1H
BEGIN:VTIMEZONE
TZID:Europe/Berlin
BEGIN:DAYLIGHT
TZOFFSETFROM:+0100
TZOFFSETTO:+0200
TZNAME:CEST
DTSTART:20160327T010000
END:DAYLIGHT
BEGIN:STANDARD
TZOFFSETFROM:+0200
TZOFFSETTO:+0100
TZNAME:CET
DTSTART:20161030T010000
END:STANDARD
BEGIN:DAYLIGHT
TZOFFSETFROM:+0100
TZOFFSETTO:+0200
TZNAME:CEST
DTSTART:20170326T010000
END:DAYLIGHT
BEGIN:STANDARD
TZOFFSETFROM:+0200
TZOFFSETTO:+0100
TZNAME:CET
DTSTART:20171029T010000
END:STANDARD
BEGIN:DAYLIGHT
TZOFFSETFROM:+0100
TZOFFSETTO:+0200
TZNAME:CEST
DTSTART:20180325T010000
END:DAYLIGHT
BEGIN:STANDARD
TZOFFSETFROM:+0200
TZOFFSETTO:+0100
TZNAME:CET
DTSTART:20181028T010000
END:STANDARD
END:VTIMEZONE
BEGIN:VEVENT
DTSTART;TZID=Europe/Berlin:20170701T120000
DTEND;TZID=Europe/Berlin:20170701T130000
DTSTAMP:20260424T214056
CREATED:20250707T193541Z
LAST-MODIFIED:20250707T193541Z
UID:41590-1498910400-1498914000@noonsong.de
SUMMARY:383. NoonSong am 01.07.2017 um 12:00
DESCRIPTION:Programme\n\n\n\n\nOrgan prelude: Samuel Scheidt (1587-1654): Echo ad manuale duplex forte e lene\, us: Tabulatura novaPreces: William Byrd (ca. 1540-1623): Preces & Responses für fünfstimmig gemischten Chor a cappellaPsalm of the day: Psalm 33: Andreas Hakenberger (ca. 1574-1627): Exsultate justi für sechsstimmig gemischten Chor a cappellaPsalm of the week: Psalm 103: anonym: Lobe den Herrn\, meine Seele für vierstimmig gemischten Chor a cappellaResponsorium: gregorianisch\n\nCanticle: Samuel Scheidt (1587-1654): Deutsches Magnificat (SSWV 331) für vierstimmig gemischten Chor und ContinuoHymn: Hans Leo Haßler (1564-1612): Allein zu Dir\, Herr Jesu Christ für vierstimmig gemischten Chor a cappellaOrgan postlude: Jan Pieterszoon Sweelinck (1562-1621): Allein zu dir\, Herr Jesu ChristBible reading: Evangelium nach Lukas 7\,36-50 \n\n\n\n\n\n\n\n\nLiturgy: 3. Sonntag nach Trinitatis\nPfarrerin: Friederike von Kirchbach\nOrganist: Peter Uehling\nLocation: Kirche am Hohenzollernplatz\n\n\n\n\n\n\n\n\n\nListen\n\n\n\n\nHere you can listen to this NoonSong. If you’d like to listen to more NoonSongs recordings\, please register. \n\n\n	This content has been restricted to logged-in users only. Please log in to view this content.\n\n\n\n\n\n\n\n\n\nProgramme PDF\n\n\n\n\nRead more about this NoonSong in the programme document. \n\n\n\n\n\n\n\n\n\n\n\n\nPDF DOWNLOAD\n\n\n\n\n\n\n\n\n\n\n\n\n\n\, \, \, Byrd\, …; Byrd\, W.; Byrd\, Guil.; Byrd of Virginia\, William; Berd\, V.; Byred\, William; Bird\, William; Byrde\, William\, \, Hackenberger\, Andreas; Hakenberger\, Andrzej\, \, Anonymus\, Geistliche Konzerte. Theil 4. Meine Seel erhebt den Herren\nMeine Seel erhebt den Herren\nGeistliche Konzerte. Theil 4. Deutsches Magnificat 9. toni\nDeutsches Magnificat 9. toni\nSSWV 331\, Scheidt\, …; Scheidt\, Sam; Scheit\, Samuel; Scheidt\, S.; Scheidt\, Sam.\, \, Hassler\, Hans Leo; Hassler\, J. L.; Hasler\, Jean Leo; Hasler\, Hans Leo von; Hasler\, Giovan Leo; Hasler\, Ioannes Leo; Hasler\, L.; Hasler\, Hanns Leo; Hassler\, Hans L.; Hasler\, Hans L.; Hasler\, Joanne Leone; Hasler\, …; Hassler\, Johann Leo; Hasler\, Johann Leo; Hasler\, Hans Leo; Hasler\, Johannes Leo; Hasler\, J. L.; Haslerus\, Hans Leo; Hassler\, H. L.; Hassler\, Léo; Hassler\, Hans Leo; Haslero\, Joanne Leone\, Tabulatura nova\nSSWV 102-158\, Scheidt\, …; Scheidt\, Sam; Scheit\, Samuel; Scheidt\, S.; Scheidt\, Sam.\, Allein zu Dir Herr Jesu Christ\nSwWV 300\, Sweeling\, Jan P.; Sweelinck\, Jan P.; Sweelink\, Jan P.; Sweelinck\, …; Sweeling\, Johan Peterssen; Swelingh\, Jean Pierre; Sweelinck\, Jan Peter; Sweling\, Johan P.; Sweling\, Johann P.; Sweling\, Johan Peterssen; Sweling\, Johann Peterssen; Swelingh\, D. J.; Sweelinck\, J. P.; Sweelinck\, Jan Pieterszon; Sweelinck\, Jan Pieterszn; Sweelinck\, Jan Pieters; Sweelinck\, Jan Pieter; Sweeling\, Jan Pieterszoon; Zwelinck\, Jan Pieterszoon; Sweelingh\, Jan Pieterszoon; Sweling\, Jan Pieterszoon; Swelingh\, Jan Pieterszoon; Swelinck\, Jan Pietersz.; Swelinck\, Jan Pieterszoon; Sweelinck\, Johann Peter\,
URL:https://noonsong.de/en/event/noonsong-event-2017-07-01/
LOCATION:Kirche Am Hohenzollernplatz Berlin\, Nassauische Strasse 66\, Berlin\, Berlin\, 10717\, Deutschland
CATEGORIES:Audio,Baroque,Berlin,Choir,Church service,Church,Concert,Liturgy,NoonSong,PDF,Renaissance,Vowel
ATTACH;FMTTYPE=image/jpeg:https://noonsong.de/wp-content/uploads/2023/05/title-picture-for-noonsong-383.jpg
ORGANIZER;CN="NoonSong e.V.":MAILTO:contact@noonsong.de
END:VEVENT
END:VCALENDAR