BEGIN:VCALENDAR
VERSION:2.0
PRODID:-//NoonSong - ECPv6.15.20//NONSGML v1.0//EN
CALSCALE:GREGORIAN
METHOD:PUBLISH
X-WR-CALNAME:NoonSong
X-ORIGINAL-URL:https://noonsong.de/en/
X-WR-CALDESC:Events for NoonSong
REFRESH-INTERVAL;VALUE=DURATION:PT1H
X-Robots-Tag:noindex
X-PUBLISHED-TTL:PT1H
BEGIN:VTIMEZONE
TZID:Europe/Berlin
BEGIN:DAYLIGHT
TZOFFSETFROM:+0100
TZOFFSETTO:+0200
TZNAME:CEST
DTSTART:20170326T010000
END:DAYLIGHT
BEGIN:STANDARD
TZOFFSETFROM:+0200
TZOFFSETTO:+0100
TZNAME:CET
DTSTART:20171029T010000
END:STANDARD
BEGIN:DAYLIGHT
TZOFFSETFROM:+0100
TZOFFSETTO:+0200
TZNAME:CEST
DTSTART:20180325T010000
END:DAYLIGHT
BEGIN:STANDARD
TZOFFSETFROM:+0200
TZOFFSETTO:+0100
TZNAME:CET
DTSTART:20181028T010000
END:STANDARD
BEGIN:DAYLIGHT
TZOFFSETFROM:+0100
TZOFFSETTO:+0200
TZNAME:CEST
DTSTART:20190331T010000
END:DAYLIGHT
BEGIN:STANDARD
TZOFFSETFROM:+0200
TZOFFSETTO:+0100
TZNAME:CET
DTSTART:20191027T010000
END:STANDARD
END:VTIMEZONE
BEGIN:VEVENT
DTSTART;TZID=Europe/Berlin:20180303T120000
DTEND;TZID=Europe/Berlin:20180303T130000
DTSTAMP:20260419T155805
CREATED:20250707T193524Z
LAST-MODIFIED:20250707T193524Z
UID:41260-1520078400-1520082000@noonsong.de
SUMMARY:412. NoonSong am 03.03.2018 um 12:00 NoonSong mit gregorianischen Chorälen
DESCRIPTION:Programme\n\n\n\n\nOrgan prelude: anonym (Spanien\, 17. Jahrhundert): Tiento de falsas\, segundo tonoPreces: Richard Marlow (1939-2013): Preces & Responses für vierstimmigen Männerchor a cappellaPsalm of the day: Psalm 25: anonym (gregorianisch): Introitus: Oculi mei für einstimmigen Chor a cappellaPsalm of the week: Psalm 34: anonym (gregorianisch): Tractus: Gustate et videte für einstimmigen Chor a cappellaResponsorium: gregorianisch\n\nCanticle: anonym (gregorianisch): Magnificat im achten Ton für einstimmigen Chor a cappellaHymn: Bartholomäus Gesius (1562-1613): Mir nach\, spricht Christus\, unser Held für vierstimmig gemischten Chor a cappellaOrgan postlude: Alexandre Guilmant (1837-1911): Grand choeur dans la tonalité grégorienne\, d-Moll (op. 52\,2)Bible reading: Evangelium nach Lukas 9\,57-62 \n\n\n\n\n\n\n\n\nLiturgy: Okuli\nPfarrer: Pater Damian Bieger OFM\nOrganist: Daniel Clark\nLocation: Kirche am Hohenzollernplatz\n\n\n\n\n\n\n\n\n\nListen\n\n\n\n\nHere you can listen to this NoonSong. If you’d like to listen to more NoonSongs recordings\, please register. \n\n\n	This content has been restricted to logged-in users only. Please log in to view this content.\n\n\n\n\n\n\n\n\n\nProgramme PDF\n\n\n\n\nRead more about this NoonSong in the programme document. \n\n\n\n\n\n\n\n\n\n\n\n\nPDF DOWNLOAD\n\n\n\n\n\n\n\n\n\n\n\n\n\n\, \, \, \, \, Anonymus\, \, Anonymus\, \, Anonymus\, \, Gese\, Bartholomäus; Göse\, Bartholomaeus; Göß\, Bartholomaeus; Gesius\, Bartholomaeus; Gesius\, Bartholomeus; Gesius\, B.\, \, Anonymus\, \, Guilmant\, F. Alexandre; Guilmant\, …; Guilmant\, Félix A.; Guilmant\, Alexander; Guilmant\, Félix Alexandre; Guilmant\, Félix-Alexandre; Guilmant\, F. A.\,
URL:https://noonsong.de/en/event/noonsong-event-2018-03-03/
LOCATION:Kirche Am Hohenzollernplatz Berlin\, Nassauische Strasse 66\, Berlin\, Berlin\, 10717\, Deutschland
CATEGORIES:20th century,Audio,Baroque,Berlin,Choir,Church service,Gregorianik,Church,Concert,Liturgy,NoonSong,PDF,Renaissance,Romantik,Vowel
ATTACH;FMTTYPE=image/jpeg:https://noonsong.de/wp-content/uploads/2023/05/title-picture-for-noonsong-412.jpg
ORGANIZER;CN="NoonSong e.V.":MAILTO:contact@noonsong.de
END:VEVENT
END:VCALENDAR