BEGIN:VCALENDAR
VERSION:2.0
PRODID:-//NoonSong - ECPv6.15.20//NONSGML v1.0//EN
CALSCALE:GREGORIAN
METHOD:PUBLISH
X-WR-CALNAME:NoonSong
X-ORIGINAL-URL:https://noonsong.de/en/
X-WR-CALDESC:Events for NoonSong
REFRESH-INTERVAL;VALUE=DURATION:PT1H
X-Robots-Tag:noindex
X-PUBLISHED-TTL:PT1H
BEGIN:VTIMEZONE
TZID:Europe/Berlin
BEGIN:DAYLIGHT
TZOFFSETFROM:+0100
TZOFFSETTO:+0200
TZNAME:CEST
DTSTART:20170326T010000
END:DAYLIGHT
BEGIN:STANDARD
TZOFFSETFROM:+0200
TZOFFSETTO:+0100
TZNAME:CET
DTSTART:20171029T010000
END:STANDARD
BEGIN:DAYLIGHT
TZOFFSETFROM:+0100
TZOFFSETTO:+0200
TZNAME:CEST
DTSTART:20180325T010000
END:DAYLIGHT
BEGIN:STANDARD
TZOFFSETFROM:+0200
TZOFFSETTO:+0100
TZNAME:CET
DTSTART:20181028T010000
END:STANDARD
BEGIN:DAYLIGHT
TZOFFSETFROM:+0100
TZOFFSETTO:+0200
TZNAME:CEST
DTSTART:20190331T010000
END:DAYLIGHT
BEGIN:STANDARD
TZOFFSETFROM:+0200
TZOFFSETTO:+0100
TZNAME:CET
DTSTART:20191027T010000
END:STANDARD
END:VTIMEZONE
BEGIN:VEVENT
DTSTART;TZID=Europe/Berlin:20180414T120000
DTEND;TZID=Europe/Berlin:20180414T130000
DTSTAMP:20260421T115242
CREATED:20250707T193833Z
LAST-MODIFIED:20250707T193833Z
UID:41559-1523707200-1523710800@noonsong.de
SUMMARY:417. NoonSong am 14.04.2018 um 12:00
DESCRIPTION:Programme\n\n\n\n\nOrgan prelude: Joseph Ahrens (1904-1997): Drei Verse zu „Christus ist erstanden“Preces: William Smith (1603-1645): Preces & Responses für vierstimmig gemischten Chor a cappellaPsalm of the day: Psalm 18: Heinrich Schütz (1585-1672): Herzlich lieb hab ich dich\, o Herr (SWV 387) für sechsstimmig gemischten Chor a cappellaPsalm of the week: Psalm 23: Jessie Seymour Irvine (1836-1887): The Lord‘s my Shepherd für vierstimmig gemischten Chor mit OberstimmeResponsorium: gregorianisch\n\nCanticle: Michael Praetorius (1571-1621): Magnificat super Surrexit Pastor bonus für fünfstimmig gemischten Chor a cappellaHymn: Heinrich Schütz (1585-1672): Der Herr ist mein getreuer Hirt für vierstimmig gemischten Chor a cappellaOrgan postlude: Jean Langlais (1907-1991): Incantation pour un jour saint (Paraphrase über den Osterruf „Lumen Christi“)Bible reading: Evangelium nach Johannes 10\,11-16 \n\n\n\n\n\n\n\n\nLiturgy: Misericordias Domini\nPfarrer: Dr. Sebastian W. Stork\nOrganist: Ludger Mai\nLocation: Kirche am Hohenzollernplatz\n\n\n\n\n\n\n\n\n\nListen\n\n\n\n\nHere you can listen to this NoonSong. If you’d like to listen to more NoonSongs recordings\, please register. \n\n\n	This content has been restricted to logged-in users only. Please log in to view this content.\n\n\n\n\n\n\n\n\n\nProgramme PDF\n\n\n\n\nRead more about this NoonSong in the programme document. \n\n\n\n\n\n\n\n\n\n\n\n\nPDF DOWNLOAD\n\n\n\n\n\n\n\n\n\n\n\n\n\n\, \, \, \, \, Schütz\, Hinrich; Schütz\, Henricus; Schütz\, Heinrico; Schütz\, H.; Schütze\, Henrich; Schütze\, Heinrich; Schuetz\, Heinrich; Schutz\, Heinrich; Schuetz von Pfeilstadt\, Henri; Schüzzius\, Heinricus; Schüzze\, Heinrich; Schüz\, Heinrich; Schüz\, Henricus; Schützius\, Henricus; Schützen\, Heinrich; Schützen\, Henrich; Schütz\, Henrich; Schütz; Sagittarius\, Heinricus; Sagittario\, Henrico; Sagittarius\, Henricus; Sagittarius\, Heinricus\,; Sagitarius\, Henricus; Saettario\, Enrico; Šjutc\, Genrich\, \, \, Megalynodia Sionia\, Praetorius\, M.; Praetorius; Praetorij\, Michaëlis; Prätorius\, Michael; Prätorius\, Mich.; Schultheiß\, Michael; Schultheiss\, Michael\, \, Schütz\, Hinrich; Schütz\, Henricus; Schütz\, Heinrico; Schütz\, H.; Schütze\, Henrich; Schütze\, Heinrich; Schuetz\, Heinrich; Schutz\, Heinrich; Schuetz von Pfeilstadt\, Henri; Schüzzius\, Heinricus; Schüzze\, Heinrich; Schüz\, Heinrich; Schüz\, Henricus; Schützius\, Henricus; Schützen\, Heinrich; Schützen\, Henrich; Schütz\, Henrich; Schütz; Sagittarius\, Heinricus; Sagittario\, Henrico; Sagittarius\, Henricus; Sagittarius\, Heinricus\,; Sagitarius\, Henricus; Saettario\, Enrico; Šjutc\, Genrich\, Partita "Christ ist erstanden"\nChrist ist erstanden\nPartiten\, Orgel (1935)\nChristus ist erstanden\, Ahrens\, Josef; Ahrens\, Joseph J.; Ahrens\, Joseph Johannes Clemens; Ahrens\, J.\, Incantation pour un jour saint\nIncantation\nop. 64\, Langlais\, …; Langlais\, Jean-François\,
URL:https://noonsong.de/en/event/noonsong-event-2018-04-14/
LOCATION:Kirche Am Hohenzollernplatz Berlin\, Nassauische Strasse 66\, Berlin\, Berlin\, 10717\, Deutschland
CATEGORIES:20th century,Audio,Baroque,Berlin,Choir,Church service,Church,Concert,Liturgy,NoonSong,PDF,Renaissance,Romantik,Vowel
ATTACH;FMTTYPE=image/jpeg:https://noonsong.de/wp-content/uploads/2023/05/title-picture-for-noonsong-417.jpg
ORGANIZER;CN="NoonSong e.V.":MAILTO:contact@noonsong.de
END:VEVENT
END:VCALENDAR