BEGIN:VCALENDAR
VERSION:2.0
PRODID:-//NoonSong - ECPv6.15.20//NONSGML v1.0//EN
CALSCALE:GREGORIAN
METHOD:PUBLISH
X-WR-CALNAME:NoonSong
X-ORIGINAL-URL:https://noonsong.de/en/
X-WR-CALDESC:Events for NoonSong
REFRESH-INTERVAL;VALUE=DURATION:PT1H
X-Robots-Tag:noindex
X-PUBLISHED-TTL:PT1H
BEGIN:VTIMEZONE
TZID:Europe/Berlin
BEGIN:DAYLIGHT
TZOFFSETFROM:+0100
TZOFFSETTO:+0200
TZNAME:CEST
DTSTART:20170326T010000
END:DAYLIGHT
BEGIN:STANDARD
TZOFFSETFROM:+0200
TZOFFSETTO:+0100
TZNAME:CET
DTSTART:20171029T010000
END:STANDARD
BEGIN:DAYLIGHT
TZOFFSETFROM:+0100
TZOFFSETTO:+0200
TZNAME:CEST
DTSTART:20180325T010000
END:DAYLIGHT
BEGIN:STANDARD
TZOFFSETFROM:+0200
TZOFFSETTO:+0100
TZNAME:CET
DTSTART:20181028T010000
END:STANDARD
BEGIN:DAYLIGHT
TZOFFSETFROM:+0100
TZOFFSETTO:+0200
TZNAME:CEST
DTSTART:20190331T010000
END:DAYLIGHT
BEGIN:STANDARD
TZOFFSETFROM:+0200
TZOFFSETTO:+0100
TZNAME:CET
DTSTART:20191027T010000
END:STANDARD
END:VTIMEZONE
BEGIN:VEVENT
DTSTART;TZID=Europe/Berlin:20180428T120000
DTEND;TZID=Europe/Berlin:20180428T130000
DTSTAMP:20260421T115247
CREATED:20260418T020117Z
LAST-MODIFIED:20260418T020117Z
UID:41279-1524916800-1524920400@noonsong.de
SUMMARY:419. NoonSong am 28.04.2018 um 12:00
DESCRIPTION:Programme\n\n\n\n\nOrgan prelude: anonym (Spanien\, 17. Jahrhundert): Tiento lleno\, lo tonoPreces: John Bertalot (1931-2026): Preces & Responses für vierstimmig gemischten Chor a cappellaPsalm of the day: Psalm 16: Giovanni Pierluigi da Palestrina (1525-1594): Benedicam Dominum für fünfstimmig gemischten Chor a cappellaPsalm of the week: Psalm 98: Melchior Franck (1579-1639): Cantate Domino für achtstimmig gemischten Chor a cappellaResponsorium: gregorianisch\n\nCanticle: Christobal de Morales (1500-1553): Magnificat octavi toni für vier- bis sechsstimmig gemischten Chor a cappellaHymn: Adam Gumpelzhaimer (1559-1625): Lob Gott getrost mit Singen für vierstimmig gemischten Chor a cappellaOrgan postlude: Jan Pieterszoon Sweelinck (1562-1621): Unter der Linden grüneBible reading: Brief an die Kolosser 3\,12-17 \n\n\n\n\n\n\n\n\nLiturgy: Kantate\nPfarrer: Dr. Sebastian W. Stork\nOrganist: Daniel Clark\nLocation: Kirche am Hohenzollernplatz\n\n\n\n\n\n\n\n\n\nListen\n\n\n\n\nHere you can listen to this NoonSong. If you’d like to listen to more NoonSongs recordings\, please register. \n\n\n	This content has been restricted to logged-in users only. Please log in to view this content.\n\n\n\n\n\n\n\n\n\nProgramme PDF\n\n\n\n\nRead more about this NoonSong in the programme document. \n\n\n\n\n\n\n\n\n\n\n\n\nPDF DOWNLOAD\n\n\n\n\n\n\n\n\n\n\n\n\n\n\, \, \, \, \, Palestrina\, Giov. Pierluigi da; Palestrina\, G. Pierluigi da; Palestrina\, G. P. da; Palestrina\, G.P. da; Palestrina\, Giovanni Pierluigi; Palestrina\, Giovanni Pietro; Palestrina\, Giovanni Petraloysio; Palestrina\, Giovanni L.; Palestrina\, Giovanni; Palestrina\, G. P.; Palestrina\, G.P.; Palestrina\, Giovanni da; Palestrina\, Giovanno; Palestrina\, C. P. da; Palestrina\, C.P. da; Palestrina\, Jean Pierluigi de; Palestrina\, J. P.; Palestrina\, J.P.; Palestrina\, Joachim; Palestrina\, Petrus Aloysius; Palestrina\, Petrus A.; Palestrina\, Pierluigi da; Palestrina\, Pier Luigi; Palestrina\, P. L. da; Palestrina\, P.L. da; Palestrina; Palästrina\, G.; Palestrino\, Joannes P.; Praenestinius\, Ioannes P.; Praenestinius\, Joannes Petraloysius; Praenestinus\, Joann Petraloysius; Praenestinius\, Joannes P.; Praenestino\, Joanne Petraloysio; Praenestino\, Joanne Petro Aloysio; Praenestino\, Joannis P.; Praenestino\, Petro Aloysio; Praenestinus\, Ioannes P.; Praenestinus\, Joannes Petraloysius; Praenestinus\, Jo. Petraloysius; Praenestinus\, Joannes P.; Praenestinus\, Joann. P.; Praenestinus\, Joannes Petrus Aloysius; Prænestinus\, Ioan. Petraloysius; Prænestinus\, Ioannes Aloysius; Prænestinus\, Johannes Petrus Aloysius; Prenestino\, Giovanni Pierluigi da; Prenestino\, Giovanni Pietro Aloysio; Prenestinus\, Giovanni P.; Prenestinus\, Petrus Aloysius; Pierluigi\, Giovanni; Pierluigi da Palestrina\, Giovanni; Da Palestrina\, Giovanni Pierluigi; Da Palestrina\, Pierluigi; DaPalestrina\, Giovanni Pierluigi; Giannetto; Sante da Palestrina\, Pier Luigi\, \, Francus\, Melchior; Frank\, Melchior; Franco\, Melchior; Francke\, Melchior; Franc\, Melchior; Franc\, M.\, \, Morales\, Christoval (Riemann); Morales\, Christopher; Morales\, Christoval de; Morales\, Cristóbal; Morales\, Chr.; Morales\, C.; Morales\, Christóbal de; Morales\, Christophorus; Morales\, Christobal de; Morales\, Cristophorus de; Morales\, Cristobal de\, Neue deutsche geistliche Lieder (1594). Lob Gott getrost mit Singen\nNeue deutsche geistliche Lieder … (1594). Lob Gott getrost mit Singen\nNeue teutsche geistliche Lieder nach art der Welschen Canzonen. Lob Gott getrost mit Singen\nWirtzgärtlins teutsch und lateinischer geistlicher Lieder\, Teil 1. Lob Gott getrost mit Singen\, Gumpeltzhaimer\, Adam; Gumpelzhaimer\, Adamus; Gvmpelzhaimer\, Adamvs; A. G.; A. G. T. B.; Gumpelshaimer\, Adam; Gumpeltzheimer\, Adam; Gumpelzheimer\, Adam; Gumpelzhaimerus\, Adamus; Gumpelzhaimer\, Adam.\, \, Anonymus\, \, Sweeling\, Jan P.; Sweelinck\, Jan P.; Sweelink\, Jan P.; Sweelinck\, …; Sweeling\, Johan Peterssen; Swelingh\, Jean Pierre; Sweelinck\, Jan Peter; Sweling\, Johan P.; Sweling\, Johann P.; Sweling\, Johan Peterssen; Sweling\, Johann Peterssen; Swelingh\, D. J.; Sweelinck\, J. P.; Sweelinck\, Jan Pieterszon; Sweelinck\, Jan Pieterszn; Sweelinck\, Jan Pieters; Sweelinck\, Jan Pieter; Sweeling\, Jan Pieterszoon; Zwelinck\, Jan Pieterszoon; Sweelingh\, Jan Pieterszoon; Sweling\, Jan Pieterszoon; Swelingh\, Jan Pieterszoon; Swelinck\, Jan Pietersz.; Swelinck\, Jan Pieterszoon; Sweelinck\, Johann Peter\,
URL:https://noonsong.de/en/event/noonsong-event-2018-04-28/
LOCATION:Kirche Am Hohenzollernplatz Berlin\, Nassauische Strasse 66\, Berlin\, Berlin\, 10717\, Deutschland
CATEGORIES:20th century,Audio,Baroque,Berlin,Choir,Church service,Church,Concert,Liturgy,NoonSong,PDF,Renaissance,Vowel
ATTACH;FMTTYPE=image/jpeg:https://noonsong.de/wp-content/uploads/2023/05/title-picture-for-noonsong-419.jpg
ORGANIZER;CN="NoonSong e.V.":MAILTO:contact@noonsong.de
END:VEVENT
END:VCALENDAR