BEGIN:VCALENDAR
VERSION:2.0
PRODID:-//NoonSong - ECPv6.15.20//NONSGML v1.0//EN
CALSCALE:GREGORIAN
METHOD:PUBLISH
X-WR-CALNAME:NoonSong
X-ORIGINAL-URL:https://noonsong.de/en/
X-WR-CALDESC:Events for NoonSong
REFRESH-INTERVAL;VALUE=DURATION:PT1H
X-Robots-Tag:noindex
X-PUBLISHED-TTL:PT1H
BEGIN:VTIMEZONE
TZID:Europe/Berlin
BEGIN:DAYLIGHT
TZOFFSETFROM:+0100
TZOFFSETTO:+0200
TZNAME:CEST
DTSTART:20170326T010000
END:DAYLIGHT
BEGIN:STANDARD
TZOFFSETFROM:+0200
TZOFFSETTO:+0100
TZNAME:CET
DTSTART:20171029T010000
END:STANDARD
BEGIN:DAYLIGHT
TZOFFSETFROM:+0100
TZOFFSETTO:+0200
TZNAME:CEST
DTSTART:20180325T010000
END:DAYLIGHT
BEGIN:STANDARD
TZOFFSETFROM:+0200
TZOFFSETTO:+0100
TZNAME:CET
DTSTART:20181028T010000
END:STANDARD
BEGIN:DAYLIGHT
TZOFFSETFROM:+0100
TZOFFSETTO:+0200
TZNAME:CEST
DTSTART:20190331T010000
END:DAYLIGHT
BEGIN:STANDARD
TZOFFSETFROM:+0200
TZOFFSETTO:+0100
TZNAME:CET
DTSTART:20191027T010000
END:STANDARD
END:VTIMEZONE
BEGIN:VEVENT
DTSTART;TZID=Europe/Berlin:20180505T120000
DTEND;TZID=Europe/Berlin:20180505T130000
DTSTAMP:20260424T103542
CREATED:20250707T193540Z
LAST-MODIFIED:20250707T193540Z
UID:41585-1525521600-1525525200@noonsong.de
SUMMARY:420. NoonSong am 05.05.2018 um 12:00
DESCRIPTION:Programme\n\n\n\n\nOrgan prelude: François Couperin (1688-1733): Couplet\, Domine Deus\, Rex coelestisPreces: Thomas Tallis (ca. 1505-1585): Preces & Responses für fünfstimmig gemischten Chor a cappellaPsalm of the day: Psalm 114: William Byrd (ca. 1540-1623): In exitu Israel für fünfstimmig gemischten Chor a cappellaPsalm of the week: Psalm 95: Jan Pieterszoon Sweelinck (1562-1621): Venite exultemus für fünfstimmigen Chor a cappellaResponsorium: gregorianisch\n\nCanticle: Gian Paolo Cima (ca. 1570-ca. 1626): Magnificat quinti toni für vierstimmig gemischten Chor a cappellaHymn: Stefan Schuck (*1963): Zieh ein zu deinen Toren für vierstimmig gemischten Chor a cappellaOrgan postlude: Théodore Dubois (1837-1924): Toccata G-DurBible reading: Evangelium nach Markus 9\,14-29 \n\n\n\n\n\n\n\n\nLiturgy: Rogate\nPfarrerin: Anna Kim-Chi Nguyen-Huu\nOrganist: Rudolf Seidel\nLocation: Kirche am Hohenzollernplatz\n\n\n\n\n\n\n\n\n\nListen\n\n\n\n\nHere you can listen to this NoonSong. If you’d like to listen to more NoonSongs recordings\, please register. \n\n\n	This content has been restricted to logged-in users only. Please log in to view this content.\n\n\n\n\n\n\n\n\n\nProgramme PDF\n\n\n\n\nRead more about this NoonSong in the programme document. \n\n\n\n\n\n\n\n\n\n\n\n\nPDF DOWNLOAD\n\n\n\n\n\n\n\n\n\n\n\n\n\n\, \, \, Tallys\, T.; Tallys\, Thomas; Talys\, Thomas; Talles\, Thomas \, \, Byrd\, …; Byrd\, W.; Byrd\, Guil.; Byrd of Virginia\, William; Berd\, V.; Byred\, William; Bird\, William; Byrde\, William\, Cantiones sacrae. Venite exultemus Domino\nPsalm 94\nVenite exultemus Domino\nCantiones sacrae\, Nr. 9\, Sweeling\, Jan P.; Sweelinck\, Jan P.; Sweelink\, Jan P.; Sweelinck\, …; Sweeling\, Johan Peterssen; Swelingh\, Jean Pierre; Sweelinck\, Jan Peter; Sweling\, Johan P.; Sweling\, Johann P.; Sweling\, Johan Peterssen; Sweling\, Johann Peterssen; Swelingh\, D. J.; Sweelinck\, J. P.; Sweelinck\, Jan Pieterszon; Sweelinck\, Jan Pieterszn; Sweelinck\, Jan Pieters; Sweelinck\, Jan Pieter; Sweeling\, Jan Pieterszoon; Zwelinck\, Jan Pieterszoon; Sweelingh\, Jan Pieterszoon; Sweling\, Jan Pieterszoon; Swelingh\, Jan Pieterszoon; Swelinck\, Jan Pietersz.; Swelinck\, Jan Pieterszoon; Sweelinck\, Johann Peter\, \, Cima\, Giovanni P.; Cima\, Giovan Paolo; Cima\, Gio Paolo; Cima\, Giampaolo; Cima\, Giovanni Paolo; Cima\, Gian P. ; Cima Milanese\, Gian Paolo\, \, \, \, Couperin\, Fr.; Couperin\, François\, "Le Grand"; Couperin Le Grand\, François; Le Grand\, François Couperin; Kuperen\, Fransua; Kuperenas\, F.; Kūpuran\, F.\, \, Dubois\, François-Clément-Théodore; Dubois\, François Clément Théodore; Dubois\, François Clément Théodor; Dubois\, François C.; Dubois\, François; Dubois\, Théodore I.; Dubois\, Th.; Dubois\, T.\,
URL:https://noonsong.de/en/event/noonsong-event-2018-05-05/
LOCATION:Kirche Am Hohenzollernplatz Berlin\, Nassauische Strasse 66\, Berlin\, Berlin\, 10717\, Deutschland
CATEGORIES:20th century,21. Jahrhundert,Audio,Baroque,Berlin,Choir,Church service,Church,Concert,Liturgy,NoonSong,PDF,Renaissance,Romantik,Vowel
ATTACH;FMTTYPE=image/jpeg:https://noonsong.de/wp-content/uploads/2023/05/title-picture-for-noonsong-420.jpg
ORGANIZER;CN="NoonSong e.V.":MAILTO:contact@noonsong.de
END:VEVENT
END:VCALENDAR