BEGIN:VCALENDAR
VERSION:2.0
PRODID:-//NoonSong - ECPv6.15.20//NONSGML v1.0//EN
CALSCALE:GREGORIAN
METHOD:PUBLISH
X-WR-CALNAME:NoonSong
X-ORIGINAL-URL:https://noonsong.de/en/
X-WR-CALDESC:Events for NoonSong
REFRESH-INTERVAL;VALUE=DURATION:PT1H
X-Robots-Tag:noindex
X-PUBLISHED-TTL:PT1H
BEGIN:VTIMEZONE
TZID:Europe/Berlin
BEGIN:DAYLIGHT
TZOFFSETFROM:+0100
TZOFFSETTO:+0200
TZNAME:CEST
DTSTART:20180325T010000
END:DAYLIGHT
BEGIN:STANDARD
TZOFFSETFROM:+0200
TZOFFSETTO:+0100
TZNAME:CET
DTSTART:20181028T010000
END:STANDARD
BEGIN:DAYLIGHT
TZOFFSETFROM:+0100
TZOFFSETTO:+0200
TZNAME:CEST
DTSTART:20190331T010000
END:DAYLIGHT
BEGIN:STANDARD
TZOFFSETFROM:+0200
TZOFFSETTO:+0100
TZNAME:CET
DTSTART:20191027T010000
END:STANDARD
BEGIN:DAYLIGHT
TZOFFSETFROM:+0100
TZOFFSETTO:+0200
TZNAME:CEST
DTSTART:20200329T010000
END:DAYLIGHT
BEGIN:STANDARD
TZOFFSETFROM:+0200
TZOFFSETTO:+0100
TZNAME:CET
DTSTART:20201025T010000
END:STANDARD
END:VTIMEZONE
BEGIN:VEVENT
DTSTART;TZID=Europe/Berlin:20190907T120000
DTEND;TZID=Europe/Berlin:20190907T130000
DTSTAMP:20260423T104159
CREATED:20250707T193755Z
LAST-MODIFIED:20250707T193755Z
UID:42639-1567857600-1567861200@noonsong.de
SUMMARY:479. NoonSong am 07.09.2019 um 12:00
DESCRIPTION:Programme\n\n\n\n\nOrgan prelude: Jean Langlais (1907-1991): Méditation sur les jeux de fondsPreces: Thomas Morley (1557-1602): Preces & Responses für fünfstimmig gemischten Chor a cappellaPsalm of the day: Psalm 41: Felice Anerio (ca. 1560-1614): Ego dixi Domine für vierstimmig gemischten Chor a cappellaPsalm of the week: Psalm 147: Cristoforo Montemayor (16. Jhd): Lauda Jerusalem à 8 für achtstimmigen Chor a cappellaResponsorium: gregorianisch\n\nCanticle: Orlando di Lasso (ca. 1532-1594): Magnificat septimi toni für vierstimmig gemischten Chor a cappellaHymn: Hans Leo Haßler (1564-1612): Nun lob mein Seel den Herren für vierstimmig gemischten Chor a cappellaOrgan postlude: Ad Wammes (*1953): MiroirBible reading: Evangelium nach Lukas 4\,31-37 \n\n\n\n\n\n\n\n\nLiturgy: 12. Sonntag nach Trinitatis\nPfarrer: Alexander Brodt-Zabka\nOrganist: Daniel Clark\nLocation: Kirche am Hohenzollernplatz\n\n\n\n\n\n\n\n\n\nListen\n\n\n\n\nHere you can listen to this NoonSong. If you’d like to listen to more NoonSongs recordings\, please register. \n\n\n	This content has been restricted to logged-in users only. Please log in to view this content.\n\n\n\n\n\n\n\n\n\nProgramme PDF\n\n\n\n\nRead more about this NoonSong in the programme document. \n\n\n\n\n\n\n\n\n\n\n\n\nPDF DOWNLOAD\n\n\n\n\n\n\n\n\n\n\n\n\n\n\, \, \, Morlei\, Tomaso; Morlei\, Thomas\, \, Anerio\, J. F.; Anerius\, Felix; Anerius\, Felicius; Arnerius\, Felix\, \, Monte Maior\, Cristoforo; Monte Mayor\, Cristoforo\, \, Lasso\, Orlando di; Lasso\, Orlando de; Lassus\, Rolando di; DiLasso\, Orlando; Lassus\, Orlandus di; Lassus\, Orlando di; Lassus\, Orlande de; Lassus\, Rolando de; Lasso\, Orlandi di; Lassus\, Rolland de; Lassus\, Orlando de; Orlando\, Di Lasso; Lassvs\, Orlando de; Di Lasso\, Orlando; Lassus\, Orlandus; Orlande De Lassus; Lassus\, Roland de; De Lassus\, Orlandus; De Lassus\, Roland; Lassus\, Orlandus de; Lassus\, Orland de; De Lassus\, Orland\, \, Hassler\, Hans Leo; Hassler\, J. L.; Hasler\, Jean Leo; Hasler\, Hans Leo von; Hasler\, Giovan Leo; Hasler\, Ioannes Leo; Hasler\, L.; Hasler\, Hanns Leo; Hassler\, Hans L.; Hasler\, Hans L.; Hasler\, Joanne Leone; Hasler\, …; Hassler\, Johann Leo; Hasler\, Johann Leo; Hasler\, Hans Leo; Hasler\, Johannes Leo; Hasler\, J. L.; Haslerus\, Hans Leo; Hassler\, H. L.; Hassler\, Léo; Hassler\, Hans Leo; Haslero\, Joanne Leone\, \, Langlais\, …; Langlais\, Jean-François\, \, \,
URL:https://noonsong.de/en/event/noonsong-event-2019-09-07/
LOCATION:Kirche Am Hohenzollernplatz Berlin\, Nassauische Strasse 66\, Berlin\, Berlin\, 10717\, Deutschland
CATEGORIES:20th century,Audio,Baroque,Berlin,Choir,Church service,Church,Concert,Liturgy,NoonSong,PDF,Renaissance,Vowel
ATTACH;FMTTYPE=image/jpeg:https://noonsong.de/wp-content/uploads/2023/05/title-picture-for-noonsong-479.jpg
ORGANIZER;CN="NoonSong e.V.":MAILTO:contact@noonsong.de
END:VEVENT
END:VCALENDAR