BEGIN:VCALENDAR
VERSION:2.0
PRODID:-//NoonSong - ECPv6.15.20//NONSGML v1.0//EN
CALSCALE:GREGORIAN
METHOD:PUBLISH
X-WR-CALNAME:NoonSong
X-ORIGINAL-URL:https://noonsong.de/en/
X-WR-CALDESC:Events for NoonSong
REFRESH-INTERVAL;VALUE=DURATION:PT1H
X-Robots-Tag:noindex
X-PUBLISHED-TTL:PT1H
BEGIN:VTIMEZONE
TZID:Europe/Berlin
BEGIN:DAYLIGHT
TZOFFSETFROM:+0100
TZOFFSETTO:+0200
TZNAME:CEST
DTSTART:20180325T010000
END:DAYLIGHT
BEGIN:STANDARD
TZOFFSETFROM:+0200
TZOFFSETTO:+0100
TZNAME:CET
DTSTART:20181028T010000
END:STANDARD
BEGIN:DAYLIGHT
TZOFFSETFROM:+0100
TZOFFSETTO:+0200
TZNAME:CEST
DTSTART:20190331T010000
END:DAYLIGHT
BEGIN:STANDARD
TZOFFSETFROM:+0200
TZOFFSETTO:+0100
TZNAME:CET
DTSTART:20191027T010000
END:STANDARD
BEGIN:DAYLIGHT
TZOFFSETFROM:+0100
TZOFFSETTO:+0200
TZNAME:CEST
DTSTART:20200329T010000
END:DAYLIGHT
BEGIN:STANDARD
TZOFFSETFROM:+0200
TZOFFSETTO:+0100
TZNAME:CET
DTSTART:20201025T010000
END:STANDARD
END:VTIMEZONE
BEGIN:VEVENT
DTSTART;TZID=Europe/Berlin:20191012T120000
DTEND;TZID=Europe/Berlin:20191012T130000
DTSTAMP:20260424T161418
CREATED:20250707T193602Z
LAST-MODIFIED:20250707T193602Z
UID:41245-1570881600-1570885200@noonsong.de
SUMMARY:484. NoonSong am 12.10.2019 um 12:00
DESCRIPTION:Programme\n\n\n\n\nOrgan prelude: John Ireland (1879-1962): Intrada\, aus: Miniature SuitePreces: Bernard Rose (1916-1996): Preces & Responses für vierstimmig gemischten Chor a cappellaPsalm of the day: Psalm 51: Carl Loewe (1796-1869): Schaffe in mir\, Gott\, ein rein Herz für vierstimmig gemischten Chor a cappellaPsalm of the week: Psalm 138: Moritz Deutsch (1818-1892): Von Herzen will ich\, Herr\, Dir danken für vierstimmig gemischten Chor a cappellaResponsorium: gregorianisch\n\nCanticle: John Ireland (1879-1962): Benedictus in C für vierstimmig gemischten Chor und OrgelHymn: Johann Stobaeus (1580-1646): Such\, wer da will ein ander Ziel für vierstimmig gemischten Chor a cappellaOrgan postlude: John Ireland (1879-1962): Alla MarciaBible reading: Evangelium nach Matthäus 15\,21-28 \n\n\n\n\n\n\n\n\nLiturgy: 17. Sonntag nach Trinitatis\nPfarrer: Dr. Sebastian W. Stork\nOrganist: Daniel Clark\nLocation: Kirche am Hohenzollernplatz\n\n\n\n\n\n\n\n\n\nListen\n\n\n\n\nHere you can listen to this NoonSong. If you’d like to listen to more NoonSongs recordings\, please register. \n\n\n	This content has been restricted to logged-in users only. Please log in to view this content.\n\n\n\n\n\n\n\n\n\nWatch\n\n\n\n\nExperience the recorded live-stream of this NoonSong. \n\n\n\n\n\nYou’ll find many selected video recordings of NoonSongs and other concerts on our YouTube channel.\n \n\n\n\n\n\n\n	This content has been restricted to logged-in users only. Please log in to view this content.\n\n\n\n\n\n\n\n\n\n\n\n\nProgramme PDF\n\n\n\n\nRead more about this NoonSong in the programme document. \n\n\n\n\n\n\n\n\n\n\n\n\nPDF DOWNLOAD\n\n\n\n\n\n\n\n\n\n\n\n\n\n\, \, \, Rose\, Bernard George Williams\, \, Loewe\, Johann Gottfried Carl; Loewe\, Johann Carl Gottfried; Loewe\, Johann Karl Gottfried; Loewe\, C.; Levë\, K.; Levë\, Karl; Loewe\, Karl; Löwe\, Carl; Löwe\, Karl; Löwe\, Karl Gottfried; Löwe\, Johann Carl Gottfried\, \, Deutsch\, Moriz; Deutsch\, Moritz\, Dr.\, \, \, \, Stobaeus\, Johannes; Stobäus\, Johann; Stoboeus\, Johann\, \, \, \, \,
URL:https://noonsong.de/en/event/noonsong-event-2019-10-12/
LOCATION:Kirche Am Hohenzollernplatz Berlin\, Nassauische Strasse 66\, Berlin\, Berlin\, 10717\, Deutschland
CATEGORIES:20th century,Audio,Baroque,Berlin,Choir,Church service,Church,Concert,Liturgy,NoonSong,PDF,Romantik,Video,Vowel
ATTACH;FMTTYPE=image/jpeg:https://noonsong.de/wp-content/uploads/2023/05/title-picture-for-noonsong-484.jpg
ORGANIZER;CN="NoonSong e.V.":MAILTO:contact@noonsong.de
END:VEVENT
END:VCALENDAR