BEGIN:VCALENDAR
VERSION:2.0
PRODID:-//NoonSong - ECPv6.15.20//NONSGML v1.0//EN
CALSCALE:GREGORIAN
METHOD:PUBLISH
X-WR-CALNAME:NoonSong
X-ORIGINAL-URL:https://noonsong.de/en/
X-WR-CALDESC:Events for NoonSong
REFRESH-INTERVAL;VALUE=DURATION:PT1H
X-Robots-Tag:noindex
X-PUBLISHED-TTL:PT1H
BEGIN:VTIMEZONE
TZID:Europe/Berlin
BEGIN:DAYLIGHT
TZOFFSETFROM:+0100
TZOFFSETTO:+0200
TZNAME:CEST
DTSTART:20180325T010000
END:DAYLIGHT
BEGIN:STANDARD
TZOFFSETFROM:+0200
TZOFFSETTO:+0100
TZNAME:CET
DTSTART:20181028T010000
END:STANDARD
BEGIN:DAYLIGHT
TZOFFSETFROM:+0100
TZOFFSETTO:+0200
TZNAME:CEST
DTSTART:20190331T010000
END:DAYLIGHT
BEGIN:STANDARD
TZOFFSETFROM:+0200
TZOFFSETTO:+0100
TZNAME:CET
DTSTART:20191027T010000
END:STANDARD
BEGIN:DAYLIGHT
TZOFFSETFROM:+0100
TZOFFSETTO:+0200
TZNAME:CEST
DTSTART:20200329T010000
END:DAYLIGHT
BEGIN:STANDARD
TZOFFSETFROM:+0200
TZOFFSETTO:+0100
TZNAME:CET
DTSTART:20201025T010000
END:STANDARD
END:VTIMEZONE
BEGIN:VEVENT
DTSTART;TZID=Europe/Berlin:20191109T120000
DTEND;TZID=Europe/Berlin:20191109T130000
DTSTAMP:20260419T171454
CREATED:20250707T193609Z
LAST-MODIFIED:20250707T193609Z
UID:41286-1573300800-1573304400@noonsong.de
SUMMARY:488. NoonSong am 09.11.2019 um 12:00
DESCRIPTION:Programme\n\n\n\n\nOrgan prelude: Jehan Alain (1911-1940): Choral phrygienPreces: Herbert Howells (1892-1983): Preces & Responses für vierstimmig gemischten Chor a cappellaPsalm of the day: Psalm 40: Moritz Hauptmann (1792-1868): Herr\, Du wollest Deine Barmherzigkeit für vierstimmigen Chor und vier SolistenPsalm of the week: Psalm 74: John Blow (1649-1708): O God\, wherefore art thou absent für fünfstimmig gemischten Chor a cappellaResponsorium: gregorianisch\n\nCanticle: Sigurður Sævarsson (*1963): Magnificat für achtstimmig gemischten Chor a cappellaHymn: Johann Sebastian Bach (1685-1750): Nimm von uns\, Herr\, du treuer Gott für vierstimmig gemischten Chor a cappellaOrgan postlude: Marcel Dupré (1886-1971): Cortège et litanie (op. 19)Bible reading: Evangelium nach Matthäus 10\,26b-33 \n\n\n\n\n\n\n\n\nLiturgy: Gedenktag der Novemberpogrome\nPfarrerin: Anna Kim-Chi Nguyen-Huu\nOrganist: Rudolf Seidel\nLocation: Kirche am Hohenzollernplatz\n\n\n\n\n\n\n\n\n\nListen\n\n\n\n\nHere you can listen to this NoonSong. If you’d like to listen to more NoonSongs recordings\, please register. \n\n\n	This content has been restricted to logged-in users only. Please log in to view this content.\n\n\n\n\n\n\n\n\n\nWatch\n\n\n\n\nExperience the recorded live-stream of this NoonSong. \n\n\n\n\n\nYou’ll find many selected video recordings of NoonSongs and other concerts on our YouTube channel.\n \n\n\n\n\n\n\n	This content has been restricted to logged-in users only. Please log in to view this content.\n\n\n\n\n\n\n\n\n\n\n\n\nProgramme PDF\n\n\n\n\nRead more about this NoonSong in the programme document. \n\n\n\n\n\n\n\n\n\n\n\n\nPDF DOWNLOAD\n\n\n\n\n\n\n\n\n\n\n\n\n\n\, \, \, Howells\, Herbert Norman \, Geistliche Gesänge\, op. 33. Bittgesang\nBittgesang\nHerr\, du wollest deine Barmherzigkeit\, Hauptmann\, M.\, \, \, \, Saevarsson\, Sigurdur\, \, Bach; Bach\, G. S.; Bach\, Iogann Sebastʹjan; Bach\, Joh. Sebastian; Bach\, Giov. Sebast.; Bach\, Jean Sebastien; Bach\, Jean Sebastian; Bach\, J. Seb.; Bach\, Sebastiano; Bach\, John Sebastian; Bach\, Iogann S.; Bach\, Iogann Sebast'jan; Bach\, Iogann Sebastian; Bach\, Giovanni Sebastian; Bach\, Johan Sebastian; Bach\, Joannes Sebastianus; Bach\, Giov. Seb.; Bach\, Giovanni S.; Bāḵ\, Jōhān Sebaṣtī'ān; Bach\, I. S.; Bach\, J.-S.; Bach\, Giovanni Sebastiano; Bach\, Jean-Sebastien; Bach\, Sebastian; Bach\, Jan Sebastian; Bach\, J. S.; Bach\, Johann-Sebastian; Bach\, Jean S.; Bach\, Johannes S.; Bach\, Johannes Sebastian; Bach\, Joh. Seb.; Bach\, Joh.-Seb.; Bach\, Joh. Sebas.; Bach\, Johann Seb.; Bach\, Joh. Sebast.; Bach\, Johann S.; Bach\, Iogann Sebastjan; Bach\, Jean Sébastien; Bach\, Jean-Sébastien; Bach\, Johann; Bakh\, Iogann Sebastian\, Choräle\, Org (1935). Choral phrygien\, Alain\, …; Alain\, Jehan Ariste; Alain\, Jehan-Ariste; Alain\, Jehan A.; Alain\, Jean-Ariste; Alain\, Jean Artiste\, Pièces\, Kl\, op. 19. Cortège et litanie. Fassung Org\nCortège et litanie\nPièces\, Kl\, op. 19 <Cortège et litanie>. Fassung Org\nStücke\, Kl op. 19. Cortège et litanie. Org\nop. 19\,4\, \,
URL:https://noonsong.de/en/event/noonsong-event-2019-11-09/
LOCATION:Kirche Am Hohenzollernplatz Berlin\, Nassauische Strasse 66\, Berlin\, Berlin\, 10717\, Deutschland
CATEGORIES:20th century,21. Jahrhundert,Audio,Avantgarde,Baroque,Berlin,Choir,Church service,Church,Concert,Liturgy,NoonSong,PDF,Romantik,Video,Vowel
ATTACH;FMTTYPE=image/jpeg:https://noonsong.de/wp-content/uploads/2023/05/title-picture-for-noonsong-488.jpg
ORGANIZER;CN="NoonSong e.V.":MAILTO:contact@noonsong.de
END:VEVENT
END:VCALENDAR