BEGIN:VCALENDAR
VERSION:2.0
PRODID:-//NoonSong - ECPv6.15.20//NONSGML v1.0//EN
CALSCALE:GREGORIAN
METHOD:PUBLISH
X-WR-CALNAME:NoonSong
X-ORIGINAL-URL:https://noonsong.de/en/
X-WR-CALDESC:Events for NoonSong
REFRESH-INTERVAL;VALUE=DURATION:PT1H
X-Robots-Tag:noindex
X-PUBLISHED-TTL:PT1H
BEGIN:VTIMEZONE
TZID:Europe/Berlin
BEGIN:DAYLIGHT
TZOFFSETFROM:+0100
TZOFFSETTO:+0200
TZNAME:CEST
DTSTART:20190331T010000
END:DAYLIGHT
BEGIN:STANDARD
TZOFFSETFROM:+0200
TZOFFSETTO:+0100
TZNAME:CET
DTSTART:20191027T010000
END:STANDARD
BEGIN:DAYLIGHT
TZOFFSETFROM:+0100
TZOFFSETTO:+0200
TZNAME:CEST
DTSTART:20200329T010000
END:DAYLIGHT
BEGIN:STANDARD
TZOFFSETFROM:+0200
TZOFFSETTO:+0100
TZNAME:CET
DTSTART:20201025T010000
END:STANDARD
BEGIN:DAYLIGHT
TZOFFSETFROM:+0100
TZOFFSETTO:+0200
TZNAME:CEST
DTSTART:20210328T010000
END:DAYLIGHT
BEGIN:STANDARD
TZOFFSETFROM:+0200
TZOFFSETTO:+0100
TZNAME:CET
DTSTART:20211031T010000
END:STANDARD
END:VTIMEZONE
BEGIN:VEVENT
DTSTART;TZID=Europe/Berlin:20201010T120000
DTEND;TZID=Europe/Berlin:20201010T130000
DTSTAMP:20260419T173445
CREATED:20250707T194355Z
LAST-MODIFIED:20250707T194355Z
UID:41753-1602331200-1602334800@noonsong.de
SUMMARY:516. NoonSong am 10.10.2020 um 12:00
DESCRIPTION:Programme\n\n\n\n\nOrgan prelude: Marcel Dupré (1886-1971): Antiphon V: How Fair and how Pleasant art Thou (op.18\, No.5)Preces: William Byrd (ca. 1540-1623): Preces & Responses für fünfstimmig gemischten Chor a cappellaPsalm of the day: Psalm 51b: Johannes Brahms (1833-1897): Schaffe in mir Gott für fünfstimmig gemischten Chor a cappellaPsalm of the week: Psalm 1: Thomas Tallis (ca. 1505-1585): Men blest no doubt für vierstimmig gemischten Chor a cappellaResponsorium: gregorianisch\n\nCanticle: Giovanni Pierluigi da Palestrina (1525-1594): Benedictus à 4 für vierstimmig gemischten Chor a cappellaOrgan postlude: Marcel Dupré (1886-1971): Final (op. 27\,7)Bible reading: Brief an die Galather 5\,13-18Psalm 91: Felix Mendelssohn Bartholdy (1809-1847): Denn er hat seinen Engeln befohlen über Dir für achtstimmig gemischten Chor a cappella \n\n\n\n\n\n\n\n\nLiturgy: 18. Sonntag nach Trinitatis\nPfarrer: Dr. Sebastian W. Stork\nOrganist: Vladimir Magalashvili\nLocation: Kirche am Hohenzollernplatz\n\n\n\n\n\n\n\n\n\nListen\n\n\n\n\nHere you can listen to this NoonSong. If you’d like to listen to more NoonSongs recordings\, please register. \n\n\n	This content has been restricted to logged-in users only. Please log in to view this content.\n\n\n\n\n\n\n\n\n\nWatch\n\n\n\n\nExperience the recorded live-stream of this NoonSong. \n\n\n\n\n\nYou’ll find many selected video recordings of NoonSongs and other concerts on our YouTube channel.\n \n\n\n\n\n\n\n	This content has been restricted to logged-in users only. Please log in to view this content.\n\n\n\n\n\n\n\n\n\n\n\n\nProgramme PDF\n\n\n\n\nRead more about this NoonSong in the programme document. \n\n\n\n\n\n\n\n\n\n\n\n\nPDF DOWNLOAD\n\n\n\n\n\n\n\n\n\n\n\n\n\n\, \, \, Byrd\, …; Byrd\, W.; Byrd\, Guil.; Byrd of Virginia\, William; Berd\, V.; Byred\, William; Bird\, William; Byrde\, William\, Motetten\, op. 29. Schaffe in mir\, Gott\nSchaffe in mir\, Gott\, ein rein Herz\nCreate a clean heart in me\, O God\nCrée en moi\, Dieu\, un cœur pur\nMotetten op. 29\, Nr. 2 \, Brahms; Brahms-Joachim\, Johannes; Brahms\, J.; Brahms\, Joh.; Brams\, Iogannes; Brahms\, Johs.; Brams\, I.; Marks\, G.W.\, \, Tallys\, T.; Tallys\, Thomas; Talys\, Thomas; Talles\, Thomas \, \, Palestrina\, Giov. Pierluigi da; Palestrina\, G. Pierluigi da; Palestrina\, G. P. da; Palestrina\, G.P. da; Palestrina\, Giovanni Pierluigi; Palestrina\, Giovanni Pietro; Palestrina\, Giovanni Petraloysio; Palestrina\, Giovanni L.; Palestrina\, Giovanni; Palestrina\, G. P.; Palestrina\, G.P.; Palestrina\, Giovanni da; Palestrina\, Giovanno; Palestrina\, C. P. da; Palestrina\, C.P. da; Palestrina\, Jean Pierluigi de; Palestrina\, J. P.; Palestrina\, J.P.; Palestrina\, Joachim; Palestrina\, Petrus Aloysius; Palestrina\, Petrus A.; Palestrina\, Pierluigi da; Palestrina\, Pier Luigi; Palestrina\, P. L. da; Palestrina\, P.L. da; Palestrina; Palästrina\, G.; Palestrino\, Joannes P.; Praenestinius\, Ioannes P.; Praenestinius\, Joannes Petraloysius; Praenestinus\, Joann Petraloysius; Praenestinius\, Joannes P.; Praenestino\, Joanne Petraloysio; Praenestino\, Joanne Petro Aloysio; Praenestino\, Joannis P.; Praenestino\, Petro Aloysio; Praenestinus\, Ioannes P.; Praenestinus\, Joannes Petraloysius; Praenestinus\, Jo. Petraloysius; Praenestinus\, Joannes P.; Praenestinus\, Joann. P.; Praenestinus\, Joannes Petrus Aloysius; Prænestinus\, Ioan. Petraloysius; Prænestinus\, Ioannes Aloysius; Prænestinus\, Johannes Petrus Aloysius; Prenestino\, Giovanni Pierluigi da; Prenestino\, Giovanni Pietro Aloysio; Prenestinus\, Giovanni P.; Prenestinus\, Petrus Aloysius; Pierluigi\, Giovanni; Pierluigi da Palestrina\, Giovanni; Da Palestrina\, Giovanni Pierluigi; Da Palestrina\, Pierluigi; DaPalestrina\, Giovanni Pierluigi; Giannetto; Sante da Palestrina\, Pier Luigi\, Pieces\, Orgel\, op. 18\nPiece\, Orgel\, op. 18\nLes vêpres de la Vierge\nVêpres du commun des fêtes de la Sainte Vierge\nVersets sur les vêpres de la Sainte Vierge\nStücke\, Orgel\, op. 18\nStücke\, Org\, op. 18\nPieces\, Org\, op. 18\nStücke\, Org op. 18\, \, Stücke\, Org op. 27\, \, Denn er hat seinen Engeln befohlen über dir\nPsalm 91\nFor he shall give his angels charge over thee\, Mendelssohn-Bartholdy\, Felix; Mendelssohn-Bartholdi\, Felix; Mendelssohn Bartholdi; Mendelssohn-Bartholdy\, Felix; Mendelssohn B.\, Felix; Mendelssohn Bartholdy\, Jakob Ludwig Felix; Mendelssohn-Bartholdy\, Jakob Ludwig Felix; Mendelssohn-Bartholdy\, Jacob Ludwig Felix; Mendelssohn Bartholdy\, Felix Jakob; Mendelssohn\, Jakob Ludwig Felix; Mendelssohn Bartholdy\, F.; Mendelssohn Bartholdy; Mendelssohn-Bartholdy; Mendelssohn; F.; Mendelson-Bartoldi\, Feliks; Mendelʹson-Bartolʹdi\, Feliks; Mendelsson-Bartholdy\, Felix; Mendelsohn-Bartholdy\, Felix; Bartholdy\, Felix Mendelssohn; Mendelssohn\, Felix; Mendelssohn\, F.; Mendelssohn-Bartholdy\, F.; Mendelssohn Batholdy\, Felix; Mendel'son\, Feliks; Mendel'son\, F.\,
URL:https://noonsong.de/en/event/noonsong-event-2020-10-10/
LOCATION:Kirche Am Hohenzollernplatz Berlin\, Nassauische Strasse 66\, Berlin\, Berlin\, 10717\, Deutschland
CATEGORIES:20th century,Audio,Berlin,Choir,Church service,Church,Concert,Liturgy,NoonSong,PDF,Renaissance,Romantik,Video,Vowel
ATTACH;FMTTYPE=image/jpeg:https://noonsong.de/wp-content/uploads/2023/08/title-picture-for-noonsong-516.jpg
ORGANIZER;CN="NoonSong e.V.":MAILTO:contact@noonsong.de
END:VEVENT
END:VCALENDAR