BEGIN:VCALENDAR
VERSION:2.0
PRODID:-//NoonSong - ECPv6.15.20//NONSGML v1.0//EN
CALSCALE:GREGORIAN
METHOD:PUBLISH
X-WR-CALNAME:NoonSong
X-ORIGINAL-URL:https://noonsong.de/en/
X-WR-CALDESC:Events for NoonSong
REFRESH-INTERVAL;VALUE=DURATION:PT1H
X-Robots-Tag:noindex
X-PUBLISHED-TTL:PT1H
BEGIN:VTIMEZONE
TZID:Europe/Berlin
BEGIN:DAYLIGHT
TZOFFSETFROM:+0100
TZOFFSETTO:+0200
TZNAME:CEST
DTSTART:20190331T010000
END:DAYLIGHT
BEGIN:STANDARD
TZOFFSETFROM:+0200
TZOFFSETTO:+0100
TZNAME:CET
DTSTART:20191027T010000
END:STANDARD
BEGIN:DAYLIGHT
TZOFFSETFROM:+0100
TZOFFSETTO:+0200
TZNAME:CEST
DTSTART:20200329T010000
END:DAYLIGHT
BEGIN:STANDARD
TZOFFSETFROM:+0200
TZOFFSETTO:+0100
TZNAME:CET
DTSTART:20201025T010000
END:STANDARD
BEGIN:DAYLIGHT
TZOFFSETFROM:+0100
TZOFFSETTO:+0200
TZNAME:CEST
DTSTART:20210328T010000
END:DAYLIGHT
BEGIN:STANDARD
TZOFFSETFROM:+0200
TZOFFSETTO:+0100
TZNAME:CET
DTSTART:20211031T010000
END:STANDARD
END:VTIMEZONE
BEGIN:VEVENT
DTSTART;TZID=Europe/Berlin:20201024T120000
DTEND;TZID=Europe/Berlin:20201024T130000
DTSTAMP:20260422T144150
CREATED:20250707T193901Z
LAST-MODIFIED:20250707T193901Z
UID:41482-1603540800-1603544400@noonsong.de
SUMMARY:518. NoonSong am 24.10.2020 um 12:00
DESCRIPTION:Programme\n\n\n\n\nOrgan prelude: Kenneth Leighton (1929-1988): FanfarePreces: Bernard Rose (1916-1996): Preces & Responses für vierstimmig gemischten Chor a cappellaPsalm of the day: Psalm 31a; 71: Heinrich Schütz (1585-1672): Herr\, auf Dich traue ich (SWV 377) für fünfstimmig gemischten Chor a cappellaPsalm of the week: Psalm 119: Charles Villiers Stanford (1852-1924): Beati quorum via (Op. 38) für sechsstimmig gemischten Chor a cappellaResponsorium: gregorianisch\n\nCanticle: Trond Kverno (*1945): Canticum Zachariae für vierstimmig gemischten Chor a cappellaHymn: Heinrich Schütz (1585-1672): Wohl denen\, die da wandeln für vierstimmig gemischten Chor a cappellaOrgan postlude: Sigfrid Karg-Elert (1877-1933): Choral-Improvisation über „Nun danket alle Gott“ (op. 65 / Nr. 59)Bible reading: 1. Brief an die Thessalonicher 4\,4 \n\n\n\n\n\n\n\n\nLiturgy: 20. Sonntag nach Trinitatis\nPfarrer: Dr. Sebastian W. Stork\nOrganist: Daniel Clark\nLocation: Kirche am Hohenzollernplatz\n\n\n\n\n\n\n\n\n\nListen\n\n\n\n\nHere you can listen to this NoonSong. If you’d like to listen to more NoonSongs recordings\, please register. \n\n\n	This content has been restricted to logged-in users only. Please log in to view this content.\n\n\n\n\n\n\n\n\n\nWatch\n\n\n\n\nExperience the recorded live-stream of this NoonSong. \n\n\n\n\n\nYou’ll find many selected video recordings of NoonSongs and other concerts on our YouTube channel.\n \n\n\n\n\n\n\n	This content has been restricted to logged-in users only. Please log in to view this content.\n\n\n\n\n\n\n\n\n\n\n\n\nProgramme PDF\n\n\n\n\nRead more about this NoonSong in the programme document. \n\n\n\n\n\n\n\n\n\n\n\n\nPDF DOWNLOAD\n\n\n\n\n\n\n\n\n\n\n\n\n\n\, \, \, Rose\, Bernard George Williams\, Geistliche Chor-Music. Herr\, auf dich traue ich\nGeistliche Chormusik <Herr\, auf dich traue ich> Herr\, auf dich traue ich\nSWV 377\, Schütz\, Hinrich; Schütz\, Henricus; Schütz\, Heinrico; Schütz\, H.; Schütze\, Henrich; Schütze\, Heinrich; Schuetz\, Heinrich; Schutz\, Heinrich; Schuetz von Pfeilstadt\, Henri; Schüzzius\, Heinricus; Schüzze\, Heinrich; Schüz\, Heinrich; Schüz\, Henricus; Schützius\, Henricus; Schützen\, Heinrich; Schützen\, Henrich; Schütz\, Henrich; Schütz; Sagittarius\, Heinricus; Sagittario\, Henrico; Sagittarius\, Henricus; Sagittarius\, Heinricus\,; Sagitarius\, Henricus; Saettario\, Enrico; Šjutc\, Genrich\, Motetten\, op. 38. Beati quorum via\nBeati quorum via integra est\nWohl denen\, deren Weg ohne Tadel ist\nBlessed are the undefiled\, Stanford\, CH… V…; Stanford\, Charles V.; Stanford\, Charles Villier; Drofnatski\, Karel [Pseudonym]; Drofnatzki\, Karel [Pseudonym]; Lear\, E. [Pseudonym]; Stanford\, C. Villiers; Stanford\, Ch. V.; Stanford\, C. V.; Villiers Stanford\, Charles; Standford\, Charles Villiers\, \, Kverno\, Trond Hans Farner\, \, Schütz\, Hinrich; Schütz\, Henricus; Schütz\, Heinrico; Schütz\, H.; Schütze\, Henrich; Schütze\, Heinrich; Schuetz\, Heinrich; Schutz\, Heinrich; Schuetz von Pfeilstadt\, Henri; Schüzzius\, Heinricus; Schüzze\, Heinrich; Schüz\, Heinrich; Schüz\, Henricus; Schützius\, Henricus; Schützen\, Heinrich; Schützen\, Henrich; Schütz\, Henrich; Schütz; Sagittarius\, Heinricus; Sagittario\, Henrico; Sagittarius\, Henricus; Sagittarius\, Heinricus\,; Sagitarius\, Henricus; Saettario\, Enrico; Šjutc\, Genrich\, \, \, Nun danket alle Gott\nMarche triomphale\nChoral-Improvisationen op. 65\, Nr. 59\, Karg-Elert\, Sigfrid\, 1877-1933; Karg-Elert\, Sigfrid Theodor; Karg\, Siegfried Theodor; Karg Elert\, Sigfrid; Oberndorff\, Teo von; Karg-Elert\, Sigfried; Karg-Elert\, Siegfried; Karg-Elert\, S.; Karg-Elert\, …; Karg\, Sigfrid; Elert\, Sigfrid Karg-\,
URL:https://noonsong.de/en/event/noonsong-event-2020-10-24/
LOCATION:Kirche Am Hohenzollernplatz Berlin\, Nassauische Strasse 66\, Berlin\, Berlin\, 10717\, Deutschland
CATEGORIES:20th century,Audio,Baroque,Berlin,Choir,Church service,Church,Concert,Liturgy,NoonSong,PDF,Romantik,Video,Vowel
ATTACH;FMTTYPE=image/jpeg:https://noonsong.de/wp-content/uploads/2023/05/title-picture-for-noonsong-518.jpg
ORGANIZER;CN="NoonSong e.V.":MAILTO:contact@noonsong.de
END:VEVENT
END:VCALENDAR