BEGIN:VCALENDAR
VERSION:2.0
PRODID:-//NoonSong - ECPv6.15.20//NONSGML v1.0//EN
CALSCALE:GREGORIAN
METHOD:PUBLISH
X-WR-CALNAME:NoonSong
X-ORIGINAL-URL:https://noonsong.de/en/
X-WR-CALDESC:Events for NoonSong
REFRESH-INTERVAL;VALUE=DURATION:PT1H
X-Robots-Tag:noindex
X-PUBLISHED-TTL:PT1H
BEGIN:VTIMEZONE
TZID:Europe/Berlin
BEGIN:DAYLIGHT
TZOFFSETFROM:+0100
TZOFFSETTO:+0200
TZNAME:CEST
DTSTART:20200329T010000
END:DAYLIGHT
BEGIN:STANDARD
TZOFFSETFROM:+0200
TZOFFSETTO:+0100
TZNAME:CET
DTSTART:20201025T010000
END:STANDARD
BEGIN:DAYLIGHT
TZOFFSETFROM:+0100
TZOFFSETTO:+0200
TZNAME:CEST
DTSTART:20210328T010000
END:DAYLIGHT
BEGIN:STANDARD
TZOFFSETFROM:+0200
TZOFFSETTO:+0100
TZNAME:CET
DTSTART:20211031T010000
END:STANDARD
BEGIN:DAYLIGHT
TZOFFSETFROM:+0100
TZOFFSETTO:+0200
TZNAME:CEST
DTSTART:20220327T010000
END:DAYLIGHT
BEGIN:STANDARD
TZOFFSETFROM:+0200
TZOFFSETTO:+0100
TZNAME:CET
DTSTART:20221030T010000
END:STANDARD
END:VTIMEZONE
BEGIN:VEVENT
DTSTART;TZID=Europe/Berlin:20210206T120000
DTEND;TZID=Europe/Berlin:20210206T130000
DTSTAMP:20260424T150258
CREATED:20250707T194047Z
LAST-MODIFIED:20250707T194047Z
UID:41138-1612612800-1612616400@noonsong.de
SUMMARY:527. NoonSong am 06.02.2021 um 12:00
DESCRIPTION:Programme\n\n\n\n\nOrgan prelude: Jehan Alain (1911-1940): Variations sur un thème de Clément Jannequin / Giles Swayne (*1946): Riff-RaffPreces: William Byrd (ca. 1540-1623): Preces & Responses für fünfstimmig gemischten Chor a cappellaPsalm of the day: Psalm 117: Ingvar Lidholm (1921-2017): Laudi III für vierstimmig gemischten Chor a cappellaPsalm of the week: Psalm 119f: Max Reger (1873-1916): Dein Wort\, o Herr\, wohnt weit und ewig für vierstimmig gemischten Chor a cappellaResponsorium: gregorianisch\n\nCanticle: Sigurður Sævarsson (*1963): Magnificat für achtstimmig gemischten Chor a cappellaHymn: Michael Praetorius (1571-1621): Herr\, für Dein Wort sei hoch gepreist für vierstimmig gemischten Chor a cappellaOrgan postlude: Henry Purcell (1659-1695): Voluntary for double organ in dBible reading: Evangelium nach Lukas 8\,4-15 \n\n\n\n\n\n\n\n\nLiturgy: Sexagesimae\nPfarrer: Dr. Sebastian W. Stork\nOrganist: Jack Day\nLocation: Kirche am Hohenzollernplatz\n\n\n\n\n\n\n\n\n\nListen\n\n\n\n\nHere you can listen to this NoonSong. If you’d like to listen to more NoonSongs recordings\, please register. \n\n\n	This content has been restricted to logged-in users only. Please log in to view this content.\n\n\n\n\n\n\n\n\n\nWatch\n\n\n\n\nExperience the recorded live-stream of this NoonSong. \n\n\n\n\n\nYou’ll find many selected video recordings of NoonSongs and other concerts on our YouTube channel.\n \n\n\n\n\n\n\n	This content has been restricted to logged-in users only. Please log in to view this content.\n\n\n\n\n\n\n\n\n\n\n\n\nProgramme PDF\n\n\n\n\nRead more about this NoonSong in the programme document. \n\n\n\n\n\n\n\n\n\n\n\n\nPDF DOWNLOAD\n\n\n\n\n\n\n\n\n\n\n\n\n\n\, \, \, Byrd\, …; Byrd\, W.; Byrd\, Guil.; Byrd of Virginia\, William; Berd\, V.; Byred\, William; Bird\, William; Byrde\, William\, \, \, \, Reger\, Max; Reger\, Johann Baptist Joseph Maximilian; Reger\, M.; Reger\, …; Reger\, Maks; Rēgers\, M.\, \, Saevarsson\, Sigurdur\, \, Praetorius\, M.; Praetorius; Praetorij\, Michaëlis; Prätorius\, Michael; Prätorius\, Mich.; Schultheiß\, Michael; Schultheiss\, Michael\, \, Alain\, …; Alain\, Jehan Ariste; Alain\, Jehan-Ariste; Alain\, Jehan A.; Alain\, Jean-Ariste; Alain\, Jean Artiste\, Voluntaries\, Orgel\, Z 719\nA voluntary for double organ\, Purcell\, Henry; Purcell\, …; Purcel\, …; Purcel\, Henry; Purcell\, H.; Purcell\, Henri; Purcel\, Henri\,
URL:https://noonsong.de/en/event/noonsong-event-2021-02-06/
LOCATION:Kirche Am Hohenzollernplatz Berlin\, Nassauische Strasse 66\, Berlin\, Berlin\, 10717\, Deutschland
CATEGORIES:20th century,21. Jahrhundert,Audio,Avantgarde,Baroque,Berlin,Choir,Church service,Church,Concert,Liturgy,NoonSong,PDF,Renaissance,Romantik,Video,Vowel
ATTACH;FMTTYPE=image/jpeg:https://noonsong.de/wp-content/uploads/2023/05/title-picture-for-noonsong-527.jpg
ORGANIZER;CN="NoonSong e.V.":MAILTO:contact@noonsong.de
END:VEVENT
END:VCALENDAR