BEGIN:VCALENDAR
VERSION:2.0
PRODID:-//NoonSong - ECPv6.15.20//NONSGML v1.0//EN
CALSCALE:GREGORIAN
METHOD:PUBLISH
X-WR-CALNAME:NoonSong
X-ORIGINAL-URL:https://noonsong.de/en/
X-WR-CALDESC:Events for NoonSong
REFRESH-INTERVAL;VALUE=DURATION:PT1H
X-Robots-Tag:noindex
X-PUBLISHED-TTL:PT1H
BEGIN:VTIMEZONE
TZID:Europe/Berlin
BEGIN:DAYLIGHT
TZOFFSETFROM:+0100
TZOFFSETTO:+0200
TZNAME:CEST
DTSTART:20200329T010000
END:DAYLIGHT
BEGIN:STANDARD
TZOFFSETFROM:+0200
TZOFFSETTO:+0100
TZNAME:CET
DTSTART:20201025T010000
END:STANDARD
BEGIN:DAYLIGHT
TZOFFSETFROM:+0100
TZOFFSETTO:+0200
TZNAME:CEST
DTSTART:20210328T010000
END:DAYLIGHT
BEGIN:STANDARD
TZOFFSETFROM:+0200
TZOFFSETTO:+0100
TZNAME:CET
DTSTART:20211031T010000
END:STANDARD
BEGIN:DAYLIGHT
TZOFFSETFROM:+0100
TZOFFSETTO:+0200
TZNAME:CEST
DTSTART:20220327T010000
END:DAYLIGHT
BEGIN:STANDARD
TZOFFSETFROM:+0200
TZOFFSETTO:+0100
TZNAME:CET
DTSTART:20221030T010000
END:STANDARD
END:VTIMEZONE
BEGIN:VEVENT
DTSTART;TZID=Europe/Berlin:20210306T120000
DTEND;TZID=Europe/Berlin:20210306T130000
DTSTAMP:20260419T155725
CREATED:20250707T193558Z
LAST-MODIFIED:20250707T193558Z
UID:41137-1615032000-1615035600@noonsong.de
SUMMARY:531. NoonSong am 06.03.2021 um 12:00
DESCRIPTION:Programme\n\n\n\n\nOrgan prelude: Max Reger (1873-1916): Jesu\, geh voran (op. 67)Preces: Thomas Tallis (ca. 1505-1585): Preces & Responses für fünfstimmig gemischten Chor a cappellaPsalm of the day: Psalm 15: Thomas Tallis (ca. 1505-1585): Domine\, quis habitabit für fünfstimmig gemischten Chor a cappellaPsalm of the week: Psalm 34b: Thomas Norris (1741-1790): Anglican Chant für vierstimmig gemischten Chor a cappellaResponsorium: gregorianisch\n\nCanticle: Aleksandras Kačanauskas (1882-1959): Christus factus est für fünfstimmig gemischten Chor a cappellaHymn: Adam Drese (1620-1701): Jesu geh voran für vierstimmig gemischten Chor a cappellaOrgan postlude: Charles Harford Lloyd (1849-1919): AdagioBible reading: Evangelium nach Lukas 9\,57-62 \n\n\n\n\n\n\n\n\nLiturgy: Okuli\nPfarrerin: Claudia Wüstenhagen\nOrganist: Mirlan Kasymaliev\nLocation: Kirche am Hohenzollernplatz\n\n\n\n\n\n\n\n\n\nListen\n\n\n\n\nHere you can listen to this NoonSong. If you’d like to listen to more NoonSongs recordings\, please register. \n\n\n	This content has been restricted to logged-in users only. Please log in to view this content.\n\n\n\n\n\n\n\n\n\nWatch\n\n\n\n\nExperience the recorded live-stream of this NoonSong. \n\n\n\n\n\nYou’ll find many selected video recordings of NoonSongs and other concerts on our YouTube channel.\n \n\n\n\n\n\n\n	This content has been restricted to logged-in users only. Please log in to view this content.\n\n\n\n\n\n\n\n\n\n\n\n\nProgramme PDF\n\n\n\n\nRead more about this NoonSong in the programme document. \n\n\n\n\n\n\n\n\n\n\n\n\nPDF DOWNLOAD\n\n\n\n\n\n\n\n\n\n\n\n\n\n\, \, \, Tallys\, T.; Tallys\, Thomas; Talys\, Thomas; Talles\, Thomas \, \, Tallys\, T.; Tallys\, Thomas; Talys\, Thomas; Talles\, Thomas \, \, \, \, \, \, Dreße\, Adam; Dresen\, Ad.; Drese\, Adam II.\, Leicht ausführbare Vorspiele zu den gebräuchlichsten evangelischen Chorälen\nEasy chorale preludes on the common Prostestant chorales\nEasy chorale preludes on the most common Prostestant chorales\nVorspiele\, Org op. 67\nChoralvorspiele\, op. 67\, Reger\, Max; Reger\, Johann Baptist Joseph Maximilian; Reger\, M.; Reger\, …; Reger\, Maks; Rēgers\, M.\, \, Harford Lloyd\, Charles; Lloyd\, C. H.; Lloyd\, Charles; Lloyd\, Charles H.\,
URL:https://noonsong.de/en/event/noonsong-event-2021-03-06/
LOCATION:Kirche Am Hohenzollernplatz Berlin\, Nassauische Strasse 66\, Berlin\, Berlin\, 10717\, Deutschland
CATEGORIES:20th century,Audio,Baroque,Berlin,Choir,Church service,Church,Klassik,Concert,Liturgy,NoonSong,PDF,Renaissance,Romantik,Video,Vowel
ATTACH;FMTTYPE=image/jpeg:https://noonsong.de/wp-content/uploads/2023/05/title-picture-for-noonsong-531.jpg
ORGANIZER;CN="NoonSong e.V.":MAILTO:contact@noonsong.de
END:VEVENT
END:VCALENDAR