BEGIN:VCALENDAR
VERSION:2.0
PRODID:-//NoonSong - ECPv6.15.20//NONSGML v1.0//EN
CALSCALE:GREGORIAN
METHOD:PUBLISH
X-WR-CALNAME:NoonSong
X-ORIGINAL-URL:https://noonsong.de/en/
X-WR-CALDESC:Events for NoonSong
REFRESH-INTERVAL;VALUE=DURATION:PT1H
X-Robots-Tag:noindex
X-PUBLISHED-TTL:PT1H
BEGIN:VTIMEZONE
TZID:Europe/Berlin
BEGIN:DAYLIGHT
TZOFFSETFROM:+0100
TZOFFSETTO:+0200
TZNAME:CEST
DTSTART:20200329T010000
END:DAYLIGHT
BEGIN:STANDARD
TZOFFSETFROM:+0200
TZOFFSETTO:+0100
TZNAME:CET
DTSTART:20201025T010000
END:STANDARD
BEGIN:DAYLIGHT
TZOFFSETFROM:+0100
TZOFFSETTO:+0200
TZNAME:CEST
DTSTART:20210328T010000
END:DAYLIGHT
BEGIN:STANDARD
TZOFFSETFROM:+0200
TZOFFSETTO:+0100
TZNAME:CET
DTSTART:20211031T010000
END:STANDARD
BEGIN:DAYLIGHT
TZOFFSETFROM:+0100
TZOFFSETTO:+0200
TZNAME:CEST
DTSTART:20220327T010000
END:DAYLIGHT
BEGIN:STANDARD
TZOFFSETFROM:+0200
TZOFFSETTO:+0100
TZNAME:CET
DTSTART:20221030T010000
END:STANDARD
END:VTIMEZONE
BEGIN:VEVENT
DTSTART;TZID=Europe/Berlin:20210320T120000
DTEND;TZID=Europe/Berlin:20210320T130000
DTSTAMP:20260419T155720
CREATED:20250707T194127Z
LAST-MODIFIED:20250707T194127Z
UID:41179-1616241600-1616245200@noonsong.de
SUMMARY:533. NoonSong am 20.03.2021 um 12:00
DESCRIPTION:Programme\n\n\n\n\nOrgan prelude: Alexandre Guilmant (1837-1911): Lamento in c-Moll (op. 90)Preces: John Tavener (1944-2013): Preces & Responses für achtstimmig gemischten Chor a cappellaPsalm of the day: Psalm 42b: Johann Hermann Schein (1586-1630): Was betrübst Du Dich\, meine Seele für fünfstimmig gemischten Chor a cappellaPsalm of the week: Psalm 43: Felix Mendelssohn Bartholdy (1809-1847): Richte mich\, Gott (MWV B 46) für achtstimmig gemischten Chor a cappellaResponsorium: gregorianisch\n\nCanticle: Felix Mendelssohn Bartholdy (1809-1847): Am Karfreitag (MWV B 52) für achtstimmig gemischten Chor a cappellaHymn: Claude Goudimel (ca. 1514-1572): O Mensch bewein Dein Sünde groß für vierstimmig gemischten Chor a cappellaOrgan postlude: Johann Sebastian Bach (1685-1750): O Mensch bewein Dein Sünde groß (BWV 622)Bible reading: Evangelium nach Lukas 18\,31-43 \n\n\n\n\n\n\n\n\nLiturgy: Judika\nPfarrer: Pater Klaus Mertes SJ\nOrganist: Mirlan Kasymaliev\nLocation: Kirche am Hohenzollernplatz\n\n\n\n\n\n\n\n\n\nListen\n\n\n\n\nHere you can listen to this NoonSong. If you’d like to listen to more NoonSongs recordings\, please register. \n\n\n	This content has been restricted to logged-in users only. Please log in to view this content.\n\n\n\n\n\n\n\n\n\nWatch\n\n\n\n\nExperience the recorded live-stream of this NoonSong. \n\n\n\n\n\nYou’ll find many selected video recordings of NoonSongs and other concerts on our YouTube channel.\n \n\n\n\n\n\n\n	This content has been restricted to logged-in users only. Please log in to view this content.\n\n\n\n\n\n\n\n\n\n\n\n\nProgramme PDF\n\n\n\n\nRead more about this NoonSong in the programme document. \n\n\n\n\n\n\n\n\n\n\n\n\nPDF DOWNLOAD\n\n\n\n\n\n\n\n\n\n\n\n\n\n\, \, \, Tavener\, Sir John; Tavener\, John Kenneth\, Fontana d'Israel. Was betrübst du dich\, meine Seele\nWas betrübst du dich\, meine Seele\nFontana d'Israel <Was betrübst du dich\, meine Seele>\, Schein\, Joh. Herm.; Schein\, Johan-Herman; Schein\, J. H.; Schein\, Johann H.; Schein\, Johann-Hermann; Scheinius\, Johann Hermannus; Schein\, Johan Herman; Schein\, Hermann; Schein\, Iohan-Hermanus; Schein\, Johan-Hermanus; Schein\, Johannes Hermann; Schein\, Johann Herman; Schein\, J.H.; Schein\, Joan-Herman\, Psalm 43\nJudge me\, o God\nDer 43. Psalm\nPsalmen op. 78. Richte mich\, Gott \nPsalmen. Psalm 43\nRichte mich\, Gott\nop. 78\, Nr. 2\nMWV B 46\, Mendelssohn-Bartholdy\, Felix; Mendelssohn-Bartholdi\, Felix; Mendelssohn Bartholdi; Mendelssohn-Bartholdy\, Felix; Mendelssohn B.\, Felix; Mendelssohn Bartholdy\, Jakob Ludwig Felix; Mendelssohn-Bartholdy\, Jakob Ludwig Felix; Mendelssohn-Bartholdy\, Jacob Ludwig Felix; Mendelssohn Bartholdy\, Felix Jakob; Mendelssohn\, Jakob Ludwig Felix; Mendelssohn Bartholdy\, F.; Mendelssohn Bartholdy; Mendelssohn-Bartholdy; Mendelssohn; F.; Mendelson-Bartoldi\, Feliks; Mendelʹson-Bartolʹdi\, Feliks; Mendelsson-Bartholdy\, Felix; Mendelsohn-Bartholdy\, Felix; Bartholdy\, Felix Mendelssohn; Mendelssohn\, Felix; Mendelssohn\, F.; Mendelssohn-Bartholdy\, F.; Mendelssohn Batholdy\, Felix; Mendel'son\, Feliks; Mendel'son\, F.\, Am Karfreitag\nUm unsrer Sünden willen\nAm Karfreitage\nAm Charfreitage\nSprüche op. 79. Am Karfreitage\nSprüche op. 79\,6\nop. 79\, Nr. 6\nMWV B 52\, Mendelssohn-Bartholdy\, Felix; Mendelssohn-Bartholdi\, Felix; Mendelssohn Bartholdi; Mendelssohn-Bartholdy\, Felix; Mendelssohn B.\, Felix; Mendelssohn Bartholdy\, Jakob Ludwig Felix; Mendelssohn-Bartholdy\, Jakob Ludwig Felix; Mendelssohn-Bartholdy\, Jacob Ludwig Felix; Mendelssohn Bartholdy\, Felix Jakob; Mendelssohn\, Jakob Ludwig Felix; Mendelssohn Bartholdy\, F.; Mendelssohn Bartholdy; Mendelssohn-Bartholdy; Mendelssohn; F.; Mendelson-Bartoldi\, Feliks; Mendelʹson-Bartolʹdi\, Feliks; Mendelsson-Bartholdy\, Felix; Mendelsohn-Bartholdy\, Felix; Bartholdy\, Felix Mendelssohn; Mendelssohn\, Felix; Mendelssohn\, F.; Mendelssohn-Bartholdy\, F.; Mendelssohn Batholdy\, Felix; Mendel'son\, Feliks; Mendel'son\, F.\, \, Goudimel\, Cl.; Goudimel\, Claudio; Gaudimel\, Claude; Godimel\, Claude\, Pièces nouvelles\nPieces\, Orgel\, op. 90\nStücke\, Orgel\, op. 90\nStücke\, Org op. 90\, Guilmant\, F. Alexandre; Guilmant\, …; Guilmant\, Félix A.; Guilmant\, Alexander; Guilmant\, Félix Alexandre; Guilmant\, Félix-Alexandre; Guilmant\, F. A.\, Orgel-Büchlein. O Mensch\, bewein dein Sünde groß\nO Mensch\, bewein dein Sünde groß\nO Mensch\, bewein' dein' Sünde groß\nChoralbearbeitungen\, BWV 622\, Bach; Bach\, G. S.; Bach\, Iogann Sebastʹjan; Bach\, Joh. Sebastian; Bach\, Giov. Sebast.; Bach\, Jean Sebastien; Bach\, Jean Sebastian; Bach\, J. Seb.; Bach\, Sebastiano; Bach\, John Sebastian; Bach\, Iogann S.; Bach\, Iogann Sebast'jan; Bach\, Iogann Sebastian; Bach\, Giovanni Sebastian; Bach\, Johan Sebastian; Bach\, Joannes Sebastianus; Bach\, Giov. Seb.; Bach\, Giovanni S.; Bāḵ\, Jōhān Sebaṣtī'ān; Bach\, I. S.; Bach\, J.-S.; Bach\, Giovanni Sebastiano; Bach\, Jean-Sebastien; Bach\, Sebastian; Bach\, Jan Sebastian; Bach\, J. S.; Bach\, Johann-Sebastian; Bach\, Jean S.; Bach\, Johannes S.; Bach\, Johannes Sebastian; Bach\, Joh. Seb.; Bach\, Joh.-Seb.; Bach\, Joh. Sebas.; Bach\, Johann Seb.; Bach\, Joh. Sebast.; Bach\, Johann S.; Bach\, Iogann Sebastjan; Bach\, Jean Sébastien; Bach\, Jean-Sébastien; Bach\, Johann; Bakh\, Iogann Sebastian\,
URL:https://noonsong.de/en/event/noonsong-event-2021-03-20/
LOCATION:Kirche Am Hohenzollernplatz Berlin\, Nassauische Strasse 66\, Berlin\, Berlin\, 10717\, Deutschland
CATEGORIES:20th century,21. Jahrhundert,Audio,Baroque,Berlin,Choir,Church service,Church,Concert,Liturgy,NoonSong,PDF,Renaissance,Romantik,Video,Vowel
ATTACH;FMTTYPE=image/jpeg:https://noonsong.de/wp-content/uploads/2023/05/title-picture-for-noonsong-533.jpg
ORGANIZER;CN="NoonSong e.V.":MAILTO:contact@noonsong.de
END:VEVENT
END:VCALENDAR