BEGIN:VCALENDAR
VERSION:2.0
PRODID:-//NoonSong - ECPv6.15.20//NONSGML v1.0//EN
CALSCALE:GREGORIAN
METHOD:PUBLISH
X-WR-CALNAME:NoonSong
X-ORIGINAL-URL:https://noonsong.de/en/
X-WR-CALDESC:Events for NoonSong
REFRESH-INTERVAL;VALUE=DURATION:PT1H
X-Robots-Tag:noindex
X-PUBLISHED-TTL:PT1H
BEGIN:VTIMEZONE
TZID:Europe/Berlin
BEGIN:DAYLIGHT
TZOFFSETFROM:+0100
TZOFFSETTO:+0200
TZNAME:CEST
DTSTART:20210328T010000
END:DAYLIGHT
BEGIN:STANDARD
TZOFFSETFROM:+0200
TZOFFSETTO:+0100
TZNAME:CET
DTSTART:20211031T010000
END:STANDARD
BEGIN:DAYLIGHT
TZOFFSETFROM:+0100
TZOFFSETTO:+0200
TZNAME:CEST
DTSTART:20220327T010000
END:DAYLIGHT
BEGIN:STANDARD
TZOFFSETFROM:+0200
TZOFFSETTO:+0100
TZNAME:CET
DTSTART:20221030T010000
END:STANDARD
BEGIN:DAYLIGHT
TZOFFSETFROM:+0100
TZOFFSETTO:+0200
TZNAME:CEST
DTSTART:20230326T010000
END:DAYLIGHT
BEGIN:STANDARD
TZOFFSETFROM:+0200
TZOFFSETTO:+0100
TZNAME:CET
DTSTART:20231029T010000
END:STANDARD
END:VTIMEZONE
BEGIN:VEVENT
DTSTART;TZID=Europe/Berlin:20220813T120000
DTEND;TZID=Europe/Berlin:20220813T130000
DTSTAMP:20260419T141908
CREATED:20250707T193957Z
LAST-MODIFIED:20250707T193957Z
UID:41655-1660392000-1660395600@noonsong.de
SUMMARY:589. NoonSong am 13.08.2022 um 12:00
DESCRIPTION:Programme\n\n\n\n\nOrgan prelude: Robert Schumann (1810-1856): Skizze in C-Dur für den PedalflügelPreces: Simon Berg (*1973): Preces und Responses für vierstimmig gemischten Chor a cappellaPsalm of the day: Psalm 84: Johannes Brahms (1833-1897): Wie lieblich sind Deine Wohnungen aus "Ein deutsches Requiem" für vierstimmig gemischten Chor und KlavierPsalm of the week: Psalm 63\,1-4: Hans Leo Haßler (1564-1612): Deus\, deus meus für sechsstimmig gemischten Chor a cappellaResponsorium: gregorianisch\n\nCanticle: Ēriks Ešenvalds (*1977): Magnificat für achtstimmig gemischten Chor a cappella und Sopran-SoloHymn: Johann Sebastian Bach (1685-1750): Herzlich lieb hab ich Dich o Herr für vierstimmig gemischten Chor a cappellaOrgan postlude: Johannes Brahms (1833-1897): O Gott\, du frommer Gott (op. 122)Bible reading: Evangelium nach Matthäus 13\,44-46 \n\n\n\n\n\n\n\n\nLiturgy: 9. Sonntag nach Trinitatis\nPfarrer: Dr. Sebastian W. Stork\nOrganist: Mirlan Kasymaliev\nLocation: Kirche am Hohenzollernplatz\n\n\n\n\n\n\n\n\n\nListen\n\n\n\n\nHere you can listen to this NoonSong. If you’d like to listen to more NoonSongs recordings\, please register. \n\n\n	This content has been restricted to logged-in users only. Please log in to view this content.\n\n\n\n\n\n\n\n\n\nWatch\n\n\n\n\nExperience the recorded live-stream of this NoonSong. \n\n\n\n\n\nYou’ll find many selected video recordings of NoonSongs and other concerts on our YouTube channel.\n \n\n\n\n\n\n\n	This content has been restricted to logged-in users only. Please log in to view this content.\n\n\n\n\n\n\n\n\n\n\n\n\nProgramme PDF\n\n\n\n\nRead more about this NoonSong in the programme document. \n\n\n\n\n\n\n\n\n\n\n\n\nPDF DOWNLOAD\n\n\n\n\n\n\n\n\n\n\n\n\n\n\, \, \, \, Ein deutsches Requiem. Wie lieblich sind deine Wohnungen\nEin deutsches Requiem <Wie lieblich sind deine Wohnungen>\nWie lieblich sind deine Wohnungen\nEin deutsches Requiem nach Worten der Heiligen Schrift. Wie lieblich sind deine Wohnungen\nA German requiem. How lovely are thy dwellings\nop. 45\, Nr. 4\, Brahms; Brahms-Joachim\, Johannes; Brahms\, J.; Brahms\, Joh.; Brams\, Iogannes; Brahms\, Johs.; Brams\, I.; Marks\, G.W.\, \, Hassler\, Hans Leo; Hassler\, J. L.; Hasler\, Jean Leo; Hasler\, Hans Leo von; Hasler\, Giovan Leo; Hasler\, Ioannes Leo; Hasler\, L.; Hasler\, Hanns Leo; Hassler\, Hans L.; Hasler\, Hans L.; Hasler\, Joanne Leone; Hasler\, …; Hassler\, Johann Leo; Hasler\, Johann Leo; Hasler\, Hans Leo; Hasler\, Johannes Leo; Hasler\, J. L.; Haslerus\, Hans Leo; Hassler\, H. L.; Hassler\, Léo; Hassler\, Hans Leo; Haslero\, Joanne Leone\, \, Esenvalds\, Eriks \, Johannes-Passion BWV 245.40\, Bach; Bach\, G. S.; Bach\, Iogann Sebastʹjan; Bach\, Joh. Sebastian; Bach\, Giov. Sebast.; Bach\, Jean Sebastien; Bach\, Jean Sebastian; Bach\, J. Seb.; Bach\, Sebastiano; Bach\, John Sebastian; Bach\, Iogann S.; Bach\, Iogann Sebast'jan; Bach\, Iogann Sebastian; Bach\, Giovanni Sebastian; Bach\, Johan Sebastian; Bach\, Joannes Sebastianus; Bach\, Giov. Seb.; Bach\, Giovanni S.; Bāḵ\, Jōhān Sebaṣtī'ān; Bach\, I. S.; Bach\, J.-S.; Bach\, Giovanni Sebastiano; Bach\, Jean-Sebastien; Bach\, Sebastian; Bach\, Jan Sebastian; Bach\, J. S.; Bach\, Johann-Sebastian; Bach\, Jean S.; Bach\, Johannes S.; Bach\, Johannes Sebastian; Bach\, Joh. Seb.; Bach\, Joh.-Seb.; Bach\, Joh. Sebas.; Bach\, Johann Seb.; Bach\, Joh. Sebast.; Bach\, Johann S.; Bach\, Iogann Sebastjan; Bach\, Jean Sébastien; Bach\, Jean-Sébastien; Bach\, Johann; Bakh\, Iogann Sebastian\, Skizzen op. 58\nSkizzen für Pedalflügel\nPedalflügelstudien\, Schumann\, Robert Kurt; Schumann\, Rob.; Schumann\, R.; Schuman\, Robert; Schuhmann; Schumann\, Franz; Šuman\, Robert Aleksandr; Šuman\, Robert Aleksander; Šuman\, Robert; Ekert [Pseudonym]; Schumann; Šuman\, R.; Schumann\, Robert Alexander; Schumann\, Roberto; Shuman\, Robert\, Choralvorspiele\, op. 122. O Gott\, du frommer Gott\nO Gott\, du frommer Gott\nChoralvorspiele\, op. 122 <O Gott\, du frommer Gott>\nChoral-Vorspiele op. 122\, Nr. 7\, Brahms; Brahms-Joachim\, Johannes; Brahms\, J.; Brahms\, Joh.; Brams\, Iogannes; Brahms\, Johs.; Brams\, I.; Marks\, G.W.\,
URL:https://noonsong.de/en/event/noonsong-event-2022-08-13/
LOCATION:Kirche Am Hohenzollernplatz Berlin\, Nassauische Strasse 66\, Berlin\, Berlin\, 10717\, Deutschland
CATEGORIES:20th century,Audio,Baroque,Berlin,Choir,Church service,Church,Concert,Liturgy,NoonSong,PDF,Renaissance,Romantik,Video,Vowel
ATTACH;FMTTYPE=image/jpeg:https://noonsong.de/wp-content/uploads/2023/05/title-picture-for-noonsong-589.jpg
ORGANIZER;CN="NoonSong e.V.":MAILTO:contact@noonsong.de
END:VEVENT
END:VCALENDAR