BEGIN:VCALENDAR
VERSION:2.0
PRODID:-//NoonSong - ECPv6.15.20//NONSGML v1.0//EN
CALSCALE:GREGORIAN
METHOD:PUBLISH
X-WR-CALNAME:NoonSong
X-ORIGINAL-URL:https://noonsong.de/en/
X-WR-CALDESC:Events for NoonSong
REFRESH-INTERVAL;VALUE=DURATION:PT1H
X-Robots-Tag:noindex
X-PUBLISHED-TTL:PT1H
BEGIN:VTIMEZONE
TZID:Europe/Berlin
BEGIN:DAYLIGHT
TZOFFSETFROM:+0100
TZOFFSETTO:+0200
TZNAME:CEST
DTSTART:20220327T010000
END:DAYLIGHT
BEGIN:STANDARD
TZOFFSETFROM:+0200
TZOFFSETTO:+0100
TZNAME:CET
DTSTART:20221030T010000
END:STANDARD
BEGIN:DAYLIGHT
TZOFFSETFROM:+0100
TZOFFSETTO:+0200
TZNAME:CEST
DTSTART:20230326T010000
END:DAYLIGHT
BEGIN:STANDARD
TZOFFSETFROM:+0200
TZOFFSETTO:+0100
TZNAME:CET
DTSTART:20231029T010000
END:STANDARD
BEGIN:DAYLIGHT
TZOFFSETFROM:+0100
TZOFFSETTO:+0200
TZNAME:CEST
DTSTART:20240331T010000
END:DAYLIGHT
BEGIN:STANDARD
TZOFFSETFROM:+0200
TZOFFSETTO:+0100
TZNAME:CET
DTSTART:20241027T010000
END:STANDARD
END:VTIMEZONE
BEGIN:VEVENT
DTSTART;TZID=Europe/Berlin:20230304T120000
DTEND;TZID=Europe/Berlin:20230304T130000
DTSTAMP:20260419T155715
CREATED:20251218T020145Z
LAST-MODIFIED:20251218T020145Z
UID:41635-1677931200-1677934800@noonsong.de
SUMMARY:616. NoonSong am 04.03.2023 um 12:00
DESCRIPTION:Programme\n\n\n\n\nOrgan prelude: Carl Philipp Emanuel Bach (1714-1788): Fuge in d-Moll (H 372)Preces: Kenneth Leighton (1929-1988): Preces & Responses für vierstimmig gemischten Chor a cappellaPsalm of the day: Psalm 94: Christoph Ludwig Fehre (1718-1772): Ich hatte viel Bekümmernis für vierstimmig gemischten Chor a cappellaPsalm of the week: Psalm 25: Johann Kaspar Aiblinger (1779-1867): Ad te levavi für vierstimmig gemischten Chor a cappellaResponsorium: gregorianisch\n\nCanticle: Michael Haydn (1737-1806): Christus factus est für vierstimmig gemischten Chor a cappellaHymn: Johann Hermann Schein (1586-1630): Wenn wir in höchsten Nöten sein für vierstimmig gemischten Chor a cappellaOrgan postlude: Johann Sebastian Bach (1685-1750): Jesus Christus\, unser Heiland\, der von uns den Zorn Gottes wandt (BWV 688)Bible reading: Evangelium nach Johannes 3\,14-21 \n\n\n\n\n\n\n\n\nLiturgy: Reminiscere\nPfarrerin: Marita Lersner\nOrganist: Daniel Clark\nLocation: Kirche am Hohenzollernplatz\n\n\n\n\n\n\n\n\n\nListen\n\n\n\n\nHere you can listen to this NoonSong. If you’d like to listen to more NoonSongs recordings\, please register. \n\n\n	This content has been restricted to logged-in users only. Please log in to view this content.\n\n\n\n\n\n\n\n\n\nWatch\n\n\n\n\nExperience the recorded live-stream of this NoonSong. \n\n\n\n\n\nYou’ll find many selected video recordings of NoonSongs and other concerts on our YouTube channel.\n \n\n\n\n\n\n\n	This content has been restricted to logged-in users only. Please log in to view this content.\n\n\n\n\n\n\n\n\n\n\n\n\nProgramme PDF\n\n\n\n\nRead more about this NoonSong in the programme document. \n\n\n\n\n\n\n\n\n\n\n\n\nPDF DOWNLOAD\n\n\n\n\n\n\n\n\n\n\n\n\n\n\, \, \, \, Ich hatte viel Bekümmernis in meinem Herzen\, Fehrius; Fehre\, C.L.; Fehre\, Christian Ludwig\, \, Ayblinger\, …; Aiblinger\, Johann Caspar; Aiblinger\, Johann Casper; Aiblinger\, Johann Kasper; Aiblinger\, Kaspar; Aiblinger\, Johann K.; Aiblinger\, Johann C.; Aiblinger\, Caspar; Aiblinger\, Joh. K.; Aiblinger\, J. Caspar\, Christus factus est\, S 38\nGradualien\, S 38\, Haydn\, Johann Michael; Hayden\, Johann Michael; Hayden\, Ioannes Michael; Hayden\, Johannes Michael; Hayden\, M.; Haydn\, Michele; Haydn\, Johann Michael; Haydn\, Giovanni Michael; Haydn\, G. M.; Haydn\, Michel; Haydn\, G. Michael; Haydn\, M.; Haydn\, Giovanni Michael\, \, Schein\, Joh. Herm.; Schein\, Johan-Herman; Schein\, J. H.; Schein\, Johann H.; Schein\, Johann-Hermann; Scheinius\, Johann Hermannus; Schein\, Johan Herman; Schein\, Hermann; Schein\, Iohan-Hermanus; Schein\, Johan-Hermanus; Schein\, Johannes Hermann; Schein\, Johann Herman; Schein\, J.H.; Schein\, Joan-Herman\, Fuga in d-moll\, Bach\, Carl Philipp Emanuell; Bach\, Carl Philipp Emmanuel; Bach\, Carl Philip Emanuel; Bach\, Carl Ph. E.; Bach\, Carl P.; Bach\, C. F. Em.; Bach\, C. F. E.; Bach\, C. Ph. Em.; Bach\, C. Ph. E.; Bach\, Karl P.; Bach\, Philipp E.; Bach\, Ph. E.; Bach\, Ph. Eman.; Bach; Bah\, Karl Filip Emanuel; Bach\, Karl Philipp Emanvel; Bahha\, P. E.; Bach\, Carlo Filippo Emanuele; Bach\, C. P. E.; Bach\, Karl Philipp Emanuel; Bach\, Philipp Emanuel; Bach\, Emanuel; Bach\, Em.; Bach\, E.; Bach\, K. P. E.\, Choralbearbeitungen\, BWV 669-689. Jesus Christus\, unser Heiland\nJesus Christus unser Heiland\, BWV 688\nClavier Übung\, Teil 3. Jesus Christus\, unser Heiland\nChoralbearbeitungen\, Orgel\, BWV 688 (d-Moll)\, Bach; Bach\, G. S.; Bach\, Iogann Sebastʹjan; Bach\, Joh. Sebastian; Bach\, Giov. Sebast.; Bach\, Jean Sebastien; Bach\, Jean Sebastian; Bach\, J. Seb.; Bach\, Sebastiano; Bach\, John Sebastian; Bach\, Iogann S.; Bach\, Iogann Sebast'jan; Bach\, Iogann Sebastian; Bach\, Giovanni Sebastian; Bach\, Johan Sebastian; Bach\, Joannes Sebastianus; Bach\, Giov. Seb.; Bach\, Giovanni S.; Bāḵ\, Jōhān Sebaṣtī'ān; Bach\, I. S.; Bach\, J.-S.; Bach\, Giovanni Sebastiano; Bach\, Jean-Sebastien; Bach\, Sebastian; Bach\, Jan Sebastian; Bach\, J. S.; Bach\, Johann-Sebastian; Bach\, Jean S.; Bach\, Johannes S.; Bach\, Johannes Sebastian; Bach\, Joh. Seb.; Bach\, Joh.-Seb.; Bach\, Joh. Sebas.; Bach\, Johann Seb.; Bach\, Joh. Sebast.; Bach\, Johann S.; Bach\, Iogann Sebastjan; Bach\, Jean Sébastien; Bach\, Jean-Sébastien; Bach\, Johann; Bakh\, Iogann Sebastian\,
URL:https://noonsong.de/en/event/noonsong-event-2023-03-04/
LOCATION:Kirche Am Hohenzollernplatz Berlin\, Nassauische Strasse 66\, Berlin\, Berlin\, 10717\, Deutschland
CATEGORIES:20th century,Audio,Baroque,Berlin,Choir,Church service,Church,Klassik,Concert,Liturgy,NoonSong,PDF,Video,Vowel
ATTACH;FMTTYPE=image/jpeg:https://noonsong.de/wp-content/uploads/2023/05/title-picture-for-noonsong-616.jpg
ORGANIZER;CN="NoonSong e.V.":MAILTO:contact@noonsong.de
END:VEVENT
END:VCALENDAR