BEGIN:VCALENDAR
VERSION:2.0
PRODID:-//NoonSong - ECPv6.15.20//NONSGML v1.0//EN
CALSCALE:GREGORIAN
METHOD:PUBLISH
X-WR-CALNAME:NoonSong
X-ORIGINAL-URL:https://noonsong.de/en/
X-WR-CALDESC:Events for NoonSong
REFRESH-INTERVAL;VALUE=DURATION:PT1H
X-Robots-Tag:noindex
X-PUBLISHED-TTL:PT1H
BEGIN:VTIMEZONE
TZID:Europe/Berlin
BEGIN:DAYLIGHT
TZOFFSETFROM:+0100
TZOFFSETTO:+0200
TZNAME:CEST
DTSTART:20230326T010000
END:DAYLIGHT
BEGIN:STANDARD
TZOFFSETFROM:+0200
TZOFFSETTO:+0100
TZNAME:CET
DTSTART:20231029T010000
END:STANDARD
BEGIN:DAYLIGHT
TZOFFSETFROM:+0100
TZOFFSETTO:+0200
TZNAME:CEST
DTSTART:20240331T010000
END:DAYLIGHT
BEGIN:STANDARD
TZOFFSETFROM:+0200
TZOFFSETTO:+0100
TZNAME:CET
DTSTART:20241027T010000
END:STANDARD
BEGIN:DAYLIGHT
TZOFFSETFROM:+0100
TZOFFSETTO:+0200
TZNAME:CEST
DTSTART:20250330T010000
END:DAYLIGHT
BEGIN:STANDARD
TZOFFSETFROM:+0200
TZOFFSETTO:+0100
TZNAME:CET
DTSTART:20251026T010000
END:STANDARD
END:VTIMEZONE
BEGIN:VEVENT
DTSTART;TZID=Europe/Berlin:20240127T120000
DTEND;TZID=Europe/Berlin:20240127T130000
DTSTAMP:20260419T173436
CREATED:20250707T194126Z
LAST-MODIFIED:20250707T194126Z
UID:44086-1706356800-1706360400@noonsong.de
SUMMARY:656. NoonSong am 27.01.2024 um 12:00 erstmals im NoonSong: Musik\, Mozart zugeschrieben
DESCRIPTION:Programme\n\n\n\n\nOrgan prelude: Thomas James Crawford (1877-1955): Before a Hero's Memorial" aus Suite "In a great cathedral"Preces: Bernard Rose (1916-1996): Preces & Responses für vierstimmig gemischten Chor a cappellaPsalm of the day: Psalm 100: Wolfgang Amadeus Mozart (1756-1791): Jubilate Deo für vierstimmig gemischten Chor a cappellaPsalm of the week: Psalm 97: Otto Nicolai (1810-1849): Der Herr ist König für vier- bis achtstimmigen Chor a cappellaResponsorium: gregorianisch\n\nCanticle: Heinrich Schütz (1585-1672): Das Wort ward Fleisch für sechsstimmig gemischten ChorHymn: Johann Rudolf Ahle (1625-1673): Morgenglanz der Ewigkeit für vierstimmig gemischten Chor a cappellaOrgan postlude: Johann Sebastian Bach (1685-1750): Schafe können sicher weiden (BWV 208)Bible reading: Evangelium nach Matthäus 17\,1-9 \n\n\n\n\n\n\n\n\nLiturgy: Letzter Sonntag nach Epiphanias\nPfarrer: Martin Germer\nOrganist: Vladimir Magalashvili\nLocation: Kirche am Hohenzollernplatz\n\n\n\n\n\n\n\n\n\nListen\n\n\n\n\nHere you can listen to this NoonSong. If you’d like to listen to more NoonSongs recordings\, please register. \n\n\n	This content has been restricted to logged-in users only. Please log in to view this content.\n\n\n\n\n\n\n\n\n\nWatch\n\n\n\n\nExperience the recorded live-stream of this NoonSong. \n\n\n\n\n\nYou’ll find many selected video recordings of NoonSongs and other concerts on our YouTube channel.\n \n\n\n\n\n\n\n	This content has been restricted to logged-in users only. Please log in to view this content.\n\n\n\n\n\n\n\n\n\n\n\n\nProgramme PDF\n\n\n\n\nRead more about this NoonSong in the programme document. \n\n\n\n\n\n\n\n\n\n\n\n\nPDF DOWNLOAD\n\n\n\n\n\n\n\n\n\n\n\n\n\n\, \, \, Rose\, Bernard George Williams\, \, Mozart\, Wolfgang Amadeus\, 1756-1791; Mocart\, Volfgang Amadeus; Mocʹarti\, Wolpʹgang Amadei; Mozart\, Wolffgango; Mozart\, Wolfg. Amadeus; Mocart\, V. A.; Mocart\, V.; Mozart\, Wolfgang-Amadeus; Mozart\, A. W.; Mozart\, W. Am.; Mocart\, Volʹfgang Amadej (Sowj. Enz.); Mūzār\, Wulfgāng Āmādiūs; Mozart\, Wolfgang; Mozzart\, Wolfgang; Mōtsaruto; Mozart\, Johann Chrysostomus Wolfgang Theophil; Mozart\, Johannes C.; Mozart\, Johannes Chrysostomus Wolfgangus Theophil; Mozart\, Joannes Chrysostomus Wolfgangus Theophil; Mozart; Mozart\, Wolfgang G.; Mozart\, Wolfgango Amedeo; Mozartus\, Wolfgang A.; Mozzart\, Wolfgango; Mozart\, Wolfgang A.; Mozart\, Johannes Chrysostomus Wolfgang Gottlieb; Mozart\, Johannes Chrysostomus Wolfgangus Theophilus; Mozart\, W. A.; Mozart\, Wolfgang Amadé; Mozart\, Johannes Chrisostomus Wolfgangus Theophilus; Mozart\, Johann Chrysostom Wolfgang Amadeus; Mozart\, Joannes Chrysostomus Wolfgangus Amadeus; Mozard\, Der 97. Psalm\nPsalm 97\nPsalmen 97\nDer Herr ist König\, Nicolaj\, Ottone; Niccolai\, Ottone; Nicolai\, O.; Nicolaj\, O.; Nicolai\, Ottone; Nikolai\, Otto; Nicolai\, Carl Otto Ehrenfried; Nicolai\, Karl Otto Ehrenfried\, Geistliche Chor-Music. Das Wort ward Fleisch\nGeistliche Chormusik <Das Wort ward Fleisch> \nDas Wort ward Fleisch\nDas Wort ward Fleisch und wohnet unter uns\nGeistliche Chormusik. Das Wort ward Fleisch\nThe word was man\nSWV 385\, Schütz\, Hinrich; Schütz\, Henricus; Schütz\, Heinrico; Schütz\, H.; Schütze\, Henrich; Schütze\, Heinrich; Schuetz\, Heinrich; Schutz\, Heinrich; Schuetz von Pfeilstadt\, Henri; Schüzzius\, Heinricus; Schüzze\, Heinrich; Schüz\, Heinrich; Schüz\, Henricus; Schützius\, Henricus; Schützen\, Heinrich; Schützen\, Henrich; Schütz\, Henrich; Schütz; Sagittarius\, Heinricus; Sagittario\, Henrico; Sagittarius\, Henricus; Sagittarius\, Heinricus\,; Sagitarius\, Henricus; Saettario\, Enrico; Šjutc\, Genrich\, \, Ahlenius\, Johann Rudolf; Ahle\, J. Rudolph; Ahle\, Rudolf; Ahle\, Johann Rudolf; Ahle\, Johann R.; Ahle\, Johann Rudolff; Ahle\, Rudolph\, \, Crawford\, T. J.; Crawford\, Thomas James\, Was mir behagt\, ist nur die muntre Jagd\, BWV 208. Schafe können sicher weiden\nKantaten\, BWV 208. Schafe können sicher weiden\nWas mir behagt\, ist nur die muntre Jagd\, BWV 208. Satz 9\, Aria\nSchafe können sicher weiden\nSchafe können sicher weiden\, wo ein guter Hirte wacht\nSheep may safely graze\nSchafe mögen sicher weiden\nKantaten BWV 208. Schafe können sicher weiden\nKantaten\, BWV 208 <Schafe können sicher weiden>\, Bach; Bach\, G. S.; Bach\, Iogann Sebastʹjan; Bach\, Joh. Sebastian; Bach\, Giov. Sebast.; Bach\, Jean Sebastien; Bach\, Jean Sebastian; Bach\, J. Seb.; Bach\, Sebastiano; Bach\, John Sebastian; Bach\, Iogann S.; Bach\, Iogann Sebast'jan; Bach\, Iogann Sebastian; Bach\, Giovanni Sebastian; Bach\, Johan Sebastian; Bach\, Joannes Sebastianus; Bach\, Giov. Seb.; Bach\, Giovanni S.; Bāḵ\, Jōhān Sebaṣtī'ān; Bach\, I. S.; Bach\, J.-S.; Bach\, Giovanni Sebastiano; Bach\, Jean-Sebastien; Bach\, Sebastian; Bach\, Jan Sebastian; Bach\, J. S.; Bach\, Johann-Sebastian; Bach\, Jean S.; Bach\, Johannes S.; Bach\, Johannes Sebastian; Bach\, Joh. Seb.; Bach\, Joh.-Seb.; Bach\, Joh. Sebas.; Bach\, Johann Seb.; Bach\, Joh. Sebast.; Bach\, Johann S.; Bach\, Iogann Sebastjan; Bach\, Jean Sébastien; Bach\, Jean-Sébastien; Bach\, Johann; Bakh\, Iogann Sebastian\,
URL:https://noonsong.de/en/event/noonsong-event-2024-01-27/
LOCATION:Kirche Am Hohenzollernplatz Berlin\, Nassauische Strasse 66\, Berlin\, Berlin\, 10717\, Deutschland
CATEGORIES:20th century,Audio,Baroque,Berlin,Choir,Church service,Church,Klassik,Concert,Liturgy,NoonSong,PDF,Romantik,Video,Vowel
ATTACH;FMTTYPE=image/jpeg:https://noonsong.de/wp-content/uploads/2024/01/title-picture-for-noonsong-656.jpg
ORGANIZER;CN="NoonSong e.V.":MAILTO:contact@noonsong.de
END:VEVENT
END:VCALENDAR