BEGIN:VCALENDAR
VERSION:2.0
PRODID:-//NoonSong - ECPv6.15.20//NONSGML v1.0//EN
CALSCALE:GREGORIAN
METHOD:PUBLISH
X-WR-CALNAME:NoonSong
X-ORIGINAL-URL:https://noonsong.de/en/
X-WR-CALDESC:Events for NoonSong
REFRESH-INTERVAL;VALUE=DURATION:PT1H
X-Robots-Tag:noindex
X-PUBLISHED-TTL:PT1H
BEGIN:VTIMEZONE
TZID:Europe/Berlin
BEGIN:DAYLIGHT
TZOFFSETFROM:+0100
TZOFFSETTO:+0200
TZNAME:CEST
DTSTART:20230326T010000
END:DAYLIGHT
BEGIN:STANDARD
TZOFFSETFROM:+0200
TZOFFSETTO:+0100
TZNAME:CET
DTSTART:20231029T010000
END:STANDARD
BEGIN:DAYLIGHT
TZOFFSETFROM:+0100
TZOFFSETTO:+0200
TZNAME:CEST
DTSTART:20240331T010000
END:DAYLIGHT
BEGIN:STANDARD
TZOFFSETFROM:+0200
TZOFFSETTO:+0100
TZNAME:CET
DTSTART:20241027T010000
END:STANDARD
BEGIN:DAYLIGHT
TZOFFSETFROM:+0100
TZOFFSETTO:+0200
TZNAME:CEST
DTSTART:20250330T010000
END:DAYLIGHT
BEGIN:STANDARD
TZOFFSETFROM:+0200
TZOFFSETTO:+0100
TZNAME:CET
DTSTART:20251026T010000
END:STANDARD
END:VTIMEZONE
BEGIN:VEVENT
DTSTART;TZID=Europe/Berlin:20240302T120000
DTEND;TZID=Europe/Berlin:20240302T130000
DTSTAMP:20260419T155714
CREATED:20250707T193552Z
LAST-MODIFIED:20250707T193552Z
UID:44135-1709380800-1709384400@noonsong.de
SUMMARY:661. NoonSong am 02.03.2024 um 12:00 Perlen romantischer Chormusik
DESCRIPTION:Programme\n\n\n\n\nOrgan prelude: Samuel Sebastian Wesley (1810-1876): Andante in GPreces: Thomas Tallis (ca. 1505-1585): Preces & Responses für fünfstimmig gemischten Chor a cappellaPsalm of the day: Psalm 141: Moritz Brosig (1815-1887): Dirigatur oratio mea für vierstimmig gemischten Chor a cappellaPsalm of the week: Psalm 34b: Samuel Sebastian Wesley (1810-1876): The Face of the Lord für achtstimmig gemischten Chor und OrgelResponsorium: gregorianisch\n\nCanticle: Anton Bruckner (1824-1896): Christus factus est obediens (d-Moll) für vier- bis achtstimmigen Chor a cappellaHymn: Adam Drese (1620-1701): Jesu geh voran für vierstimmig gemischten Chor a cappellaOrgan postlude: Johann Sebastian Bach (1685-1750): Fuge g-Moll (BWV 578)Bible reading: Evangelium nach Lukas 9\,57-62 \n\n\n\n\n\n\n\n\nLiturgy: Okuli\nPfarrer: Martin Germer\nOrganist: Daniel Clark\nLocation: Kirche am Hohenzollernplatz\n\n\n\n\n\n\n\n\n\nListen\n\n\n\n\nHere you can listen to this NoonSong. If you’d like to listen to more NoonSongs recordings\, please register. \n\n\n	This content has been restricted to logged-in users only. Please log in to view this content.\n\n\n\n\n\n\n\n\n\nWatch\n\n\n\n\nExperience the recorded live-stream of this NoonSong. \n\n\n\n\n\nYou’ll find many selected video recordings of NoonSongs and other concerts on our YouTube channel.\n \n\n\n\n\n\n\n	This content has been restricted to logged-in users only. Please log in to view this content.\n\n\n\n\n\n\n\n\n\n\n\n\nProgramme PDF\n\n\n\n\nRead more about this NoonSong in the programme document. \n\n\n\n\n\n\n\n\n\n\n\n\nPDF DOWNLOAD\n\n\n\n\n\n\n\n\n\n\n\n\n\n\, \, \, Tallys\, T.; Tallys\, Thomas; Talys\, Thomas; Talles\, Thomas \, \, \, \, \, Christus factus est G 11\nWAB 11\, Bruckner\, A.; Brukner\, Anton; Bruckner\, …; Bruckner\, Joseph Anton; Bruckner\, Josef Anton; Burukkunā\, Anton\, \, Dreße\, Adam; Dresen\, Ad.; Drese\, Adam II.\, Andantes\, Orgel (G-Dur)\, \, Fugen\, Orgel\, BWV 578 (g-Moll)\nFuge in g\nKleine Fuge\nFugen\, Org\, BWV 578\nFugen\, Org BWV 578\nFuga in g (BWV 578)\, Bach; Bach\, G. S.; Bach\, Iogann Sebastʹjan; Bach\, Joh. Sebastian; Bach\, Giov. Sebast.; Bach\, Jean Sebastien; Bach\, Jean Sebastian; Bach\, J. Seb.; Bach\, Sebastiano; Bach\, John Sebastian; Bach\, Iogann S.; Bach\, Iogann Sebast'jan; Bach\, Iogann Sebastian; Bach\, Giovanni Sebastian; Bach\, Johan Sebastian; Bach\, Joannes Sebastianus; Bach\, Giov. Seb.; Bach\, Giovanni S.; Bāḵ\, Jōhān Sebaṣtī'ān; Bach\, I. S.; Bach\, J.-S.; Bach\, Giovanni Sebastiano; Bach\, Jean-Sebastien; Bach\, Sebastian; Bach\, Jan Sebastian; Bach\, J. S.; Bach\, Johann-Sebastian; Bach\, Jean S.; Bach\, Johannes S.; Bach\, Johannes Sebastian; Bach\, Joh. Seb.; Bach\, Joh.-Seb.; Bach\, Joh. Sebas.; Bach\, Johann Seb.; Bach\, Joh. Sebast.; Bach\, Johann S.; Bach\, Iogann Sebastjan; Bach\, Jean Sébastien; Bach\, Jean-Sébastien; Bach\, Johann; Bakh\, Iogann Sebastian\,
URL:https://noonsong.de/en/event/noonsong-event-2024-03-02/
LOCATION:Kirche Am Hohenzollernplatz Berlin\, Nassauische Strasse 66\, Berlin\, Berlin\, 10717\, Deutschland
CATEGORIES:Audio,Baroque,Berlin,Choir,Church service,Church,Concert,Liturgy,NoonSong,PDF,Renaissance,Romantik,Video,Vowel
ATTACH;FMTTYPE=image/jpeg:https://noonsong.de/wp-content/uploads/2024/01/title-picture-for-noonsong-661.jpg
ORGANIZER;CN="NoonSong e.V.":MAILTO:contact@noonsong.de
END:VEVENT
END:VCALENDAR