BEGIN:VCALENDAR
VERSION:2.0
PRODID:-//NoonSong - ECPv6.15.20//NONSGML v1.0//EN
CALSCALE:GREGORIAN
METHOD:PUBLISH
X-WR-CALNAME:NoonSong
X-ORIGINAL-URL:https://noonsong.de/en/
X-WR-CALDESC:Events for NoonSong
REFRESH-INTERVAL;VALUE=DURATION:PT1H
X-Robots-Tag:noindex
X-PUBLISHED-TTL:PT1H
BEGIN:VTIMEZONE
TZID:Europe/Berlin
BEGIN:DAYLIGHT
TZOFFSETFROM:+0100
TZOFFSETTO:+0200
TZNAME:CEST
DTSTART:20230326T010000
END:DAYLIGHT
BEGIN:STANDARD
TZOFFSETFROM:+0200
TZOFFSETTO:+0100
TZNAME:CET
DTSTART:20231029T010000
END:STANDARD
BEGIN:DAYLIGHT
TZOFFSETFROM:+0100
TZOFFSETTO:+0200
TZNAME:CEST
DTSTART:20240331T010000
END:DAYLIGHT
BEGIN:STANDARD
TZOFFSETFROM:+0200
TZOFFSETTO:+0100
TZNAME:CET
DTSTART:20241027T010000
END:STANDARD
BEGIN:DAYLIGHT
TZOFFSETFROM:+0100
TZOFFSETTO:+0200
TZNAME:CEST
DTSTART:20250330T010000
END:DAYLIGHT
BEGIN:STANDARD
TZOFFSETFROM:+0200
TZOFFSETTO:+0100
TZNAME:CET
DTSTART:20251026T010000
END:STANDARD
END:VTIMEZONE
BEGIN:VEVENT
DTSTART;TZID=Europe/Berlin:20240323T120000
DTEND;TZID=Europe/Berlin:20240323T130000
DTSTAMP:20260424T212430
CREATED:20250707T194346Z
LAST-MODIFIED:20250707T194346Z
UID:44138-1711195200-1711198800@noonsong.de
SUMMARY:664. NoonSong am 23.03.2024 um 12:00 mit der Johannes-Passion von Arvo Pärt
DESCRIPTION:Programme\n\n\n\n\nOrgan prelude: Johann Pachelbel (1653-1706): Toccata in d-MollPreces: Duncan Faulkner (*1951): Preces & Responses für vierstimmig gemischten Chor a cappellaResponsorium: gregorianisch\n\nOrgan postlude: Johann Pachelbel (1653-1706): Fuga in d-Moll (P154)Arvo Pärt (*1935): Passio Domini nostri Jesu Christi secundum Joannem für Soli\, gemischten Chor (SATB)\, Oboe\, Fagott\, Violine\, Violoncello und Orgel \n\n\n\n\n\n\n\n\nLiturgy: Palmarum\nPfarrerin: Anna Kim-Chi Nguyen-Huu\nOrganist: Daniel Clark\nLocation: Kirche am Hohenzollernplatz\n\n\n\n\n\n\n\n\n\nListen\n\n\n\n\nHere you can listen to this NoonSong. If you’d like to listen to more NoonSongs recordings\, please register. \n\n\n	This content has been restricted to logged-in users only. Please log in to view this content.\n\n\n\n\n\n\n\n\n\nWatch\n\n\n\n\nExperience the recorded live-stream of this NoonSong. \n\n\n\n\n\nYou’ll find many selected video recordings of NoonSongs and other concerts on our YouTube channel.\n \n\n\n\n\n\n\n	This content has been restricted to logged-in users only. Please log in to view this content.\n\n\n\n\n\n\n\n\n\n\n\n\nProgramme PDF\n\n\n\n\nRead more about this NoonSong in the programme document. \n\n\n\n\n\n\n\n\n\n\n\n\nPDF DOWNLOAD\n\n\n\n\n\n\n\n\n\n\n\n\n\n\, \, \, Pachelbel; Pachelbel\, J.; Bachelbel\, Johann; Pachelbel\, Joannes; Pachelbel\, Johann Christoph; Pachelbel\, Johannes\, Fugen\, Orgel (d-Moll)\nP 154\n\, Pachelbel; Pachelbel\, J.; Bachelbel\, Johann; Pachelbel\, Joannes; Pachelbel\, Johann Christoph; Pachelbel\, Johannes\, Passio Domini nostri Jesu Christi secundum Ioannem\nJohannespassion\nSt. John passion\nThe passion of our Lord Jesus Christ according to John\, Pärt\, …; Pjart\, Arwo Augustowitsch; Pjart\, Arvo A.; Pyart\, Arvo; Pjart\, Arvo; Pjarts\, Arvo; Pärt\, A.\,
URL:https://noonsong.de/en/event/noonsong-event-2024-03-23/
LOCATION:Kirche Am Hohenzollernplatz Berlin\, Nassauische Strasse 66\, Berlin\, Berlin\, 10717\, Deutschland
CATEGORIES:20th century,Audio,Baroque,Berlin,Choir,Church service,Church,Concert,Liturgy,NoonSong,PDF,Video,Vowel
ATTACH;FMTTYPE=image/jpeg:https://noonsong.de/wp-content/uploads/2024/01/title-picture-for-noonsong-664.jpg
ORGANIZER;CN="NoonSong e.V.":MAILTO:contact@noonsong.de
END:VEVENT
END:VCALENDAR