BEGIN:VCALENDAR
VERSION:2.0
PRODID:-//NoonSong - ECPv6.15.20//NONSGML v1.0//EN
CALSCALE:GREGORIAN
METHOD:PUBLISH
X-WR-CALNAME:NoonSong
X-ORIGINAL-URL:https://noonsong.de/en/
X-WR-CALDESC:Events for NoonSong
REFRESH-INTERVAL;VALUE=DURATION:PT1H
X-Robots-Tag:noindex
X-PUBLISHED-TTL:PT1H
BEGIN:VTIMEZONE
TZID:Europe/Berlin
BEGIN:DAYLIGHT
TZOFFSETFROM:+0100
TZOFFSETTO:+0200
TZNAME:CEST
DTSTART:20230326T010000
END:DAYLIGHT
BEGIN:STANDARD
TZOFFSETFROM:+0200
TZOFFSETTO:+0100
TZNAME:CET
DTSTART:20231029T010000
END:STANDARD
BEGIN:DAYLIGHT
TZOFFSETFROM:+0100
TZOFFSETTO:+0200
TZNAME:CEST
DTSTART:20240331T010000
END:DAYLIGHT
BEGIN:STANDARD
TZOFFSETFROM:+0200
TZOFFSETTO:+0100
TZNAME:CET
DTSTART:20241027T010000
END:STANDARD
BEGIN:DAYLIGHT
TZOFFSETFROM:+0100
TZOFFSETTO:+0200
TZNAME:CEST
DTSTART:20250330T010000
END:DAYLIGHT
BEGIN:STANDARD
TZOFFSETFROM:+0200
TZOFFSETTO:+0100
TZNAME:CET
DTSTART:20251026T010000
END:STANDARD
END:VTIMEZONE
BEGIN:VEVENT
DTSTART;TZID=Europe/Berlin:20241221T120000
DTEND;TZID=Europe/Berlin:20241221T130000
DTSTAMP:20260424T074118
CREATED:20250707T194426Z
LAST-MODIFIED:20250707T194426Z
UID:55124-1734782400-1734786000@noonsong.de
SUMMARY:697. NoonSong am 21.12.2024 um 12:00 Die neun festlichen Lieder und Lesungen zum Advent
DESCRIPTION:Programme\n\n\n\n\nOrgan prelude: Camille Saint-Saëns (1835-1921): Präludium und Fuge Es Dur (op. 99\, Nr. 3): PräludiumResponsorium: gregorianisch\n\nOrgan postlude: Garth Edmundson (1892-1971): Toccata über “Vom Himmel hoch”Georg Friedrich Händel (1685-1759): Tochter Zion\, freue dich für vierstimmig gemischten Chor a cappellaMoritz Hauptmann (1792-1868): Macht hoch die Tür für vierstimmig gemischten Chor a cappellaWinnie Brückner (*1979): Rosu dejte für achtstimmig gemischten Chor a cappellaMichael Praetorius (1571-1621): Es ist ein Ros entsprungen für vierstimmig gemischten Chor a cappellaRalph Vaughan Williams (1872-1958): O Bethlehem\, du kleine Stadt für vierstimmig gemischten Chor a cappellaGustav Nordqvist (1886-1949): Jul\, jul\, stralande jul für vierstimmig gemischten Chor a cappellaJohann Sebastian Bach (1685-1750): Gelobet seist du\, Jesu Christ für vierstimmig gemischten Chor a cappellaAnton Bruckner (1824-1896): Ave Maria für siebenstimmig gemischten Chor a cappellaFranz Lerndorfer (1928-2013): Zu Bethlehem geboren für vierstimmig gemischten Chor a cappellaGustav Holst (1874-1934): In the bleak midwinter für vierstimmig gemischten Chor a cappellaCarl Thiel (1862-1939): Herbei\, o ihr Gläub‘gen für vierstimmig gemischten Chor a cappellaHermann Riedel (1847-1913): O du fröhliche\, o du selige für vierstimmig gemischten Chor a cappella \n\n\n\n\n\n\n\n\nLiturgy: 4. Sonntag im Advent\n\nOrganist: Daniel Clark\nLocation: Kirche am Hohenzollernplatz\n\n\n\n\n\n\n\n\n\nListen\n\n\n\n\nHere you can listen to this NoonSong. If you’d like to listen to more NoonSongs recordings\, please register. \n\n\n	This content has been restricted to logged-in users only. Please log in to view this content.\n\n\n\n\n\n\n\n\n\nProgramme PDF\n\n\n\n\nRead more about this NoonSong in the programme document. \n\n\n\n\n\n\n\n\n\n\n\n\nPDF DOWNLOAD\n\n\n\n\n\n\n\n\n\n\n\n\n\nPréludes et fugues\, Orgel\, R 94. Nr. 3\nPräludien und Fugen\, Org op. 99 <Präludium und Fuge Nr. 3>\nPräludium Es-Dur\, Saint-Saens\, Camille; Saint-Saëns\, Charles Camille; Saëns\, Camille Saint; Saint-Saens\, Camillo; Saint-Saens\, Camilo; Saint-Saëns\, Charles-Camille; Saint-Saëns\, Charles Camile; Saint-Saëns\, Charles Camille de; Saint-Saëns\, C.; Saint-Saëns; Sain-Saëns\, Charles C.; Saint Saëns\, Charles-Camille; Saëns\, Charles-Camille Saint-; Sain-Sans\, Kamil; San-Sānsu; Sen-Sans\, K.; Sen-Sans\, Kamilʹ; Sen-Sans\, Šarlʹ Kamilʹ; Saint-Sants\, Camille; Saint-Saëns\, Camille; Saint-Saëns\, Charles-Camille; Saint-Saëns\, Charles Camille\, \, \, \, 	; Handel\, George Frideric; Händel\, Georg-Friedrich; Händel\, Georg Friederich; Händel\, Georg Fr.; Händel\, Georg F.; Händel\, George Friedrich; Händel\, George Frideric; Händel\, George F.; Händel\, G. Friedrich; Händel\, G. Fr.; Händel\, G. F.; Händel\, G.F.; Hændel\, G.-F.; Händel; Händel\, C. F.; Händel\, C.F.; Händel\, Friedrich G.; Händel\, F. G.; Händel\, F.G.; Händel\, H.; Händl\, F. G.; Händl\, F.G.; Händl\, Georg Friedrich; Haendel\, Georg Friedrich; Haendel\, Georg-Friedrich; Haendel; Händle\, Georg Friedrich; Handel\, Georg Friedrich; Handel\, Georg Frederic; Handel\, Georg Frideric; Handel\, Georg F.; Handel\, George Friedrich; Handel\, George Friderick; Handel\, George Frideric; Handel\, George Fridric; Handel\, George Frederick; Handel\, George Frederic; Handel\, George F.; Handel\, Georgio Fredrico; Handel\, Georgio F.; Handel\, Giorgio Federico; Handel\, Goerg Friedrich; Handel\, G. F.; Handel\, G.F.; Handel; Handell; Hendel\, Georg Friedrich; Hendel\, George Friederich; Hendel\, Giorgio-Federico; Hendel; Hendeli\, Georg Pʹridrix; Häddelischen\, Motetten op. 40. Macht hoch die Tür (R:EST vor RAK-M 2003)\nMacht hoch die Tür die Tor' macht weit\nMacht hoch die Tür\, Hauptmann\, M.\, \, \, Musae Sioniae\, Theil 6. Es ist ein Ros' entsprungen\nMusae Sioniae …\, Theil 6. Es ist ein Ros' entsprungen\nEs ist ein Ros' entsprungen\nBehold! A rose ist growing\nMusae Sioniae …\, Theil 6<Es ist ein Ros' entsprungen>\nMusae Sioniae\, Teil 6. Es ist ein Ros' entsprungen\, Praetorius\, M.; Praetorius; Praetorij\, Michaëlis; Prätorius\, Michael; Prätorius\, Mich.; Schultheiß\, Michael; Schultheiss\, Michael\, \, Vaughan Williams\, Ralph; Williams\, Ralph V.; Vaughan Williams\, R.; Williams\, R. Vaughan; Williams\, Ralph Vaughan (B Riemann); Vaughan-Williams\, Ralph; Vaughan Williams\, …; Williams\, R. V.; Vaughan\, Ralph; Williams\, Vaughan; Vaughn Williams\, Ralph; William\, R. Vaughan; Vaughan\, Williams\, Jul\, jul\, strålande jul\nWeihnacht\, strahlende Zeit\, Nordqvist\, Gustav Lazarus\, \, Bach; Bach\, G. S.; Bach\, Iogann Sebastʹjan; Bach\, Joh. Sebastian; Bach\, Giov. Sebast.; Bach\, Jean Sebastien; Bach\, Jean Sebastian; Bach\, J. Seb.; Bach\, Sebastiano; Bach\, John Sebastian; Bach\, Iogann S.; Bach\, Iogann Sebast'jan; Bach\, Iogann Sebastian; Bach\, Giovanni Sebastian; Bach\, Johan Sebastian; Bach\, Joannes Sebastianus; Bach\, Giov. Seb.; Bach\, Giovanni S.; Bāḵ\, Jōhān Sebaṣtī'ān; Bach\, I. S.; Bach\, J.-S.; Bach\, Giovanni Sebastiano; Bach\, Jean-Sebastien; Bach\, Sebastian; Bach\, Jan Sebastian; Bach\, J. S.; Bach\, Johann-Sebastian; Bach\, Jean S.; Bach\, Johannes S.; Bach\, Johannes Sebastian; Bach\, Joh. Seb.; Bach\, Joh.-Seb.; Bach\, Joh. Sebas.; Bach\, Johann Seb.; Bach\, Joh. Sebast.; Bach\, Johann S.; Bach\, Iogann Sebastjan; Bach\, Jean Sébastien; Bach\, Jean-Sébastien; Bach\, Johann; Bakh\, Iogann Sebastian\, Ave Maria\, WAB 6 (F-Dur)\nAve Maria\, WAB 6\, Bruckner\, A.; Brukner\, Anton; Bruckner\, …; Bruckner\, Joseph Anton; Bruckner\, Josef Anton; Burukkunā\, Anton\, \, \, Hymns for the English hymnal. In the bleak mid-winter\nIn the bleak mid-winter\nEines Nachts im Winter\nH 73 1\, Holst\, Gustav\, 1874-1934; Holst\, Gustav Theodor; Holst\, Gustavus Theodore von; Holst\, Gustav Theodore von; Holst\, Gustav Th.; Holst\, G. T.; Holst\, Gustav T.; Von Holst\, Gustav; Holst\, Gustav von; Von Holst\, Gustavus Theodore\, \, Thiel\, Karl; Thiel\, Carl Josef\, \, \,
URL:https://noonsong.de/en/event/noonsong-event-2024-12-21/
LOCATION:Kirche Am Hohenzollernplatz Berlin\, Nassauische Strasse 66\, Berlin\, Berlin\, 10717\, Deutschland
CATEGORIES:20th century,21. Jahrhundert,Audio,Baroque,Berlin,Choir,Church service,Church,Concert,Liturgy,NoonSong,PDF,Renaissance,Romantik,Vowel
ATTACH;FMTTYPE=image/jpeg:https://noonsong.de/wp-content/uploads/2024/12/title-picture-for-noonsong-697.jpg
ORGANIZER;CN="NoonSong e.V.":MAILTO:contact@noonsong.de
END:VEVENT
END:VCALENDAR