BEGIN:VCALENDAR
VERSION:2.0
PRODID:-//NoonSong - ECPv6.15.20//NONSGML v1.0//EN
CALSCALE:GREGORIAN
METHOD:PUBLISH
X-WR-CALNAME:NoonSong
X-ORIGINAL-URL:https://noonsong.de/en/
X-WR-CALDESC:Events for NoonSong
REFRESH-INTERVAL;VALUE=DURATION:PT1H
X-Robots-Tag:noindex
X-PUBLISHED-TTL:PT1H
BEGIN:VTIMEZONE
TZID:Europe/Berlin
BEGIN:DAYLIGHT
TZOFFSETFROM:+0100
TZOFFSETTO:+0200
TZNAME:CEST
DTSTART:20240331T010000
END:DAYLIGHT
BEGIN:STANDARD
TZOFFSETFROM:+0200
TZOFFSETTO:+0100
TZNAME:CET
DTSTART:20241027T010000
END:STANDARD
BEGIN:DAYLIGHT
TZOFFSETFROM:+0100
TZOFFSETTO:+0200
TZNAME:CEST
DTSTART:20250330T010000
END:DAYLIGHT
BEGIN:STANDARD
TZOFFSETFROM:+0200
TZOFFSETTO:+0100
TZNAME:CET
DTSTART:20251026T010000
END:STANDARD
BEGIN:DAYLIGHT
TZOFFSETFROM:+0100
TZOFFSETTO:+0200
TZNAME:CEST
DTSTART:20260329T010000
END:DAYLIGHT
BEGIN:STANDARD
TZOFFSETFROM:+0200
TZOFFSETTO:+0100
TZNAME:CET
DTSTART:20261025T010000
END:STANDARD
END:VTIMEZONE
BEGIN:VEVENT
DTSTART;TZID=Europe/Berlin:20250222T120000
DTEND;TZID=Europe/Berlin:20250222T130000
DTSTAMP:20260424T093743
CREATED:20250707T193850Z
LAST-MODIFIED:20250707T193850Z
UID:55278-1740225600-1740229200@noonsong.de
SUMMARY:704. NoonSong am 22.02.2025 um 12:00 Chormusik der italienischen Renaissance
DESCRIPTION:Programme\n\n\n\n\nOrgan prelude: Girolamo Frescobaldi (1583-1643): Recercar settimo sopra sol mi fa la solPreces: William Byrd (ca. 1540-1623): Preces & Responses für fünfstimmig gemischten Chor a cappellaPsalm of the day: Psalm 87: Giovanni Pierluigi da Palestrina (1525-1594): Fundamenta eius für vierstimmig gemischten Chor a cappellaPsalm of the week: Psalm 119\,113-117: Luca Marenzio (ca. 1553-1599): Iniquos odio habui für achtstimmig gemischten Chor a cappellaResponsorium: gregorianisch\n\nCanticle: Giovanni Pierluigi da Palestrina (1525-1594): Sic deus dilexit für fünfstimmig gemischten Chor a cappellaHymn: Michael Praetorius (1571-1621): Herr\, für Dein Wort sei hoch gepreist für vierstimmig gemischten Chor a cappellaOrgan postlude: Johann Ludwig Krebs (1713-1780): Fuge f-Moll (KrebsWV 407)Bible reading: Evangelium nach Lukas 8\,4-15 \n\n\n\n\n\n\n\n\nLiturgy: Sexagesimae\nPfarrer: Dr. Sebastian W. Stork\nOrganist: Daniel Clark\nLocation: Kirche am Hohenzollernplatz\n\n\n\n\n\n\n\n\n\nListen\n\n\n\n\nHere you can listen to this NoonSong. If you’d like to listen to more NoonSongs recordings\, please register. \n\n\n	This content has been restricted to logged-in users only. Please log in to view this content.\n\n\n\n\n\n\n\n\n\nWatch\n\n\n\n\nExperience the recorded live-stream of this NoonSong. \n\n\n\n\n\nYou’ll find many selected video recordings of NoonSongs and other concerts on our YouTube channel.\n \n\n\n\n\n\n\n	This content has been restricted to logged-in users only. Please log in to view this content.\n\n\n\n\n\n\n\n\n\n\n\n\nProgramme PDF\n\n\n\n\nRead more about this NoonSong in the programme document. \n\n\n\n\n\n\n\n\n\n\n\n\nPDF DOWNLOAD\n\n\n\n\n\n\n\n\n\n\n\n\n\n\, \, \, Byrd\, …; Byrd\, W.; Byrd\, Guil.; Byrd of Virginia\, William; Berd\, V.; Byred\, William; Bird\, William; Byrde\, William\, \, Palestrina\, Giov. Pierluigi da; Palestrina\, G. Pierluigi da; Palestrina\, G. P. da; Palestrina\, G.P. da; Palestrina\, Giovanni Pierluigi; Palestrina\, Giovanni Pietro; Palestrina\, Giovanni Petraloysio; Palestrina\, Giovanni L.; Palestrina\, Giovanni; Palestrina\, G. P.; Palestrina\, G.P.; Palestrina\, Giovanni da; Palestrina\, Giovanno; Palestrina\, C. P. da; Palestrina\, C.P. da; Palestrina\, Jean Pierluigi de; Palestrina\, J. P.; Palestrina\, J.P.; Palestrina\, Joachim; Palestrina\, Petrus Aloysius; Palestrina\, Petrus A.; Palestrina\, Pierluigi da; Palestrina\, Pier Luigi; Palestrina\, P. L. da; Palestrina\, P.L. da; Palestrina; Palästrina\, G.; Palestrino\, Joannes P.; Praenestinius\, Ioannes P.; Praenestinius\, Joannes Petraloysius; Praenestinus\, Joann Petraloysius; Praenestinius\, Joannes P.; Praenestino\, Joanne Petraloysio; Praenestino\, Joanne Petro Aloysio; Praenestino\, Joannis P.; Praenestino\, Petro Aloysio; Praenestinus\, Ioannes P.; Praenestinus\, Joannes Petraloysius; Praenestinus\, Jo. Petraloysius; Praenestinus\, Joannes P.; Praenestinus\, Joann. P.; Praenestinus\, Joannes Petrus Aloysius; Prænestinus\, Ioan. Petraloysius; Prænestinus\, Ioannes Aloysius; Prænestinus\, Johannes Petrus Aloysius; Prenestino\, Giovanni Pierluigi da; Prenestino\, Giovanni Pietro Aloysio; Prenestinus\, Giovanni P.; Prenestinus\, Petrus Aloysius; Pierluigi\, Giovanni; Pierluigi da Palestrina\, Giovanni; Da Palestrina\, Giovanni Pierluigi; Da Palestrina\, Pierluigi; DaPalestrina\, Giovanni Pierluigi; Giannetto; Sante da Palestrina\, Pier Luigi\, Iniquos odio habui\, Marentio\, Luca; Marenzio\, L.; Marentius\, Lucas; Marenzio\, Lucas\, \, Palestrina\, Giov. Pierluigi da; Palestrina\, G. Pierluigi da; Palestrina\, G. P. da; Palestrina\, G.P. da; Palestrina\, Giovanni Pierluigi; Palestrina\, Giovanni Pietro; Palestrina\, Giovanni Petraloysio; Palestrina\, Giovanni L.; Palestrina\, Giovanni; Palestrina\, G. P.; Palestrina\, G.P.; Palestrina\, Giovanni da; Palestrina\, Giovanno; Palestrina\, C. P. da; Palestrina\, C.P. da; Palestrina\, Jean Pierluigi de; Palestrina\, J. P.; Palestrina\, J.P.; Palestrina\, Joachim; Palestrina\, Petrus Aloysius; Palestrina\, Petrus A.; Palestrina\, Pierluigi da; Palestrina\, Pier Luigi; Palestrina\, P. L. da; Palestrina\, P.L. da; Palestrina; Palästrina\, G.; Palestrino\, Joannes P.; Praenestinius\, Ioannes P.; Praenestinius\, Joannes Petraloysius; Praenestinus\, Joann Petraloysius; Praenestinius\, Joannes P.; Praenestino\, Joanne Petraloysio; Praenestino\, Joanne Petro Aloysio; Praenestino\, Joannis P.; Praenestino\, Petro Aloysio; Praenestinus\, Ioannes P.; Praenestinus\, Joannes Petraloysius; Praenestinus\, Jo. Petraloysius; Praenestinus\, Joannes P.; Praenestinus\, Joann. P.; Praenestinus\, Joannes Petrus Aloysius; Prænestinus\, Ioan. Petraloysius; Prænestinus\, Ioannes Aloysius; Prænestinus\, Johannes Petrus Aloysius; Prenestino\, Giovanni Pierluigi da; Prenestino\, Giovanni Pietro Aloysio; Prenestinus\, Giovanni P.; Prenestinus\, Petrus Aloysius; Pierluigi\, Giovanni; Pierluigi da Palestrina\, Giovanni; Da Palestrina\, Giovanni Pierluigi; Da Palestrina\, Pierluigi; DaPalestrina\, Giovanni Pierluigi; Giannetto; Sante da Palestrina\, Pier Luigi\, \, Praetorius\, M.; Praetorius; Praetorij\, Michaëlis; Prätorius\, Michael; Prätorius\, Mich.; Schultheiß\, Michael; Schultheiss\, Michael\, Recercari\, et canzoni franzese fatte sopra diverse oblighi in partitura …\nRecercari\, et canzoni franzese …\, libro 1\nRicercari et canzoni franzese\, libro 1\, Frescobaldi; Frescobaldi\, Jérome; Frescobaldi\, Garolamo; Frescobaldi\, Giorlamo; Frescobaldi\, Geronimo; Frescobaldvs\, Hieronymvs; Frescobaldi\, G.; Frescobaldi\, Gerolamo; Frescobaldi\, Hieronymus; Frescobaldi\, Girolimo; Frescobaldi\, Girolamo Alessandro; Frescobaldi\, Geronimo Alissandro; Frescobaldi\, Guillaume; Freskobalʹdi\, Dzhirolamo; Frescobaldi\, Hieronimus\, Präludien und Fugen\, Org\, KrebsWV 407\, Krebs\, Johann Ludwig\, 1713-1780; Krebs\, Johann L.; Krebs\, Ioh. Ludwig; Krebs\, J. L.; Krebs\, Johannes Ludwig; Krebs\, Ludwig\,
URL:https://noonsong.de/en/event/noonsong-event-2025-02-22/
LOCATION:Kirche Am Hohenzollernplatz Berlin\, Nassauische Strasse 66\, Berlin\, Berlin\, 10717\, Deutschland
CATEGORIES:Audio,Baroque,Berlin,Choir,Church service,Church,Concert,Liturgy,NoonSong,PDF,Renaissance,Video,Vowel
ATTACH;FMTTYPE=image/jpeg:https://noonsong.de/wp-content/uploads/2025/01/title-picture-for-noonsong-704.jpg
ORGANIZER;CN="NoonSong e.V.":MAILTO:contact@noonsong.de
END:VEVENT
END:VCALENDAR