BEGIN:VCALENDAR
VERSION:2.0
PRODID:-//NoonSong - ECPv6.15.20//NONSGML v1.0//EN
CALSCALE:GREGORIAN
METHOD:PUBLISH
X-WR-CALNAME:NoonSong
X-ORIGINAL-URL:https://noonsong.de/en/
X-WR-CALDESC:Events for NoonSong
REFRESH-INTERVAL;VALUE=DURATION:PT1H
X-Robots-Tag:noindex
X-PUBLISHED-TTL:PT1H
BEGIN:VTIMEZONE
TZID:Europe/Berlin
BEGIN:DAYLIGHT
TZOFFSETFROM:+0100
TZOFFSETTO:+0200
TZNAME:CEST
DTSTART:20240331T010000
END:DAYLIGHT
BEGIN:STANDARD
TZOFFSETFROM:+0200
TZOFFSETTO:+0100
TZNAME:CET
DTSTART:20241027T010000
END:STANDARD
BEGIN:DAYLIGHT
TZOFFSETFROM:+0100
TZOFFSETTO:+0200
TZNAME:CEST
DTSTART:20250330T010000
END:DAYLIGHT
BEGIN:STANDARD
TZOFFSETFROM:+0200
TZOFFSETTO:+0100
TZNAME:CET
DTSTART:20251026T010000
END:STANDARD
BEGIN:DAYLIGHT
TZOFFSETFROM:+0100
TZOFFSETTO:+0200
TZNAME:CEST
DTSTART:20260329T010000
END:DAYLIGHT
BEGIN:STANDARD
TZOFFSETFROM:+0200
TZOFFSETTO:+0100
TZNAME:CET
DTSTART:20261025T010000
END:STANDARD
END:VTIMEZONE
BEGIN:VEVENT
DTSTART;TZID=Europe/Berlin:20250322T120000
DTEND;TZID=Europe/Berlin:20250322T130000
DTSTAMP:20260424T061232
CREATED:20250707T193751Z
LAST-MODIFIED:20250707T193751Z
UID:55321-1742644800-1742648400@noonsong.de
SUMMARY:708. NoonSong am 22.03.2025 um 12:00 Schätze romantischer Chormusik
DESCRIPTION:Programme\n\n\n\n\nOrgan prelude: Samuel Sebastian Wesley (1810-1876): Larghetto in fis-mollPreces: John Tavener (1944-2013): Preces & Responses für achtstimmig gemischten Chor a cappellaPsalm of the day: Psalm 141: Moritz Brosig (1815-1887): Dirigatur oratio mea für vierstimmig gemischten Chor a cappellaPsalm of the week: Psalm 34b: Samuel Sebastian Wesley (1810-1876): The Face of the Lord für achtstimmig gemischten Chor und OrgelResponsorium: gregorianisch\n\nCanticle: Felix Mendelssohn Bartholdy (1809-1847): Am Karfreitag (MWV B 52) für achtstimmig gemischten Chor a cappellaHymn: Adam Drese (1620-1701): Jesu geh voran für vierstimmig gemischten Chor a cappellaOrgan postlude: Ludwig Thiele (1816-1848): Chromatische Fuge in a-MollBible reading: Evangelium nach Lukas 9\,57-62 \n\n\n\n\n\n\n\n\nLiturgy: Okuli\nPfarrerin: Claudia Wüstenhagen\nOrganist: Daniel Clark\nLocation: Kirche am Hohenzollernplatz\n\n\n\n\n\n\n\n\n\nListen\n\n\n\n\nHere you can listen to this NoonSong. If you’d like to listen to more NoonSongs recordings\, please register. \n\n\n	This content has been restricted to logged-in users only. Please log in to view this content.\n\n\n\n\n\n\n\n\n\nWatch\n\n\n\n\nExperience the recorded live-stream of this NoonSong. \n\n\n\n\n\nYou’ll find many selected video recordings of NoonSongs and other concerts on our YouTube channel.\n \n\n\n\n\n\n\n	This content has been restricted to logged-in users only. Please log in to view this content.\n\n\n\n\n\n\n\n\n\n\n\n\nProgramme PDF\n\n\n\n\nRead more about this NoonSong in the programme document. \n\n\n\n\n\n\n\n\n\n\n\n\nPDF DOWNLOAD\n\n\n\n\n\n\n\n\n\n\n\n\n\n\, \, \, Tavener\, Sir John; Tavener\, John Kenneth\, \, \, \, \, Am Karfreitag\nUm unsrer Sünden willen\nAm Karfreitage\nAm Charfreitage\nSprüche op. 79. Am Karfreitage\nSprüche op. 79\,6\nop. 79\, Nr. 6\nMWV B 52\, Mendelssohn-Bartholdy\, Felix; Mendelssohn-Bartholdi\, Felix; Mendelssohn Bartholdi; Mendelssohn-Bartholdy\, Felix; Mendelssohn B.\, Felix; Mendelssohn Bartholdy\, Jakob Ludwig Felix; Mendelssohn-Bartholdy\, Jakob Ludwig Felix; Mendelssohn-Bartholdy\, Jacob Ludwig Felix; Mendelssohn Bartholdy\, Felix Jakob; Mendelssohn\, Jakob Ludwig Felix; Mendelssohn Bartholdy\, F.; Mendelssohn Bartholdy; Mendelssohn-Bartholdy; Mendelssohn; F.; Mendelson-Bartoldi\, Feliks; Mendelʹson-Bartolʹdi\, Feliks; Mendelsson-Bartholdy\, Felix; Mendelsohn-Bartholdy\, Felix; Bartholdy\, Felix Mendelssohn; Mendelssohn\, Felix; Mendelssohn\, F.; Mendelssohn-Bartholdy\, F.; Mendelssohn Batholdy\, Felix; Mendel'son\, Feliks; Mendel'son\, F.\, \, Dreße\, Adam; Dresen\, Ad.; Drese\, Adam II.\, \, \, Chromatische Fantasie und Fuge\nFantasie und Fuge\, Orgel (a-Moll)\, Thiele\, Johann Friedrich Karl Ludwig; Thiele\, Karl Ludwig; Thiele\, Carl Ludwig; Thiele\, Johann Friedrich Ludwig; Thiele\, Joh. Friedrich Ludwig; Thiele\, L.; Thiele\, Johann Friedrich Carl Ludwig; Thiele\, Louis\,
URL:https://noonsong.de/en/event/noonsong-event-2025-03-22/
LOCATION:Kirche Am Hohenzollernplatz Berlin\, Nassauische Strasse 66\, Berlin\, Berlin\, 10717\, Deutschland
CATEGORIES:20th century,21. Jahrhundert,Audio,Baroque,Berlin,Choir,Church service,Church,Concert,Liturgy,NoonSong,PDF,Romantik,Video,Vowel
ATTACH;FMTTYPE=image/jpeg:https://noonsong.de/wp-content/uploads/2025/01/title-picture-for-noonsong-708.jpg
ORGANIZER;CN="NoonSong e.V.":MAILTO:contact@noonsong.de
END:VEVENT
END:VCALENDAR