BEGIN:VCALENDAR
VERSION:2.0
PRODID:-//NoonSong - ECPv6.15.20//NONSGML v1.0//EN
CALSCALE:GREGORIAN
METHOD:PUBLISH
X-WR-CALNAME:NoonSong
X-ORIGINAL-URL:https://noonsong.de/en/
X-WR-CALDESC:Events for NoonSong
REFRESH-INTERVAL;VALUE=DURATION:PT1H
X-Robots-Tag:noindex
X-PUBLISHED-TTL:PT1H
BEGIN:VTIMEZONE
TZID:Europe/Berlin
BEGIN:DAYLIGHT
TZOFFSETFROM:+0100
TZOFFSETTO:+0200
TZNAME:CEST
DTSTART:20240331T010000
END:DAYLIGHT
BEGIN:STANDARD
TZOFFSETFROM:+0200
TZOFFSETTO:+0100
TZNAME:CET
DTSTART:20241027T010000
END:STANDARD
BEGIN:DAYLIGHT
TZOFFSETFROM:+0100
TZOFFSETTO:+0200
TZNAME:CEST
DTSTART:20250330T010000
END:DAYLIGHT
BEGIN:STANDARD
TZOFFSETFROM:+0200
TZOFFSETTO:+0100
TZNAME:CET
DTSTART:20251026T010000
END:STANDARD
BEGIN:DAYLIGHT
TZOFFSETFROM:+0100
TZOFFSETTO:+0200
TZNAME:CEST
DTSTART:20260329T010000
END:DAYLIGHT
BEGIN:STANDARD
TZOFFSETFROM:+0200
TZOFFSETTO:+0100
TZNAME:CET
DTSTART:20261025T010000
END:STANDARD
END:VTIMEZONE
BEGIN:VEVENT
DTSTART;TZID=Europe/Berlin:20250329T120000
DTEND;TZID=Europe/Berlin:20250329T130000
DTSTAMP:20260424T103251
CREATED:20250707T194412Z
LAST-MODIFIED:20250707T194412Z
UID:55381-1743249600-1743253200@noonsong.de
SUMMARY:709. NoonSong am 29.03.2025 um 12:00 predigende Chormusik aus Mitteldeutschland
DESCRIPTION:Programme\n\n\n\n\nOrgan prelude: Johann Sebastian Bach (1685-1750): Liebster Jesu\, wir sind hier (BWV 731)Preces: Thomas Morley (1557-1602): Preces & Responses für fünfstimmig gemischten Chor a cappellaPsalm of the day: Psalm 42b: Johann Hermann Schein (1586-1630): Was betrübst Du Dich\, meine Seele für fünfstimmig gemischten Chor a cappellaPsalm of the week: Psalm 84: Andreas Hammerschmidt (1612-1675): Wie lieblich sind Deine Wohnungen für fünfstimmig gemischten Chor a cappellaResponsorium: gregorianisch\n\nCanticle: Melchior Franck (1579-1639): Fürwahr\, er trug unsere Krankheit für vierstimmig gemischten Chor a cappellaHymn: Reinhard Ohse (1930-2022): Korn\, das in die Erde für vierstimmig gemischten Chor a cappellaOrgan postlude: Johann Sebastian Bach (1685-1750): Arioso aus der Kantate BWV 156\, “Ich steh mit einem Fuß im Grabe”Bible reading: Evangelium nach Johannes 12\,20-24Psalm 91: Felix Mendelssohn Bartholdy (1809-1847): Denn er hat seinen Engeln befohlen über Dir für achtstimmig gemischten Chor a cappella \n\n\n\n\n\n\n\n\nLiturgy: Laetare\nPfarrer: Dr. Sebastian W. Stork\nOrganist: Vladimir Magalashvili\nLocation: Kirche am Hohenzollernplatz\n\n\n\n\n\n\n\n\n\nListen\n\n\n\n\nHere you can listen to this NoonSong. If you’d like to listen to more NoonSongs recordings\, please register. \n\n\n	This content has been restricted to logged-in users only. Please log in to view this content.\n\n\n\n\n\n\n\n\n\nWatch\n\n\n\n\nExperience the recorded live-stream of this NoonSong. \n\n\n\n\n\nYou’ll find many selected video recordings of NoonSongs and other concerts on our YouTube channel.\n \n\n\n\n\n\n\n	This content has been restricted to logged-in users only. Please log in to view this content.\n\n\n\n\n\n\n\n\n\n\n\n\nProgramme PDF\n\n\n\n\nRead more about this NoonSong in the programme document. \n\n\n\n\n\n\n\n\n\n\n\n\nPDF DOWNLOAD\n\n\n\n\n\n\n\n\n\n\n\n\n\n\, \, \, Morlei\, Tomaso; Morlei\, Thomas\, Fontana d'Israel. Was betrübst du dich\, meine Seele\nWas betrübst du dich\, meine Seele\nFontana d'Israel <Was betrübst du dich\, meine Seele>\, Schein\, Joh. Herm.; Schein\, Johan-Herman; Schein\, J. H.; Schein\, Johann H.; Schein\, Johann-Hermann; Scheinius\, Johann Hermannus; Schein\, Johan Herman; Schein\, Hermann; Schein\, Iohan-Hermanus; Schein\, Johan-Hermanus; Schein\, Johannes Hermann; Schein\, Johann Herman; Schein\, J.H.; Schein\, Joan-Herman\, Musicalische Andachten\, Theil 2. Wie lieblich sind deine Wohnungen\n	\nMusikalische Andachten\, Teil 2. Wie lieblich sind deine Wohnungen\nWie lieblich sind deine Wohnungen\, Hammerschmied\, Andres; Hammerschmiedt\, Andreas; Hammerschmidt\, A.; Hammerschmied\, Andreas; Hammerschmid\, Andreas; Hammerschmied\, Andrea; Hammerschmiedt\, Andrea; Hammerschmieden\, Andrea; Hammerschmidii\, Andree\, \, Francus\, Melchior; Frank\, Melchior; Franco\, Melchior; Francke\, Melchior; Franc\, Melchior; Franc\, M.\, \, Ohse\, Reinhard Ernst\, Choralbearbeitungen\, BWV 714-740. Liebster Jesu\, wir sind hier\, BWV 731\nLiebster Jesu\, wir sind hier\, BWV 731 (BWVneu)\nChoralbearbeitungen\, Orgel\, BWV 731 (G-Dur)\, Bach; Bach\, G. S.; Bach\, Iogann Sebastʹjan; Bach\, Joh. Sebastian; Bach\, Giov. Sebast.; Bach\, Jean Sebastien; Bach\, Jean Sebastian; Bach\, J. Seb.; Bach\, Sebastiano; Bach\, John Sebastian; Bach\, Iogann S.; Bach\, Iogann Sebast'jan; Bach\, Iogann Sebastian; Bach\, Giovanni Sebastian; Bach\, Johan Sebastian; Bach\, Joannes Sebastianus; Bach\, Giov. Seb.; Bach\, Giovanni S.; Bāḵ\, Jōhān Sebaṣtī'ān; Bach\, I. S.; Bach\, J.-S.; Bach\, Giovanni Sebastiano; Bach\, Jean-Sebastien; Bach\, Sebastian; Bach\, Jan Sebastian; Bach\, J. S.; Bach\, Johann-Sebastian; Bach\, Jean S.; Bach\, Johannes S.; Bach\, Johannes Sebastian; Bach\, Joh. Seb.; Bach\, Joh.-Seb.; Bach\, Joh. Sebas.; Bach\, Johann Seb.; Bach\, Joh. Sebast.; Bach\, Johann S.; Bach\, Iogann Sebastjan; Bach\, Jean Sébastien; Bach\, Jean-Sébastien; Bach\, Johann; Bakh\, Iogann Sebastian\, Ich steh mit einem Fuß im Grabe\, Bach; Bach\, G. S.; Bach\, Iogann Sebastʹjan; Bach\, Joh. Sebastian; Bach\, Giov. Sebast.; Bach\, Jean Sebastien; Bach\, Jean Sebastian; Bach\, J. Seb.; Bach\, Sebastiano; Bach\, John Sebastian; Bach\, Iogann S.; Bach\, Iogann Sebast'jan; Bach\, Iogann Sebastian; Bach\, Giovanni Sebastian; Bach\, Johan Sebastian; Bach\, Joannes Sebastianus; Bach\, Giov. Seb.; Bach\, Giovanni S.; Bāḵ\, Jōhān Sebaṣtī'ān; Bach\, I. S.; Bach\, J.-S.; Bach\, Giovanni Sebastiano; Bach\, Jean-Sebastien; Bach\, Sebastian; Bach\, Jan Sebastian; Bach\, J. S.; Bach\, Johann-Sebastian; Bach\, Jean S.; Bach\, Johannes S.; Bach\, Johannes Sebastian; Bach\, Joh. Seb.; Bach\, Joh.-Seb.; Bach\, Joh. Sebas.; Bach\, Johann Seb.; Bach\, Joh. Sebast.; Bach\, Johann S.; Bach\, Iogann Sebastjan; Bach\, Jean Sébastien; Bach\, Jean-Sébastien; Bach\, Johann; Bakh\, Iogann Sebastian\, Denn er hat seinen Engeln befohlen über dir\nPsalm 91\nFor he shall give his angels charge over thee\, Mendelssohn-Bartholdy\, Felix; Mendelssohn-Bartholdi\, Felix; Mendelssohn Bartholdi; Mendelssohn-Bartholdy\, Felix; Mendelssohn B.\, Felix; Mendelssohn Bartholdy\, Jakob Ludwig Felix; Mendelssohn-Bartholdy\, Jakob Ludwig Felix; Mendelssohn-Bartholdy\, Jacob Ludwig Felix; Mendelssohn Bartholdy\, Felix Jakob; Mendelssohn\, Jakob Ludwig Felix; Mendelssohn Bartholdy\, F.; Mendelssohn Bartholdy; Mendelssohn-Bartholdy; Mendelssohn; F.; Mendelson-Bartoldi\, Feliks; Mendelʹson-Bartolʹdi\, Feliks; Mendelsson-Bartholdy\, Felix; Mendelsohn-Bartholdy\, Felix; Bartholdy\, Felix Mendelssohn; Mendelssohn\, Felix; Mendelssohn\, F.; Mendelssohn-Bartholdy\, F.; Mendelssohn Batholdy\, Felix; Mendel'son\, Feliks; Mendel'son\, F.\,
URL:https://noonsong.de/en/event/noonsong-event-2025-03-29/
LOCATION:Kirche Am Hohenzollernplatz Berlin\, Nassauische Strasse 66\, Berlin\, Berlin\, 10717\, Deutschland
CATEGORIES:20th century,Audio,Baroque,Berlin,Choir,Church service,Church,Concert,Liturgy,NoonSong,PDF,Renaissance,Romantik,Video,Vowel
ATTACH;FMTTYPE=image/jpeg:https://noonsong.de/wp-content/uploads/2025/01/title-picture-for-noonsong-709.jpg
ORGANIZER;CN="NoonSong e.V.":MAILTO:contact@noonsong.de
END:VEVENT
END:VCALENDAR