BEGIN:VCALENDAR
VERSION:2.0
PRODID:-//NoonSong - ECPv6.15.20//NONSGML v1.0//EN
CALSCALE:GREGORIAN
METHOD:PUBLISH
X-WR-CALNAME:NoonSong
X-ORIGINAL-URL:https://noonsong.de/en/
X-WR-CALDESC:Events for NoonSong
REFRESH-INTERVAL;VALUE=DURATION:PT1H
X-Robots-Tag:noindex
X-PUBLISHED-TTL:PT1H
BEGIN:VTIMEZONE
TZID:Europe/Berlin
BEGIN:DAYLIGHT
TZOFFSETFROM:+0100
TZOFFSETTO:+0200
TZNAME:CEST
DTSTART:20240331T010000
END:DAYLIGHT
BEGIN:STANDARD
TZOFFSETFROM:+0200
TZOFFSETTO:+0100
TZNAME:CET
DTSTART:20241027T010000
END:STANDARD
BEGIN:DAYLIGHT
TZOFFSETFROM:+0100
TZOFFSETTO:+0200
TZNAME:CEST
DTSTART:20250330T010000
END:DAYLIGHT
BEGIN:STANDARD
TZOFFSETFROM:+0200
TZOFFSETTO:+0100
TZNAME:CET
DTSTART:20251026T010000
END:STANDARD
BEGIN:DAYLIGHT
TZOFFSETFROM:+0100
TZOFFSETTO:+0200
TZNAME:CEST
DTSTART:20260329T010000
END:DAYLIGHT
BEGIN:STANDARD
TZOFFSETFROM:+0200
TZOFFSETTO:+0100
TZNAME:CET
DTSTART:20261025T010000
END:STANDARD
END:VTIMEZONE
BEGIN:VEVENT
DTSTART;TZID=Europe/Berlin:20251101T120000
DTEND;TZID=Europe/Berlin:20251101T130000
DTSTAMP:20260419T173411
CREATED:20251130T020109Z
LAST-MODIFIED:20251130T020109Z
UID:57713-1761998400-1762002000@noonsong.de
SUMMARY:735. NoonSong am 01.11.2025 um 12:00 Wiederentdeckung romantischer Komponisten
DESCRIPTION:Programme\n\n\n\n\nOrgan prelude: Mikalojus Konstantinas Čiurlionis (1875-1911): Nocturne cis-moll Nr.2 VL 183 (Bearbeitung für Orgel K. Juodelyte)Preces: Bernard Rose (1916-1996): Preces & Responses für vierstimmig gemischten Chor a cappellaPsalm of the day: Psalm 66: Edmund Kretschmer (1830-1908): Jubilate Deo für sechsstimmig gemischten Chor a cappellaPsalm of the week: Psalm 150: Andreas Romberg (1767-1821): Psalmodie Nr. 6 für vierstimmig gemischten Chor a cappellaResponsorium: gregorianisch\n\nCanticle: Heinrich von Herzogenberg (1843-1900): Meine Seele erhebt den Herren op. 81\,1 für achtstimmig gemischten Chor a cappellaHymn: anonym: Ich glaube\, dass die Heiligen für vierstimmig gemischten Chor a cappellaOrgan postlude: Mikalojus Konstantinas Čiurlionis (1875-1911): Fuge fis-moll VL 223 (Bearbeitung für Orgel L.Digrys)Bible reading: Evangelium nach Matthäus 5\,1-12 \n\n\n\n\n\n\n\n\nLiturgy: Allerheiligen\nPfarrerin: Anna Kim-Chi Nguyen-Huu\nOrganistin: Karolina Juodelyte\nLocation: Kirche am Hohenzollernplatz\n\n\n\n\n\n\n\n\n\nListen\n\n\n\n\nHere you can listen to this NoonSong. If you’d like to listen to more NoonSongs recordings\, please register. \n\n\n	This content has been restricted to logged-in users only. Please log in to view this content.\n\n\n\n\n\n\n\n\n\nWatch\n\n\n\n\nExperience the recorded live-stream of this NoonSong. \n\n\n\n\n\nYou’ll find many selected video recordings of NoonSongs and other concerts on our YouTube channel.\n \n\n\n\n\n\n\n	This content has been restricted to logged-in users only. Please log in to view this content.\n\n\n\n\n\n\n\n\n\n\n\n\nProgramme PDF\n\n\n\n\nRead more about this NoonSong in the programme document. \n\n\n\n\n\n\n\n\n\n\n\n\nPDF DOWNLOAD\n\n\n\n\n\n\n\n\n\n\n\n\n\n\, \, \, Rose\, Bernard George Williams\, Motetten\, op. 35. No. 3\nJubilate Deo\nPreiset seinen Namen\, Kretschmar\, Edmund\, Psalmodie\nPsalmen und Lobgesänge\nPsalmen\nPsalmen nach Moses Mendelssohn op. 65\, Romberg\, Andreas Jacob; Romberg\, Andreas Jakob; Romberg\, A.; Romberg\, And.; Romberg\, …; Romberg\, Andre; Romberg\, Andréas; Romberg\, André; Romberg\, Andrea; Romberg\, Andreas J.; Romberg\, Andreas Jacobus\, Liturgische Gesänge\, op. 81. Zur Adventszeit\nLiturgische Gesänge für Chor a capella für die akademischen Gottesdienste zu Strassburg i/E. Leipzig\nZur Adventszeit\, Herzogenberg\, Heinrich von; Herzogenberg\, Leopold Heinrich Picot de Peccaduc; Picot de Peccaduc\, Henry; Von Herzogenberg\, Heinrich; Peccaduc\, Picot de; Herzogenberg\, Leopold H.; Herzogenberg\, Heinrich von\, Freiherr von\, \, Anonymus\, \, Čiurlionis\, Mikalojus K.; Čiurlionis\, Mikaloius Konstantinas; Čiurlionis\, Mikaloius K.; Čjurlenis\, M. K.; Čiurlionis\, M. K.; Čurljanis\, M. K.; Čjurljënis\, Mikalojus Konstantinas; Čiurlionis\, Mikolajus Konstantinas; Ėiurlionis\, M. K.; Čiurlionis\, Mikolas Konstantas; Čiurlionis\, Mikalojus Konstantas; Churlyonis\, Mykolas; Čiurlianis\, Mikalojus Konstantinas; Czurlanis\, Mikolaj Konstanty; Czurlanis\, Mikołaj Konstanty; Ciurlionis\, M. K.; Čjurljěnis\, M. K.; Čjurlenis\, Mikalojus Konstantinas; Čjurlënis\, Mikalojus Konstantinas; Ciurlionis\, Nikolaus Konstantin; Čurljanis\, Nikolaj Konstantinovič; Ciurlionis\, Mykolas Konstantas; Čjurlënis\, Mikalojus Konstantinas; Churlenis\, Mikalois Konstantinas; Chururyōnisu\, Mikaroyusu Konsutantinasu; Čiurlionis\, Mikolajus Konstantinus; Čiurlionis\, Nikolaus Konstantin\, \, Čiurlionis\, Mikalojus K.; Čiurlionis\, Mikaloius Konstantinas; Čiurlionis\, Mikaloius K.; Čjurlenis\, M. K.; Čiurlionis\, M. K.; Čurljanis\, M. K.; Čjurljënis\, Mikalojus Konstantinas; Čiurlionis\, Mikolajus Konstantinas; Ėiurlionis\, M. K.; Čiurlionis\, Mikolas Konstantas; Čiurlionis\, Mikalojus Konstantas; Churlyonis\, Mykolas; Čiurlianis\, Mikalojus Konstantinas; Czurlanis\, Mikolaj Konstanty; Czurlanis\, Mikołaj Konstanty; Ciurlionis\, M. K.; Čjurljěnis\, M. K.; Čjurlenis\, Mikalojus Konstantinas; Čjurlënis\, Mikalojus Konstantinas; Ciurlionis\, Nikolaus Konstantin; Čurljanis\, Nikolaj Konstantinovič; Ciurlionis\, Mykolas Konstantas; Čjurlënis\, Mikalojus Konstantinas; Churlenis\, Mikalois Konstantinas; Chururyōnisu\, Mikaroyusu Konsutantinasu; Čiurlionis\, Mikolajus Konstantinus; Čiurlionis\, Nikolaus Konstantin\,
URL:https://noonsong.de/en/event/noonsong-event-2025-11-01/
LOCATION:Kirche Am Hohenzollernplatz Berlin\, Nassauische Strasse 66\, Berlin\, Berlin\, 10717\, Deutschland
CATEGORIES:20th century,Audio,Baroque,Berlin,Choir,Church service,Church,Concert,Liturgy,NoonSong,PDF,Romantik,Video,Vowel
ATTACH;FMTTYPE=image/jpeg:https://noonsong.de/wp-content/uploads/2025/08/title-picture-for-noonsong-735.jpg
ORGANIZER;CN="NoonSong e.V.":MAILTO:contact@noonsong.de
END:VEVENT
END:VCALENDAR