BEGIN:VCALENDAR
VERSION:2.0
PRODID:-//NoonSong - ECPv6.15.20//NONSGML v1.0//EN
CALSCALE:GREGORIAN
METHOD:PUBLISH
X-WR-CALNAME:NoonSong
X-ORIGINAL-URL:https://noonsong.de/en/
X-WR-CALDESC:Events for NoonSong
REFRESH-INTERVAL;VALUE=DURATION:PT1H
X-Robots-Tag:noindex
X-PUBLISHED-TTL:PT1H
BEGIN:VTIMEZONE
TZID:Europe/Berlin
BEGIN:DAYLIGHT
TZOFFSETFROM:+0100
TZOFFSETTO:+0200
TZNAME:CEST
DTSTART:20250330T010000
END:DAYLIGHT
BEGIN:STANDARD
TZOFFSETFROM:+0200
TZOFFSETTO:+0100
TZNAME:CET
DTSTART:20251026T010000
END:STANDARD
BEGIN:DAYLIGHT
TZOFFSETFROM:+0100
TZOFFSETTO:+0200
TZNAME:CEST
DTSTART:20260329T010000
END:DAYLIGHT
BEGIN:STANDARD
TZOFFSETFROM:+0200
TZOFFSETTO:+0100
TZNAME:CET
DTSTART:20261025T010000
END:STANDARD
BEGIN:DAYLIGHT
TZOFFSETFROM:+0100
TZOFFSETTO:+0200
TZNAME:CEST
DTSTART:20270328T010000
END:DAYLIGHT
BEGIN:STANDARD
TZOFFSETFROM:+0200
TZOFFSETTO:+0100
TZNAME:CET
DTSTART:20271031T010000
END:STANDARD
END:VTIMEZONE
BEGIN:VEVENT
DTSTART;TZID=Europe/Berlin:20260502T120000
DTEND;TZID=Europe/Berlin:20260502T130000
DTSTAMP:20260424T162501
CREATED:20260424T071738Z
LAST-MODIFIED:20260424T071738Z
UID:58975-1777723200-1777726800@noonsong.de
SUMMARY:758. NoonSong am 02.05.2026 um 12:00 meditative und jubelnde Chormusik aus England
DESCRIPTION:Programme\n\n\n\n\nPreces: William Smith (1603-1645): Preces & Responses für vierstimmig gemischten Chor a cappellaPsalm of the day: Psalm 16: John Goldwin (1667-1719): I have set God alway before me für fünfstimmig gemischten ChorPsalm of the week: Psalm 98: Richard Woodward (1743?-1777): Psalm 98 – anglican chant für vierstimmig gemischten Chor a cappellaResponsorium: gregorianisch\n\nCanticle: Kenneth Leighton (1929-1988): Magnificat (second service) für vierstimmig gemischten Chor und OrgelHymn: Johann Georg Ebeling (1637-1676): Du meine Seele singe für vierstimmig gemischten Chor a cappellaBible reading: Evangelium nach Lukas 19\,37-40 \n\n\n\n\n\n\n\n\nLiturgy: Kantate\nPfarrerin: Anna Kim-Chi Nguyen-Huu\nOrganist: Daniel Clark\nLocation: Kirche am Hohenzollernplatz\n\n\n\n\n\n\n\n\n\, \, \, \, \, Golding\, John\, \, \, \, \, \, Ebeling\, Johannes Georg; Ebeling\, Joh. Georg; Ebeling\, J. G.; Ebeling\, Johann George; Ebelingius\, Johannes Georgius; Ebeling\, Johann G.; Ebeling\, Johan Georg; Ebeling Johann Georg\,
URL:https://noonsong.de/en/event/noonsong-event-2026-05-02/
LOCATION:Kirche Am Hohenzollernplatz Berlin\, Nassauische Strasse 66\, Berlin\, Berlin\, 10717\, Deutschland
CATEGORIES:20th century,News,Baroque,Berlin,Choir,Church service,Church,Klassik,Concert,Liturgy,NoonSong,Vowel
ATTACH;FMTTYPE=image/jpeg:https://noonsong.de/wp-content/uploads/2026/04/title-picture-for-noonsong-758.jpg
ORGANIZER;CN="NoonSong e.V.":MAILTO:contact@noonsong.de
END:VEVENT
END:VCALENDAR