BEGIN:VCALENDAR
VERSION:2.0
PRODID:-//NoonSong - ECPv6.15.20//NONSGML v1.0//EN
CALSCALE:GREGORIAN
METHOD:PUBLISH
X-WR-CALNAME:NoonSong
X-ORIGINAL-URL:https://noonsong.de
X-WR-CALDESC:Veranstaltungen für NoonSong
REFRESH-INTERVAL;VALUE=DURATION:PT1H
X-Robots-Tag:noindex
X-PUBLISHED-TTL:PT1H
BEGIN:VTIMEZONE
TZID:Europe/Berlin
BEGIN:DAYLIGHT
TZOFFSETFROM:+0100
TZOFFSETTO:+0200
TZNAME:CEST
DTSTART:20110327T010000
END:DAYLIGHT
BEGIN:STANDARD
TZOFFSETFROM:+0200
TZOFFSETTO:+0100
TZNAME:CET
DTSTART:20111030T010000
END:STANDARD
BEGIN:DAYLIGHT
TZOFFSETFROM:+0100
TZOFFSETTO:+0200
TZNAME:CEST
DTSTART:20120325T010000
END:DAYLIGHT
BEGIN:STANDARD
TZOFFSETFROM:+0200
TZOFFSETTO:+0100
TZNAME:CET
DTSTART:20121028T010000
END:STANDARD
BEGIN:DAYLIGHT
TZOFFSETFROM:+0100
TZOFFSETTO:+0200
TZNAME:CEST
DTSTART:20130331T010000
END:DAYLIGHT
BEGIN:STANDARD
TZOFFSETFROM:+0200
TZOFFSETTO:+0100
TZNAME:CET
DTSTART:20131027T010000
END:STANDARD
END:VTIMEZONE
BEGIN:VEVENT
DTSTART;TZID=Europe/Berlin:20120505T120000
DTEND;TZID=Europe/Berlin:20120505T130000
DTSTAMP:20260419T171403
CREATED:20250714T020044Z
LAST-MODIFIED:20250714T020044Z
UID:41198-1336219200-1336222800@noonsong.de
SUMMARY:154. NoonSong am 05.05.2012 um 12:00
DESCRIPTION:Programm\n\n\n\n\nOrgelvorspiel: Felix Mendelssohn Bartholdy (1809-1847): Präludium G-Dur op. 37\,2 (MWV W 22)\, 1837Preces: William Smith (1603-1645): Preces & Responses für vierstimmig gemischten Chor a cappellaTagespsalm: Psalm 16: John Goldwin (1667-1719): I have set God alway before me für fünfstimmig gemischten ChorWochenpsalm: Psalm 98: Hans Leo Haßler (1564-1612): Jubilate Deo für sechsstimmig gemischten Chor a cappellaResponsorium: gregorianisch\n\nCanticum: Hans Leo Haßler (1564-1612): Magnificat octavi toni für vierstimmig gemischten Chor a cappellaChoral: Adam Gumpelzhaimer (1559-1625): Lob Gott getrost mit Singen für vierstimmig gemischten Chor a cappellaOrgelnachspiel: Johann Sebastian Bach (1685-1750): Präludium und Fuge G-Dur (BWV 541): PräludiumSchriftlesung: Brief an die Kolosser 3\,12-17 \n\n\n\n\n\n\n\n\nLiturgie: Kantate\nPfarrerin: Barbara Deml\nOrganist: Mirlan Kasymaliev\nOrt: Kirche am Hohenzollernplatz\n\n\n\n\n\n\n\n\n\nNoonSong hören\n\n\n\nHören Sie sich an dieser Stelle den NoonSong an. Möchten Sie viele der älteren NoonSongs noch einmal hören\, bitten wir Sie\, sich anzumelden. \n\n	Dieser Inhalt ist nur für angemeldete Benutzer sichtbar. Bitte melde dich an\, um diesen Inhalt anzuzeigen.\n\n\n\n\n\n\n\n\n\nProgrammheft\n\n\n\nLesen Sie an dieser Stelle das Programmheft des NoonSongs. \n\n\n\n\n\n\n\n\n\n\n\nPDF DOWNLOAD\n\n\n\n\n\n\n\n\n\n\n\n\n\n\, \, \, \, \, Golding\, John\, \, Hassler\, Hans Leo; Hassler\, J. L.; Hasler\, Jean Leo; Hasler\, Hans Leo von; Hasler\, Giovan Leo; Hasler\, Ioannes Leo; Hasler\, L.; Hasler\, Hanns Leo; Hassler\, Hans L.; Hasler\, Hans L.; Hasler\, Joanne Leone; Hasler\, …; Hassler\, Johann Leo; Hasler\, Johann Leo; Hasler\, Hans Leo; Hasler\, Johannes Leo; Hasler\, J. L.; Haslerus\, Hans Leo; Hassler\, H. L.; Hassler\, Léo; Hassler\, Hans Leo; Haslero\, Joanne Leone\, Magnificat octo tonorum \, Hassler\, Hans Leo; Hassler\, J. L.; Hasler\, Jean Leo; Hasler\, Hans Leo von; Hasler\, Giovan Leo; Hasler\, Ioannes Leo; Hasler\, L.; Hasler\, Hanns Leo; Hassler\, Hans L.; Hasler\, Hans L.; Hasler\, Joanne Leone; Hasler\, …; Hassler\, Johann Leo; Hasler\, Johann Leo; Hasler\, Hans Leo; Hasler\, Johannes Leo; Hasler\, J. L.; Haslerus\, Hans Leo; Hassler\, H. L.; Hassler\, Léo; Hassler\, Hans Leo; Haslero\, Joanne Leone\, Neue deutsche geistliche Lieder (1594). Lob Gott getrost mit Singen\nNeue deutsche geistliche Lieder … (1594). Lob Gott getrost mit Singen\nNeue teutsche geistliche Lieder nach art der Welschen Canzonen. Lob Gott getrost mit Singen\nWirtzgärtlins teutsch und lateinischer geistlicher Lieder\, Teil 1. Lob Gott getrost mit Singen\, Gumpeltzhaimer\, Adam; Gumpelzhaimer\, Adamus; Gvmpelzhaimer\, Adamvs; A. G.; A. G. T. B.; Gumpelshaimer\, Adam; Gumpeltzheimer\, Adam; Gumpelzheimer\, Adam; Gumpelzhaimerus\, Adamus; Gumpelzhaimer\, Adam.\, Präludien und Fugen\, Org\, op. 37. Präludium und Fuge Nr. 2\, Mendelssohn-Bartholdy\, Felix; Mendelssohn-Bartholdi\, Felix; Mendelssohn Bartholdi; Mendelssohn-Bartholdy\, Felix; Mendelssohn B.\, Felix; Mendelssohn Bartholdy\, Jakob Ludwig Felix; Mendelssohn-Bartholdy\, Jakob Ludwig Felix; Mendelssohn-Bartholdy\, Jacob Ludwig Felix; Mendelssohn Bartholdy\, Felix Jakob; Mendelssohn\, Jakob Ludwig Felix; Mendelssohn Bartholdy\, F.; Mendelssohn Bartholdy; Mendelssohn-Bartholdy; Mendelssohn; F.; Mendelson-Bartoldi\, Feliks; Mendelʹson-Bartolʹdi\, Feliks; Mendelsson-Bartholdy\, Felix; Mendelsohn-Bartholdy\, Felix; Bartholdy\, Felix Mendelssohn; Mendelssohn\, Felix; Mendelssohn\, F.; Mendelssohn-Bartholdy\, F.; Mendelssohn Batholdy\, Felix; Mendel'son\, Feliks; Mendel'son\, F.\, Präludium und Fuge\, Orgel\, BWV 541 (G-Dur). Praeludium\nPräludien und Fugen\, Org\, BWV 541. Präludium\nPräludien und Fugen\, Org\, BWV 541\nBWV 541/1\, Bach; Bach\, G. S.; Bach\, Iogann Sebastʹjan; Bach\, Joh. Sebastian; Bach\, Giov. Sebast.; Bach\, Jean Sebastien; Bach\, Jean Sebastian; Bach\, J. Seb.; Bach\, Sebastiano; Bach\, John Sebastian; Bach\, Iogann S.; Bach\, Iogann Sebast'jan; Bach\, Iogann Sebastian; Bach\, Giovanni Sebastian; Bach\, Johan Sebastian; Bach\, Joannes Sebastianus; Bach\, Giov. Seb.; Bach\, Giovanni S.; Bāḵ\, Jōhān Sebaṣtī'ān; Bach\, I. S.; Bach\, J.-S.; Bach\, Giovanni Sebastiano; Bach\, Jean-Sebastien; Bach\, Sebastian; Bach\, Jan Sebastian; Bach\, J. S.; Bach\, Johann-Sebastian; Bach\, Jean S.; Bach\, Johannes S.; Bach\, Johannes Sebastian; Bach\, Joh. Seb.; Bach\, Joh.-Seb.; Bach\, Joh. Sebas.; Bach\, Johann Seb.; Bach\, Joh. Sebast.; Bach\, Johann S.; Bach\, Iogann Sebastjan; Bach\, Jean Sébastien; Bach\, Jean-Sébastien; Bach\, Johann; Bakh\, Iogann Sebastian\,
URL:https://noonsong.de/event/noonsong-event-2012-05-05/
LOCATION:Kirche Am Hohenzollernplatz Berlin\, Nassauische Strasse 66\, Berlin\, Berlin\, 10717\, Deutschland
CATEGORIES:Audio,Barock,Berlin,Chor,Gottesdienst,Kirche,Konzert,Liturgie,NoonSong,PDF,Renaissance,Romantik,Vokal
ATTACH;FMTTYPE=image/jpeg:https://noonsong.de/wp-content/uploads/2023/05/title-picture-for-noonsong-154.jpg
ORGANIZER;CN="NoonSong e.V.":MAILTO:contact@noonsong.de
END:VEVENT
END:VCALENDAR