BEGIN:VCALENDAR
VERSION:2.0
PRODID:-//NoonSong - ECPv6.15.20//NONSGML v1.0//EN
CALSCALE:GREGORIAN
METHOD:PUBLISH
X-WR-CALNAME:NoonSong
X-ORIGINAL-URL:https://noonsong.de
X-WR-CALDESC:Veranstaltungen für NoonSong
REFRESH-INTERVAL;VALUE=DURATION:PT1H
X-Robots-Tag:noindex
X-PUBLISHED-TTL:PT1H
BEGIN:VTIMEZONE
TZID:Europe/Berlin
BEGIN:DAYLIGHT
TZOFFSETFROM:+0100
TZOFFSETTO:+0200
TZNAME:CEST
DTSTART:20110327T010000
END:DAYLIGHT
BEGIN:STANDARD
TZOFFSETFROM:+0200
TZOFFSETTO:+0100
TZNAME:CET
DTSTART:20111030T010000
END:STANDARD
BEGIN:DAYLIGHT
TZOFFSETFROM:+0100
TZOFFSETTO:+0200
TZNAME:CEST
DTSTART:20120325T010000
END:DAYLIGHT
BEGIN:STANDARD
TZOFFSETFROM:+0200
TZOFFSETTO:+0100
TZNAME:CET
DTSTART:20121028T010000
END:STANDARD
BEGIN:DAYLIGHT
TZOFFSETFROM:+0100
TZOFFSETTO:+0200
TZNAME:CEST
DTSTART:20130331T010000
END:DAYLIGHT
BEGIN:STANDARD
TZOFFSETFROM:+0200
TZOFFSETTO:+0100
TZNAME:CET
DTSTART:20131027T010000
END:STANDARD
END:VTIMEZONE
BEGIN:VEVENT
DTSTART;TZID=Europe/Berlin:20121020T120000
DTEND;TZID=Europe/Berlin:20121020T130000
DTSTAMP:20260424T154525
CREATED:20260424T071641Z
LAST-MODIFIED:20260424T071641Z
UID:41556-1350734400-1350738000@noonsong.de
SUMMARY:174. NoonSong am 20.10.2012 um 12:00
DESCRIPTION:Programm\n\n\n\n\nOrgelvorspiel: Josef Gabriel Rheinberger (1839-1901): Sonate Nr. 4 a-Moll (op. 98): IntermezzoPreces: Kenneth Leighton (1929-1988): Preces & Responses für vierstimmig gemischten Chor a cappellaTagespsalm: Psalm 91: Felix Mendelssohn Bartholdy (1809-1847): Denn er hat seinen Engeln befohlen über Dir für achtstimmig gemischten Chor a cappellaWochenpsalm: Psalm 34a: Gottfried August Homilius (1714-1785): Ich will den Herrn loben allezeit für vierstimmig gemischten Chor a cappellaResponsorium: gregorianisch\n\nCanticum: James MacMillan (*1959): The canticle of Zachariah für vierstimmig gemischten Chor a cappellaChoral: Heinrich Schütz (1585-1672): Wohl denen\, die da wandeln für vierstimmig gemischten Chor a cappellaOrgelnachspiel: Max Reger (1873-1916): Toccata d-Moll (op. 59\, Nr. 5)Schriftlesung: 1. Brief an die Thessalonicher 4\,4 \n\n\n\n\n\n\n\n\nLiturgie: 20. Sonntag nach Trinitatis\nPfarrer: Pater Hans-Georg Löffler\nOrganist: Rudolf Seidel\nOrt: Kirche am Hohenzollernplatz\n\n\n\n\n\n\n\n\n\nNoonSong hören\n\n\n\nHören Sie sich an dieser Stelle den NoonSong an. Möchten Sie viele der älteren NoonSongs noch einmal hören\, bitten wir Sie\, sich anzumelden. \n\n	Dieser Inhalt ist nur für angemeldete Benutzer sichtbar. Bitte melde dich an\, um diesen Inhalt anzuzeigen.\n\n\n\n\n\n\n\n\n\nProgrammheft\n\n\n\nLesen Sie an dieser Stelle das Programmheft des NoonSongs. \n\n\n\n\n\n\n\n\n\n\n\nPDF DOWNLOAD\n\n\n\n\n\n\n\n\n\n\n\n\n\n\, \, \, \, Denn er hat seinen Engeln befohlen über dir\nPsalm 91\nFor he shall give his angels charge over thee\, Mendelssohn-Bartholdy\, Felix; Mendelssohn-Bartholdi\, Felix; Mendelssohn Bartholdi; Mendelssohn-Bartholdy\, Felix; Mendelssohn B.\, Felix; Mendelssohn Bartholdy\, Jakob Ludwig Felix; Mendelssohn-Bartholdy\, Jakob Ludwig Felix; Mendelssohn-Bartholdy\, Jacob Ludwig Felix; Mendelssohn Bartholdy\, Felix Jakob; Mendelssohn\, Jakob Ludwig Felix; Mendelssohn Bartholdy\, F.; Mendelssohn Bartholdy; Mendelssohn-Bartholdy; Mendelssohn; F.; Mendelson-Bartoldi\, Feliks; Mendelʹson-Bartolʹdi\, Feliks; Mendelsson-Bartholdy\, Felix; Mendelsohn-Bartholdy\, Felix; Bartholdy\, Felix Mendelssohn; Mendelssohn\, Felix; Mendelssohn\, F.; Mendelssohn-Bartholdy\, F.; Mendelssohn Batholdy\, Felix; Mendel'son\, Feliks; Mendel'son\, F.\, \, Homilius\, Gottfried; Homilius\, Gottfried A.; Hommilius\, Gottfried August\, The Strathclyde motets. The canticle of Zachariah\nThe canticle of Zachariah\, MacMillan\, …; MacM.\, J.; McMillan\, James; Mac Millan\, James; MacMillan\, James Loy\, \, Schütz\, Hinrich; Schütz\, Henricus; Schütz\, Heinrico; Schütz\, H.; Schütze\, Henrich; Schütze\, Heinrich; Schuetz\, Heinrich; Schutz\, Heinrich; Schuetz von Pfeilstadt\, Henri; Schüzzius\, Heinricus; Schüzze\, Heinrich; Schüz\, Heinrich; Schüz\, Henricus; Schützius\, Henricus; Schützen\, Heinrich; Schützen\, Henrich; Schütz\, Henrich; Schütz; Sagittarius\, Heinricus; Sagittario\, Henrico; Sagittarius\, Henricus; Sagittarius\, Heinricus\,; Sagitarius\, Henricus; Saettario\, Enrico; Šjutc\, Genrich\, Sonaten\, Orgel\, Nr. 4\, op. 98 (a-Moll). Intermezzo\nIntermezzo\nSonaten\, Orgel\, Nr. 4\, op. 98 (a-Moll). Satz 2\nSonaten\, Org\, op. 98. 2. Satz\nSonaten\, Org\, op. 98 <2. Satz>\nOrgelsonate Nr. 4. Intermezzo\nAndante pastorale\nHirtenlied\nIntermezzo aus der vierten Sonate\, Rheinberger\, Josef\, 1839-1901; Rheinberger\, …; Rheinberger\, Gabriel; Rheinberger\, Josef von; Rheinberger\, Giuseppe; Rheinberger\, Gabriel J.; Rheinberger\, Joseph Gabriel von; Rheinberger\, J.; Rheinberger\, J. G.; Rheinberger\, Josef G.; Rheinberger\, Jos.; Rheinberger\, Josef Gabriel; Rheinberger\, Gabriel Joseph; Rheinberger\, Gabriel Josef; Rheinberger\, Joseph von; Rheinberger\, Joseph Gabriel; Rheinberger\, Joseph G.; Rheinberger\, Josef\, Stücke\, Orgel\, op. 59. Toccata	\nToccata\nop. 59\, Nr. 5\n\, Reger\, Max; Reger\, Johann Baptist Joseph Maximilian; Reger\, M.; Reger\, …; Reger\, Maks; Rēgers\, M.\,
URL:https://noonsong.de/event/noonsong-event-2012-10-20/
LOCATION:Kirche Am Hohenzollernplatz Berlin\, Nassauische Strasse 66\, Berlin\, Berlin\, 10717\, Deutschland
CATEGORIES:20. Jahrhundert,21. Jahrhundert,Audio,Barock,Berlin,Chor,Gottesdienst,Kirche,Klassik,Konzert,Liturgie,NoonSong,PDF,Romantik,Vokal
ATTACH;FMTTYPE=image/jpeg:https://noonsong.de/wp-content/uploads/2023/05/title-picture-for-noonsong-174.jpg
ORGANIZER;CN="NoonSong e.V.":MAILTO:contact@noonsong.de
END:VEVENT
END:VCALENDAR