BEGIN:VCALENDAR
VERSION:2.0
PRODID:-//NoonSong - ECPv6.15.20//NONSGML v1.0//EN
CALSCALE:GREGORIAN
METHOD:PUBLISH
X-WR-CALNAME:NoonSong
X-ORIGINAL-URL:https://noonsong.de
X-WR-CALDESC:Veranstaltungen für NoonSong
REFRESH-INTERVAL;VALUE=DURATION:PT1H
X-Robots-Tag:noindex
X-PUBLISHED-TTL:PT1H
BEGIN:VTIMEZONE
TZID:Europe/Berlin
BEGIN:DAYLIGHT
TZOFFSETFROM:+0100
TZOFFSETTO:+0200
TZNAME:CEST
DTSTART:20110327T010000
END:DAYLIGHT
BEGIN:STANDARD
TZOFFSETFROM:+0200
TZOFFSETTO:+0100
TZNAME:CET
DTSTART:20111030T010000
END:STANDARD
BEGIN:DAYLIGHT
TZOFFSETFROM:+0100
TZOFFSETTO:+0200
TZNAME:CEST
DTSTART:20120325T010000
END:DAYLIGHT
BEGIN:STANDARD
TZOFFSETFROM:+0200
TZOFFSETTO:+0100
TZNAME:CET
DTSTART:20121028T010000
END:STANDARD
BEGIN:DAYLIGHT
TZOFFSETFROM:+0100
TZOFFSETTO:+0200
TZNAME:CEST
DTSTART:20130331T010000
END:DAYLIGHT
BEGIN:STANDARD
TZOFFSETFROM:+0200
TZOFFSETTO:+0100
TZNAME:CET
DTSTART:20131027T010000
END:STANDARD
END:VTIMEZONE
BEGIN:VEVENT
DTSTART;TZID=Europe/Berlin:20121110T120000
DTEND;TZID=Europe/Berlin:20121110T130000
DTSTAMP:20260419T141725
CREATED:20250707T194243Z
LAST-MODIFIED:20250707T194243Z
UID:41463-1352548800-1352552400@noonsong.de
SUMMARY:177. NoonSong am 10.11.2012 um 12:00
DESCRIPTION:Programm\n\n\n\n\nOrgelvorspiel: Jean-Baptiste Lully (1632-1687): Air de trompettePreces: John Reading (ca. 1645-1692): Preces & Responses für vierstimmig gemischten Chor a cappellaTagespsalm: Psalm 6: Claudio Monteverdi (1567-1643): Domine\, ne in furore tuo für sechsstimmig gemischten Chor a cappellaWochenpsalm: Psalm 90: Hans Schanderl (*1960): Psalm 90 für vierstimmig gemischten Chor a cappellaResponsorium: gregorianisch\n\nCanticum: Ferdinand de Lassus (ca. 1562-1609): Magnificat 5 Vocum super Salve puella gratiæ für fünfstimmig gemischten Chor a cappellaChoral: Johann Sebastian Bach (1685-1750): Wir warten Dein\, o Gottes Sohn für vierstimmig gemischten Chor a cappellaOrgelnachspiel: Max Reger (1873-1916): Canzone g-Moll\, aus: Monologe (op. 63)Schriftlesung: Evangelium nach Markus 13\,30-37 \n\n\n\n\n\n\n\n\nLiturgie: Drittletzter Sonntag im Kirchenjahr\nPfarrer: P. Maximilian Wagner OFM\nOrganist: Rudolf Seidel\nOrt: Kirche am Hohenzollernplatz\n\n\n\n\n\n\n\n\n\nNoonSong hören\n\n\n\nHören Sie sich an dieser Stelle den NoonSong an. Möchten Sie viele der älteren NoonSongs noch einmal hören\, bitten wir Sie\, sich anzumelden. \n\n	Dieser Inhalt ist nur für angemeldete Benutzer sichtbar. Bitte melde dich an\, um diesen Inhalt anzuzeigen.\n\n\n\n\n\n\n\n\, \, \, \, Domine ne in furore tuo\, Monteverdi; Monteverdi\, Claudio Zuan Antonio; Monteverdi\, Claudio Zuan Giovanni Antonio; Monteverdi\, C.; Montisviridius\, Claudinius; Monteverde\, Claudio; Monte Verde\, Claudio; Monsviridus\, Claudio; Montverdi\, Claudio\, \, \, \, Lassus\, Ferdinand de; di Lasso\, Ferdinando; Lasso\, Ferdinand di; Lasso\, Ferdinand de; Lasso\, Ferdinad di; Lasso\, Ferdinand di; Lasso\, Ferdinandus\, \, Bach; Bach\, G. S.; Bach\, Iogann Sebastʹjan; Bach\, Joh. Sebastian; Bach\, Giov. Sebast.; Bach\, Jean Sebastien; Bach\, Jean Sebastian; Bach\, J. Seb.; Bach\, Sebastiano; Bach\, John Sebastian; Bach\, Iogann S.; Bach\, Iogann Sebast'jan; Bach\, Iogann Sebastian; Bach\, Giovanni Sebastian; Bach\, Johan Sebastian; Bach\, Joannes Sebastianus; Bach\, Giov. Seb.; Bach\, Giovanni S.; Bāḵ\, Jōhān Sebaṣtī'ān; Bach\, I. S.; Bach\, J.-S.; Bach\, Giovanni Sebastiano; Bach\, Jean-Sebastien; Bach\, Sebastian; Bach\, Jan Sebastian; Bach\, J. S.; Bach\, Johann-Sebastian; Bach\, Jean S.; Bach\, Johannes S.; Bach\, Johannes Sebastian; Bach\, Joh. Seb.; Bach\, Joh.-Seb.; Bach\, Joh. Sebas.; Bach\, Johann Seb.; Bach\, Joh. Sebast.; Bach\, Johann S.; Bach\, Iogann Sebastjan; Bach\, Jean Sébastien; Bach\, Jean-Sébastien; Bach\, Johann; Bakh\, Iogann Sebastian\, \, Lully\, Jean Baptiste; Lully\, Giovanni-Battista; Lully\, Giovanni Battista; Lully\, Giovanni B.; Lulli\, Jean-Baptiste; Lulli\, Jean B.; Lulli\, Jean Baptiste; Lulli\, Giovanni-Battista; Lulli\, Giovanni B.; Lully\, J. B.; Lully\, Jean Bapt.; Lully\, Jean B.; Lully\, Jean-Baptiste de; Lulli\, Giovanni Battista; Lully\, Jean Baptiste; Lully\, Jean Baptiste de; Lulli\, Jean Baptiste de\, Monologe\, op. 63. Canzone\nop. 63 Nr. 3\, Reger\, Max; Reger\, Johann Baptist Joseph Maximilian; Reger\, M.; Reger\, …; Reger\, Maks; Rēgers\, M.\,
URL:https://noonsong.de/event/noonsong-event-2012-11-10/
LOCATION:Kirche Am Hohenzollernplatz Berlin\, Nassauische Strasse 66\, Berlin\, Berlin\, 10717\, Deutschland
CATEGORIES:20. Jahrhundert,21. Jahrhundert,Audio,Barock,Berlin,Chor,Gottesdienst,Kirche,Konzert,Liturgie,NoonSong,Renaissance,Romantik,Vokal
ATTACH;FMTTYPE=image/jpeg:https://noonsong.de/wp-content/uploads/2023/05/title-picture-for-noonsong-177.jpg
ORGANIZER;CN="NoonSong e.V.":MAILTO:contact@noonsong.de
END:VEVENT
END:VCALENDAR