BEGIN:VCALENDAR
VERSION:2.0
PRODID:-//NoonSong - ECPv6.15.20//NONSGML v1.0//EN
CALSCALE:GREGORIAN
METHOD:PUBLISH
X-WR-CALNAME:NoonSong
X-ORIGINAL-URL:https://noonsong.de
X-WR-CALDESC:Veranstaltungen für NoonSong
REFRESH-INTERVAL;VALUE=DURATION:PT1H
X-Robots-Tag:noindex
X-PUBLISHED-TTL:PT1H
BEGIN:VTIMEZONE
TZID:Europe/Berlin
BEGIN:DAYLIGHT
TZOFFSETFROM:+0100
TZOFFSETTO:+0200
TZNAME:CEST
DTSTART:20120325T010000
END:DAYLIGHT
BEGIN:STANDARD
TZOFFSETFROM:+0200
TZOFFSETTO:+0100
TZNAME:CET
DTSTART:20121028T010000
END:STANDARD
BEGIN:DAYLIGHT
TZOFFSETFROM:+0100
TZOFFSETTO:+0200
TZNAME:CEST
DTSTART:20130331T010000
END:DAYLIGHT
BEGIN:STANDARD
TZOFFSETFROM:+0200
TZOFFSETTO:+0100
TZNAME:CET
DTSTART:20131027T010000
END:STANDARD
BEGIN:DAYLIGHT
TZOFFSETFROM:+0100
TZOFFSETTO:+0200
TZNAME:CEST
DTSTART:20140330T010000
END:DAYLIGHT
BEGIN:STANDARD
TZOFFSETFROM:+0200
TZOFFSETTO:+0100
TZNAME:CET
DTSTART:20141026T010000
END:STANDARD
END:VTIMEZONE
BEGIN:VEVENT
DTSTART;TZID=Europe/Berlin:20131102T120000
DTEND;TZID=Europe/Berlin:20131102T130000
DTSTAMP:20260420T143258
CREATED:20260420T020132Z
LAST-MODIFIED:20260420T020132Z
UID:41277-1383393600-1383397200@noonsong.de
SUMMARY:220. NoonSong am 02.11.2013 um 12:00
DESCRIPTION:Programm\n\n\n\n\nOrgelvorspiel: Benjamin Britten (1913-1976): Prelude and Fugue on a theme of Vittoria (1946)Preces: Duncan Faulkner (*1951): Preces & Responses für vierstimmig gemischten Chor a cappellaTagespsalm: Psalm 62: Moritz Hauptmann (1792-1868): Meine Seel ist stille zu Gott für vierstimmig gemischten Chor a cappellaWochenpsalm: Psalm 33b: Gottfried August Homilius (1714-1785): Siehe des Herrn Auge für vierstimmig gemischten Chor a cappellaResponsorium: gregorianisch\n\nCanticum: Lodovico Viadana (1560-1627): Magnificat primi toni für vierstimmig gemischten Chor a cappellaChoral: Hans Leo Haßler (1564-1612): In dich hab ich gehoffet\, Herr für vierstimmig gemischten Chor a cappellaOrgelnachspiel: Johann Sebastian Bach (1685-1750): In dich hab ich gehoffet\, Herr (BWV 712)Schriftlesung: Evangelium nach Matthäus 22\,15-22 \n\n\n\n\n\n\n\n\nLiturgie: 23. Sonntag nach Trinitatis\nPfarrer: Alexander Brodt-Zabka\nOrganist: Peter Uehling\nOrt: Kirche am Hohenzollernplatz\n\n\n\n\n\n\n\n\n\nNoonSong hören\n\n\n\nHören Sie sich an dieser Stelle den NoonSong an. Möchten Sie viele der älteren NoonSongs noch einmal hören\, bitten wir Sie\, sich anzumelden. \n\n	Dieser Inhalt ist nur für angemeldete Benutzer sichtbar. Bitte melde dich an\, um diesen Inhalt anzuzeigen.\n\n\n\n\n\n\n\n\n\nProgrammheft\n\n\n\nLesen Sie an dieser Stelle das Programmheft des NoonSongs. \n\n\n\n\n\n\n\n\n\n\n\nPDF DOWNLOAD\n\n\n\n\n\n\n\n\n\n\n\n\n\n\, \, \, \, Geistliche Gesänge\, op. 53. Meine Seel' ist stille zu Gott\nop. 53\, Hauptmann\, M.\, Motetten\, HoWV 5 52\nMotetten\, HoWV 5\,52\nSiehe\, des Herrn Auge\nSiehe des Herrn Auge siehet auf die so ihn fürchten\nHoWV 5 52\, Homilius\, Gottfried; Homilius\, Gottfried A.; Hommilius\, Gottfried August\, \, Viadana\, Ludwig; Grossi\, Ludovico; Viadana\, Lodovico Grossi da; Viadana\, L.; Viadana\, Lodovico G. da; Vidadan\, Ludovico; Grosso da Viadana\, Ludovico; Viadana\, Ludovicus; Viadana\, Ludovico Grossi da; Viadana\, Ludovico da; Grossi da Viadana\, Ludovico; Viadana\, Ludovico; Da Viadana\, Lodovico; Grossi da Viadana\, Ludovido; Da Viadana\, Ludovico; Grossi da Viadana\, Lodovico; Viadana\, Lodovico da; Viadono\, Ludovico Grossi; Viadana\, Ludovico Grossi; Viadono\, Ludovico\, \, Hassler\, Hans Leo; Hassler\, J. L.; Hasler\, Jean Leo; Hasler\, Hans Leo von; Hasler\, Giovan Leo; Hasler\, Ioannes Leo; Hasler\, L.; Hasler\, Hanns Leo; Hassler\, Hans L.; Hasler\, Hans L.; Hasler\, Joanne Leone; Hasler\, …; Hassler\, Johann Leo; Hasler\, Johann Leo; Hasler\, Hans Leo; Hasler\, Johannes Leo; Hasler\, J. L.; Haslerus\, Hans Leo; Hassler\, H. L.; Hassler\, Léo; Hassler\, Hans Leo; Haslero\, Joanne Leone\, Prelude and fugue on a theme of Vittoria\, Britten\, …; Britten\, Edward Benjamin; Britten\, Edward B.; Britten\, Bendžamin\, Orgelbüchlein. In dich hab ich gehoffet\, Herr\nOrgel-Büchlein. In dich hab ich gehoffet\, Herr (BWVneu)\nIn dich hab' ich gehoffet\, Herr\nChoralbearbeitungen\, BWV 640\nBWV 640\, Bach; Bach\, G. S.; Bach\, Iogann Sebastʹjan; Bach\, Joh. Sebastian; Bach\, Giov. Sebast.; Bach\, Jean Sebastien; Bach\, Jean Sebastian; Bach\, J. Seb.; Bach\, Sebastiano; Bach\, John Sebastian; Bach\, Iogann S.; Bach\, Iogann Sebast'jan; Bach\, Iogann Sebastian; Bach\, Giovanni Sebastian; Bach\, Johan Sebastian; Bach\, Joannes Sebastianus; Bach\, Giov. Seb.; Bach\, Giovanni S.; Bāḵ\, Jōhān Sebaṣtī'ān; Bach\, I. S.; Bach\, J.-S.; Bach\, Giovanni Sebastiano; Bach\, Jean-Sebastien; Bach\, Sebastian; Bach\, Jan Sebastian; Bach\, J. S.; Bach\, Johann-Sebastian; Bach\, Jean S.; Bach\, Johannes S.; Bach\, Johannes Sebastian; Bach\, Joh. Seb.; Bach\, Joh.-Seb.; Bach\, Joh. Sebas.; Bach\, Johann Seb.; Bach\, Joh. Sebast.; Bach\, Johann S.; Bach\, Iogann Sebastjan; Bach\, Jean Sébastien; Bach\, Jean-Sébastien; Bach\, Johann; Bakh\, Iogann Sebastian\,
URL:https://noonsong.de/event/noonsong-event-2013-11-02/
LOCATION:Kirche Am Hohenzollernplatz Berlin\, Nassauische Strasse 66\, Berlin\, Berlin\, 10717\, Deutschland
CATEGORIES:20. Jahrhundert,Audio,Avantgarde,Barock,Berlin,Chor,Gottesdienst,Kirche,Klassik,Konzert,Liturgie,NoonSong,PDF,Renaissance,Romantik,Vokal
ATTACH;FMTTYPE=image/jpeg:https://noonsong.de/wp-content/uploads/2023/05/title-picture-for-noonsong-220.jpg
ORGANIZER;CN="NoonSong e.V.":MAILTO:contact@noonsong.de
END:VEVENT
END:VCALENDAR