BEGIN:VCALENDAR
VERSION:2.0
PRODID:-//NoonSong - ECPv6.15.20//NONSGML v1.0//EN
CALSCALE:GREGORIAN
METHOD:PUBLISH
X-WR-CALNAME:NoonSong
X-ORIGINAL-URL:https://noonsong.de
X-WR-CALDESC:Veranstaltungen für NoonSong
REFRESH-INTERVAL;VALUE=DURATION:PT1H
X-Robots-Tag:noindex
X-PUBLISHED-TTL:PT1H
BEGIN:VTIMEZONE
TZID:Europe/Berlin
BEGIN:DAYLIGHT
TZOFFSETFROM:+0100
TZOFFSETTO:+0200
TZNAME:CEST
DTSTART:20140330T010000
END:DAYLIGHT
BEGIN:STANDARD
TZOFFSETFROM:+0200
TZOFFSETTO:+0100
TZNAME:CET
DTSTART:20141026T010000
END:STANDARD
BEGIN:DAYLIGHT
TZOFFSETFROM:+0100
TZOFFSETTO:+0200
TZNAME:CEST
DTSTART:20150329T010000
END:DAYLIGHT
BEGIN:STANDARD
TZOFFSETFROM:+0200
TZOFFSETTO:+0100
TZNAME:CET
DTSTART:20151025T010000
END:STANDARD
BEGIN:DAYLIGHT
TZOFFSETFROM:+0100
TZOFFSETTO:+0200
TZNAME:CEST
DTSTART:20160327T010000
END:DAYLIGHT
BEGIN:STANDARD
TZOFFSETFROM:+0200
TZOFFSETTO:+0100
TZNAME:CET
DTSTART:20161030T010000
END:STANDARD
END:VTIMEZONE
BEGIN:VEVENT
DTSTART;TZID=Europe/Berlin:20150502T120000
DTEND;TZID=Europe/Berlin:20150502T130000
DTSTAMP:20260419T144012
CREATED:20250707T193546Z
LAST-MODIFIED:20250707T193546Z
UID:41515-1430568000-1430571600@noonsong.de
SUMMARY:287. NoonSong am 02.05.2015 um 12:00
DESCRIPTION:Programm\n\n\n\n\nOrgelvorspiel: Felix Mendelssohn Bartholdy (1809-1847): Sonate Nr. 4 B-Dur (op. 65): Andante religiosoPreces: William Smith (1603-1645): Preces & Responses für vierstimmig gemischten Chor a cappellaTagespsalm: Psalm 16: John Goldwin (1667-1719): I have set God alway before me für fünfstimmig gemischten ChorWochenpsalm: Psalm 98: Hugo Distler (1908-1942): Singet dem Herrn ein neues Lied (op. 12\,1) für vierstimmig gemischten Chor a cappellaResponsorium: gregorianisch\n\nCanticum: Melchior Franck (1579-1639): Meine Seele erhebt den Herren (Der Lobgesang Mariens) für vierstimmig gemischten Chor a cappellaChoral: Adam Gumpelzhaimer (1559-1625): Lob Gott getrost mit Singen für vierstimmig gemischten Chor a cappellaSchriftlesung: Brief an die Kolosser 3\,12-17 \n\n\n\n\n\n\n\n\nLiturgie: Kantate\n\nOrganist: Mirlan Kasymaliev\nOrt: Kirche am Hohenzollernplatz\n\n\n\n\n\n\n\n\n\nNoonSong hören\n\n\n\nHören Sie sich an dieser Stelle den NoonSong an. Möchten Sie viele der älteren NoonSongs noch einmal hören\, bitten wir Sie\, sich anzumelden. \n\n	Dieser Inhalt ist nur für angemeldete Benutzer sichtbar. Bitte melde dich an\, um diesen Inhalt anzuzeigen.\n\n\n\n\n\n\n\n\n\nProgrammheft\n\n\n\nLesen Sie an dieser Stelle das Programmheft des NoonSongs. \n\n\n\n\n\n\n\n\n\n\n\nPDF DOWNLOAD\n\n\n\n\n\n\n\n\n\n\n\n\n\n\, \, \, \, \, Golding\, John\, Geistliche Chormusik. Singet dem Herrn ein neues Lied\nOp. 12\, 1\, Distler\, H.; Distler\, August Hugo\, Magnificat\nDer Lobgesang Mariens\nDas deutsche Magnificat: Meine Seele erhebt den Herren\, Francus\, Melchior; Frank\, Melchior; Franco\, Melchior; Francke\, Melchior; Franc\, Melchior; Franc\, M.\, Neue deutsche geistliche Lieder (1594). Lob Gott getrost mit Singen\nNeue deutsche geistliche Lieder … (1594). Lob Gott getrost mit Singen\nNeue teutsche geistliche Lieder nach art der Welschen Canzonen. Lob Gott getrost mit Singen\nWirtzgärtlins teutsch und lateinischer geistlicher Lieder\, Teil 1. Lob Gott getrost mit Singen\, Gumpeltzhaimer\, Adam; Gumpelzhaimer\, Adamus; Gvmpelzhaimer\, Adamvs; A. G.; A. G. T. B.; Gumpelshaimer\, Adam; Gumpeltzheimer\, Adam; Gumpelzheimer\, Adam; Gumpelzhaimerus\, Adamus; Gumpelzhaimer\, Adam.\, Sonaten\, Orgel\, MWV W 59 (B-Dur)\nSonaten\, Orgel\, MWV W 56-61. Nr. 4\nSonaten op. 65\, Nr. 4\nop. 65\,4\nMWV W 59\, Mendelssohn-Bartholdy\, Felix; Mendelssohn-Bartholdi\, Felix; Mendelssohn Bartholdi; Mendelssohn-Bartholdy\, Felix; Mendelssohn B.\, Felix; Mendelssohn Bartholdy\, Jakob Ludwig Felix; Mendelssohn-Bartholdy\, Jakob Ludwig Felix; Mendelssohn-Bartholdy\, Jacob Ludwig Felix; Mendelssohn Bartholdy\, Felix Jakob; Mendelssohn\, Jakob Ludwig Felix; Mendelssohn Bartholdy\, F.; Mendelssohn Bartholdy; Mendelssohn-Bartholdy; Mendelssohn; F.; Mendelson-Bartoldi\, Feliks; Mendelʹson-Bartolʹdi\, Feliks; Mendelsson-Bartholdy\, Felix; Mendelsohn-Bartholdy\, Felix; Bartholdy\, Felix Mendelssohn; Mendelssohn\, Felix; Mendelssohn\, F.; Mendelssohn-Bartholdy\, F.; Mendelssohn Batholdy\, Felix; Mendel'son\, Feliks; Mendel'son\, F.\,
URL:https://noonsong.de/event/noonsong-event-2015-05-02/
LOCATION:Kirche Am Hohenzollernplatz Berlin\, Nassauische Strasse 66\, Berlin\, Berlin\, 10717\, Deutschland
CATEGORIES:20. Jahrhundert,Audio,Barock,Berlin,Chor,Gottesdienst,Kirche,Konzert,Liturgie,NoonSong,PDF,Renaissance,Romantik,Vokal
ATTACH;FMTTYPE=image/jpeg:https://noonsong.de/wp-content/uploads/2023/05/title-picture-for-noonsong-287.jpg
ORGANIZER;CN="NoonSong e.V.":MAILTO:contact@noonsong.de
END:VEVENT
END:VCALENDAR