BEGIN:VCALENDAR
VERSION:2.0
PRODID:-//NoonSong - ECPv6.15.20//NONSGML v1.0//EN
CALSCALE:GREGORIAN
METHOD:PUBLISH
X-WR-CALNAME:NoonSong
X-ORIGINAL-URL:https://noonsong.de
X-WR-CALDESC:Veranstaltungen für NoonSong
REFRESH-INTERVAL;VALUE=DURATION:PT1H
X-Robots-Tag:noindex
X-PUBLISHED-TTL:PT1H
BEGIN:VTIMEZONE
TZID:Europe/Berlin
BEGIN:DAYLIGHT
TZOFFSETFROM:+0100
TZOFFSETTO:+0200
TZNAME:CEST
DTSTART:20140330T010000
END:DAYLIGHT
BEGIN:STANDARD
TZOFFSETFROM:+0200
TZOFFSETTO:+0100
TZNAME:CET
DTSTART:20141026T010000
END:STANDARD
BEGIN:DAYLIGHT
TZOFFSETFROM:+0100
TZOFFSETTO:+0200
TZNAME:CEST
DTSTART:20150329T010000
END:DAYLIGHT
BEGIN:STANDARD
TZOFFSETFROM:+0200
TZOFFSETTO:+0100
TZNAME:CET
DTSTART:20151025T010000
END:STANDARD
BEGIN:DAYLIGHT
TZOFFSETFROM:+0100
TZOFFSETTO:+0200
TZNAME:CEST
DTSTART:20160327T010000
END:DAYLIGHT
BEGIN:STANDARD
TZOFFSETFROM:+0200
TZOFFSETTO:+0100
TZNAME:CET
DTSTART:20161030T010000
END:STANDARD
END:VTIMEZONE
BEGIN:VEVENT
DTSTART;TZID=Europe/Berlin:20150627T120000
DTEND;TZID=Europe/Berlin:20150627T130000
DTSTAMP:20260419T141620
CREATED:20250707T194004Z
LAST-MODIFIED:20250707T194004Z
UID:41625-1435406400-1435410000@noonsong.de
SUMMARY:295. NoonSong am 27.06.2015 um 12:00
DESCRIPTION:Programm\n\n\n\n\nOrgelvorspiel: Jean Langlais (1907-1991): Elevation\, aus: Hommage à Frescobaldi (op. 70)Preces: Philip Radcliffe (1905-1986): Preces & Responses für vierstimmig gemischten Chor a cappellaTagespsalm: Psalm 33: Josef Gabriel Rheinberger (1839-1901): Frohlocket\, ihr Gerechten für vierstimmig gemischten Chor a cappellaWochenpsalm: Psalm 22b: Felix Mendelssohn Bartholdy (1809-1847): Psalm 22 für achtstimmigen Chor a cappellaResponsorium: gregorianisch\n\nCanticum: Wolfgang Figulus (1525-1589): Meine Seel erhebt den Herren für vierstimmig gemischten Chor a cappellaChoral: Johann Sebastian Bach (1685-1750): O Gott\, Du frommer Gott (BWV 1125) für vierstimmig gemischten Chor a cappellaOrgelnachspiel: Georg Friedrich Händel (1685-1759): Konzert Nr. 13 F-Dur: Kuckuck und Nachtigall (Hwv 295)Schriftlesung: Brief an die Galather 6\,1-5 \n\n\n\n\n\n\n\n\nLiturgie: 4. Sonntag nach Trinitatis\nPfarrer: Dr. Sebastian W. Stork\nOrganist: Rudolf Seidel\nOrt: Kirche am Hohenzollernplatz\n\n\n\n\n\n\n\n\n\nNoonSong hören\n\n\n\nHören Sie sich an dieser Stelle den NoonSong an. Möchten Sie viele der älteren NoonSongs noch einmal hören\, bitten wir Sie\, sich anzumelden. \n\n	Dieser Inhalt ist nur für angemeldete Benutzer sichtbar. Bitte melde dich an\, um diesen Inhalt anzuzeigen.\n\n\n\n\n\n\n\n\n\nProgrammheft\n\n\n\nLesen Sie an dieser Stelle das Programmheft des NoonSongs. \n\n\n\n\n\n\n\n\n\n\n\nPDF DOWNLOAD\n\n\n\n\n\n\n\n\n\n\n\n\n\n\, \, \, Radcliffe\, Philip F.; Radcliffe\, Philip Fitzhugh\, Motetten\, op. 40. Frohlocket\, ihr Gerechten\nFrohlocket\, ihr Gerechten\nPsalm 33\nMotetten op. 40\, Nr. 5\, Rheinberger\, Josef\, 1839-1901; Rheinberger\, …; Rheinberger\, Gabriel; Rheinberger\, Josef von; Rheinberger\, Giuseppe; Rheinberger\, Gabriel J.; Rheinberger\, Joseph Gabriel von; Rheinberger\, J.; Rheinberger\, J. G.; Rheinberger\, Josef G.; Rheinberger\, Jos.; Rheinberger\, Josef Gabriel; Rheinberger\, Gabriel Joseph; Rheinberger\, Gabriel Josef; Rheinberger\, Joseph von; Rheinberger\, Joseph Gabriel; Rheinberger\, Joseph G.; Rheinberger\, Josef\, Mein Gott\, mein Gott\, warum hast du mich verlassen \nMein Gott\, warum hast du mich verlassen\nMy God\, why hast thou forsaken me\nPsalmen. Der 22. Psalm Psalmen op. 78. Mein Gott\, warum hast du mich verlassen\nPsalm 22\nMWV B 51\, Mendelssohn-Bartholdy\, Felix; Mendelssohn-Bartholdi\, Felix; Mendelssohn Bartholdi; Mendelssohn-Bartholdy\, Felix; Mendelssohn B.\, Felix; Mendelssohn Bartholdy\, Jakob Ludwig Felix; Mendelssohn-Bartholdy\, Jakob Ludwig Felix; Mendelssohn-Bartholdy\, Jacob Ludwig Felix; Mendelssohn Bartholdy\, Felix Jakob; Mendelssohn\, Jakob Ludwig Felix; Mendelssohn Bartholdy\, F.; Mendelssohn Bartholdy; Mendelssohn-Bartholdy; Mendelssohn; F.; Mendelson-Bartoldi\, Feliks; Mendelʹson-Bartolʹdi\, Feliks; Mendelsson-Bartholdy\, Felix; Mendelsohn-Bartholdy\, Felix; Bartholdy\, Felix Mendelssohn; Mendelssohn\, Felix; Mendelssohn\, F.; Mendelssohn-Bartholdy\, F.; Mendelssohn Batholdy\, Felix; Mendel'son\, Feliks; Mendel'son\, F.\, Meine Seele erhebt den Herren\, Figulus\, Wolfgangus; Töpfer\, Wolfgang; Figulus\, Volfgangus; Figulus\, Wolffgangus\, Vierstimmige Choräle nach der Abschrift von Johann Ludwig Dietel. O Gott\, du frommer Gott\n	\nO Gott\, du frommer Gott\nVier vierstimmige Choräle nach der Abschrift von Johann Ludwig Dietel. O Gott\, du frommer Gott\nChoräle\, BWV 1125\, Bach; Bach\, G. S.; Bach\, Iogann Sebastʹjan; Bach\, Joh. Sebastian; Bach\, Giov. Sebast.; Bach\, Jean Sebastien; Bach\, Jean Sebastian; Bach\, J. Seb.; Bach\, Sebastiano; Bach\, John Sebastian; Bach\, Iogann S.; Bach\, Iogann Sebast'jan; Bach\, Iogann Sebastian; Bach\, Giovanni Sebastian; Bach\, Johan Sebastian; Bach\, Joannes Sebastianus; Bach\, Giov. Seb.; Bach\, Giovanni S.; Bāḵ\, Jōhān Sebaṣtī'ān; Bach\, I. S.; Bach\, J.-S.; Bach\, Giovanni Sebastiano; Bach\, Jean-Sebastien; Bach\, Sebastian; Bach\, Jan Sebastian; Bach\, J. S.; Bach\, Johann-Sebastian; Bach\, Jean S.; Bach\, Johannes S.; Bach\, Johannes Sebastian; Bach\, Joh. Seb.; Bach\, Joh.-Seb.; Bach\, Joh. Sebas.; Bach\, Johann Seb.; Bach\, Joh. Sebast.; Bach\, Johann S.; Bach\, Iogann Sebastjan; Bach\, Jean Sébastien; Bach\, Jean-Sébastien; Bach\, Johann; Bakh\, Iogann Sebastian\, Hommage à Frescobaldi\nHuit pièces pour orgue\nPièces\, Orgel\, op. 70\nop. 70\, Langlais\, …; Langlais\, Jean-François\, Konzerte\, HWV 295 – 300. Konzert HWV 295\nKuckuck und Nachtigall\nThe cuckoo and the nightingale\nLe coucou et le rossignol\nDer Kuckuck und die Nachtigall\nKonzerte HWV 295 – 300. Konzert HWV 295\, 	; Handel\, George Frideric; Händel\, Georg-Friedrich; Händel\, Georg Friederich; Händel\, Georg Fr.; Händel\, Georg F.; Händel\, George Friedrich; Händel\, George Frideric; Händel\, George F.; Händel\, G. Friedrich; Händel\, G. Fr.; Händel\, G. F.; Händel\, G.F.; Hændel\, G.-F.; Händel; Händel\, C. F.; Händel\, C.F.; Händel\, Friedrich G.; Händel\, F. G.; Händel\, F.G.; Händel\, H.; Händl\, F. G.; Händl\, F.G.; Händl\, Georg Friedrich; Haendel\, Georg Friedrich; Haendel\, Georg-Friedrich; Haendel; Händle\, Georg Friedrich; Handel\, Georg Friedrich; Handel\, Georg Frederic; Handel\, Georg Frideric; Handel\, Georg F.; Handel\, George Friedrich; Handel\, George Friderick; Handel\, George Frideric; Handel\, George Fridric; Handel\, George Frederick; Handel\, George Frederic; Handel\, George F.; Handel\, Georgio Fredrico; Handel\, Georgio F.; Handel\, Giorgio Federico; Handel\, Goerg Friedrich; Handel\, G. F.; Handel\, G.F.; Handel; Handell; Hendel\, Georg Friedrich; Hendel\, George Friederich; Hendel\, Giorgio-Federico; Hendel; Hendeli\, Georg Pʹridrix; Häddelischen\,
URL:https://noonsong.de/event/noonsong-event-2015-06-27/
LOCATION:Kirche Am Hohenzollernplatz Berlin\, Nassauische Strasse 66\, Berlin\, Berlin\, 10717\, Deutschland
CATEGORIES:20. Jahrhundert,Audio,Barock,Berlin,Chor,Gottesdienst,Kirche,Konzert,Liturgie,NoonSong,PDF,Renaissance,Romantik,Vokal
ATTACH;FMTTYPE=image/jpeg:https://noonsong.de/wp-content/uploads/2023/05/title-picture-for-noonsong-295.jpg
ORGANIZER;CN="NoonSong e.V.":MAILTO:contact@noonsong.de
END:VEVENT
END:VCALENDAR