BEGIN:VCALENDAR
VERSION:2.0
PRODID:-//NoonSong - ECPv6.15.20//NONSGML v1.0//EN
CALSCALE:GREGORIAN
METHOD:PUBLISH
X-WR-CALNAME:NoonSong
X-ORIGINAL-URL:https://noonsong.de
X-WR-CALDESC:Veranstaltungen für NoonSong
REFRESH-INTERVAL;VALUE=DURATION:PT1H
X-Robots-Tag:noindex
X-PUBLISHED-TTL:PT1H
BEGIN:VTIMEZONE
TZID:Europe/Berlin
BEGIN:DAYLIGHT
TZOFFSETFROM:+0100
TZOFFSETTO:+0200
TZNAME:CEST
DTSTART:20150329T010000
END:DAYLIGHT
BEGIN:STANDARD
TZOFFSETFROM:+0200
TZOFFSETTO:+0100
TZNAME:CET
DTSTART:20151025T010000
END:STANDARD
BEGIN:DAYLIGHT
TZOFFSETFROM:+0100
TZOFFSETTO:+0200
TZNAME:CEST
DTSTART:20160327T010000
END:DAYLIGHT
BEGIN:STANDARD
TZOFFSETFROM:+0200
TZOFFSETTO:+0100
TZNAME:CET
DTSTART:20161030T010000
END:STANDARD
BEGIN:DAYLIGHT
TZOFFSETFROM:+0100
TZOFFSETTO:+0200
TZNAME:CEST
DTSTART:20170326T010000
END:DAYLIGHT
BEGIN:STANDARD
TZOFFSETFROM:+0200
TZOFFSETTO:+0100
TZNAME:CET
DTSTART:20171029T010000
END:STANDARD
END:VTIMEZONE
BEGIN:VEVENT
DTSTART;TZID=Europe/Berlin:20160507T120000
DTEND;TZID=Europe/Berlin:20160507T130000
DTSTAMP:20260424T224349
CREATED:20260310T083451Z
LAST-MODIFIED:20260310T083451Z
UID:41464-1462622400-1462626000@noonsong.de
SUMMARY:331. NoonSong am 07.05.2016 um 12:00
DESCRIPTION:Programm\n\n\n\n\nOrgelvorspiel: Girolamo Frescobaldi (1583-1643): Toccata QuintaPreces: Richard Lloyd (*1933): Preces & Responses für vierstimmig gemischten Chor a cappellaTagespsalm: Psalm 48: Antonio Lotti (1666-1740): Magnus Dominus für vierstimmig gemischten Chor a cappellaWochenpsalm: Psalm 27: William Byrd (ca. 1540-1623): Unam petii a Domino für fünfstimmig gemischten Chor a cappellaResponsorium: gregorianisch\n\nCanticum: Orlando Gibbons (1583-1625): Benedictus für vierstimmigen Chor a cappellaChoral: Stefan Schuck (*1963): Heilger Geist\, du Tröster mein für vierstimmig gemischten Chor a cappellaOrgelnachspiel: Olivier Messiaen (1908-1992): Transports de joie d'une âme devant la gloire du Christ qui est la sienne\, aus: L`ascension (Die Himmelfahrt)Schriftlesung: Buch Jeremia 31\,31-34 \n\n\n\n\n\n\n\n\nLiturgie: Exaudi\nPfarrer: Dr. Sebastian W. Stork\nOrganist: Mirlan Kasymaliev\nOrt: Kirche am Hohenzollernplatz\n\n\n\n\n\n\n\n\n\nNoonSong hören\n\n\n\nHören Sie sich an dieser Stelle den NoonSong an. Möchten Sie viele der älteren NoonSongs noch einmal hören\, bitten wir Sie\, sich anzumelden. \n\n	Dieser Inhalt ist nur für angemeldete Benutzer sichtbar. Bitte melde dich an\, um diesen Inhalt anzuzeigen.\n\n\n\n\n\n\n\n\n\nProgrammheft\n\n\n\nLesen Sie an dieser Stelle das Programmheft des NoonSongs. \n\n\n\n\n\n\n\n\n\n\n\nPDF DOWNLOAD\n\n\n\n\n\n\n\n\n\n\n\n\n\n\, \, \, Lloyd\, Richard Hey; Lloyd\, Richard H.\, \, Lotti\, A.\, \, Byrd\, …; Byrd\, W.; Byrd\, Guil.; Byrd of Virginia\, William; Berd\, V.; Byred\, William; Bird\, William; Byrde\, William\, \, \, \, \, Toccate\, canzone\, versi d'hinni\, magnificat\, gagliarde correnti et altere partite. Toccata\, N. 5\nToccate\, canzone\, versi d'hinni\, magnificat\, gagliarde …\, libro 2. Tokkata Nr. 5\nToccata quinta "sopra i pedali\, e senza"\nF 3 05\, Frescobaldi; Frescobaldi\, Jérome; Frescobaldi\, Garolamo; Frescobaldi\, Giorlamo; Frescobaldi\, Geronimo; Frescobaldvs\, Hieronymvs; Frescobaldi\, G.; Frescobaldi\, Gerolamo; Frescobaldi\, Hieronymus; Frescobaldi\, Girolimo; Frescobaldi\, Girolamo Alessandro; Frescobaldi\, Geronimo Alissandro; Frescobaldi\, Guillaume; Freskobalʹdi\, Dzhirolamo; Frescobaldi\, Hieronimus\, L' ascension. Org. Transports de joie\, Messiaen\, …; Messiaen\, Olivier Eugène; Messiaën\, Olivier Eugène; Messian\, O.; Messian\, Olivʹe; Messian\, Olivier; Messiaen\, O.; Messiaen\, Olivier Eugène Prosper Charles; Messiaen\, Oliver\,
URL:https://noonsong.de/event/noonsong-event-2016-05-07/
LOCATION:Kirche Am Hohenzollernplatz Berlin\, Nassauische Strasse 66\, Berlin\, Berlin\, 10717\, Deutschland
CATEGORIES:20. Jahrhundert,21. Jahrhundert,Audio,Avantgarde,Barock,Berlin,Chor,Gottesdienst,Kirche,Konzert,Liturgie,NoonSong,PDF,Renaissance,Vokal
ATTACH;FMTTYPE=image/jpeg:https://noonsong.de/wp-content/uploads/2023/05/title-picture-for-noonsong-331.jpg
ORGANIZER;CN="NoonSong e.V.":MAILTO:contact@noonsong.de
END:VEVENT
END:VCALENDAR