BEGIN:VCALENDAR
VERSION:2.0
PRODID:-//NoonSong - ECPv6.15.20//NONSGML v1.0//EN
CALSCALE:GREGORIAN
METHOD:PUBLISH
X-WR-CALNAME:NoonSong
X-ORIGINAL-URL:https://noonsong.de
X-WR-CALDESC:Veranstaltungen für NoonSong
REFRESH-INTERVAL;VALUE=DURATION:PT1H
X-Robots-Tag:noindex
X-PUBLISHED-TTL:PT1H
BEGIN:VTIMEZONE
TZID:Europe/Berlin
BEGIN:DAYLIGHT
TZOFFSETFROM:+0100
TZOFFSETTO:+0200
TZNAME:CEST
DTSTART:20160327T010000
END:DAYLIGHT
BEGIN:STANDARD
TZOFFSETFROM:+0200
TZOFFSETTO:+0100
TZNAME:CET
DTSTART:20161030T010000
END:STANDARD
BEGIN:DAYLIGHT
TZOFFSETFROM:+0100
TZOFFSETTO:+0200
TZNAME:CEST
DTSTART:20170326T010000
END:DAYLIGHT
BEGIN:STANDARD
TZOFFSETFROM:+0200
TZOFFSETTO:+0100
TZNAME:CET
DTSTART:20171029T010000
END:STANDARD
BEGIN:DAYLIGHT
TZOFFSETFROM:+0100
TZOFFSETTO:+0200
TZNAME:CEST
DTSTART:20180325T010000
END:DAYLIGHT
BEGIN:STANDARD
TZOFFSETFROM:+0200
TZOFFSETTO:+0100
TZNAME:CET
DTSTART:20181028T010000
END:STANDARD
END:VTIMEZONE
BEGIN:VEVENT
DTSTART;TZID=Europe/Berlin:20170304T120000
DTEND;TZID=Europe/Berlin:20170304T130000
DTSTAMP:20260419T172123
CREATED:20250707T193933Z
LAST-MODIFIED:20250707T193933Z
UID:42627-1488628800-1488632400@noonsong.de
SUMMARY:367. NoonSong am 04.03.2017 um 12:00
DESCRIPTION:Programm\n\n\n\n\nOrgelvorspiel: Robert Schumann (1810-1856): aus “Sechs Fugen über den Namen B-A-C-H” (op. 60): Nr. 3 (Mit sanften Stimmen)Preces: Bernard Rose (1916-1996): Preces & Responses für vierstimmig gemischten Chor a cappellaTagespsalm: Psalm 141: Moritz Hauptmann (1792-1868): Herr\, ich schrei zu Dir für vierstimmig gemischten Chor a cappellaWochenpsalm: Psalm 91: Josef Gabriel Rheinberger (1839-1901): Angelis suis für Bariton-Solo (Sascha Glintenkamp)\, vierstimmig gemischten Chor und OrgelResponsorium: gregorianisch\n\nCanticum: Carl Heinrich Graun (1704-1759): Fürwahr\, er trug unsere Krankheit für vierstimmig gemischten Chor a cappellaChoral: Melchior Vulpius (1570-1615): Ach\, bleib mit deiner Gnade für vierstimmig gemischten Chor a cappellaOrgelnachspiel: Robert Schumann (1810-1856): aus “Sechs Fugen über den Namen B-A-C-H” (op. 60): Nr. 1 (Langsam)Schriftlesung: 5. Buch Mose 8\,11-18 \n\n\n\n\n\n\n\n\nLiturgie: Invokavit\nPfarrerin: Anna Kim-Chi Nguyen-Huu\nOrganist: Daniel Clark\nOrt: Kirche am Hohenzollernplatz\n\n\n\n\n\n\n\n\n\nNoonSong hören\n\n\n\nHören Sie sich an dieser Stelle den NoonSong an. Möchten Sie viele der älteren NoonSongs noch einmal hören\, bitten wir Sie\, sich anzumelden. \n\n	Dieser Inhalt ist nur für angemeldete Benutzer sichtbar. Bitte melde dich an\, um diesen Inhalt anzuzeigen.\n\n\n\n\n\n\n\n\n\nProgrammheft\n\n\n\nLesen Sie an dieser Stelle das Programmheft des NoonSongs. \n\n\n\n\n\n\n\n\n\n\n\nPDF DOWNLOAD\n\n\n\n\n\n\n\n\n\n\n\n\n\nBuch Deuteronomium 8\,11-18\, \, \, Rose\, Bernard George Williams\, Geistliche Gesänge op. 53. Herr\, ich schrei' zu dir \, Hauptmann\, M.\, \, Rheinberger\, Josef\, 1839-1901; Rheinberger\, …; Rheinberger\, Gabriel; Rheinberger\, Josef von; Rheinberger\, Giuseppe; Rheinberger\, Gabriel J.; Rheinberger\, Joseph Gabriel von; Rheinberger\, J.; Rheinberger\, J. G.; Rheinberger\, Josef G.; Rheinberger\, Jos.; Rheinberger\, Josef Gabriel; Rheinberger\, Gabriel Joseph; Rheinberger\, Gabriel Josef; Rheinberger\, Joseph von; Rheinberger\, Joseph Gabriel; Rheinberger\, Joseph G.; Rheinberger\, Josef\, \, Graun\, Karl Heinrich; Graun\, Carl Henrich; Graun\, Carl H.; Graun\, C. H.; Graun\, C. E.; Graun\, Karl Heinrich; Graun\, Karl H.; Graun\, K. H.; Graun\, C. G.; Gravn\, Carolvs Henricvs; Graun\, Carlo Enrico; Graun\, Carolus Henricus; Graunius\, Carolus Henricus; Graun; Gzaun\, \, Volpius\, Melchior; Fuchs\, Melchior; Vulpius\, Melchiorus\, Fugen über den Namen BACH. Fuge\, Nr. 3\n	\nFugen über den Namen BACH. Nr. 3 (g-Moll)\nFugues on the name BACH. No. 3 (G minor)\nFugen op. 60\, Nr. 3\nop. 60\,3\, Schumann\, Robert Kurt; Schumann\, Rob.; Schumann\, R.; Schuman\, Robert; Schuhmann; Schumann\, Franz; Šuman\, Robert Aleksandr; Šuman\, Robert Aleksander; Šuman\, Robert; Ekert [Pseudonym]; Schumann; Šuman\, R.; Schumann\, Robert Alexander; Schumann\, Roberto; Shuman\, Robert\, Fugen über den Namen BACH. Fuge\, Nr. 1\nFugen über den Namen BACH. Nr. 1 (B-Dur)\nFugues on the name BACH. No. 1 (B-flat major)\nFugen über den Namen BACH <Fuge Nr. 1>\nFugen\, Org op. 60\, 1\, Schumann\, Robert Kurt; Schumann\, Rob.; Schumann\, R.; Schuman\, Robert; Schuhmann; Schumann\, Franz; Šuman\, Robert Aleksandr; Šuman\, Robert Aleksander; Šuman\, Robert; Ekert [Pseudonym]; Schumann; Šuman\, R.; Schumann\, Robert Alexander; Schumann\, Roberto; Shuman\, Robert\,
URL:https://noonsong.de/event/noonsong-event-2017-03-04/
LOCATION:Kirche Am Hohenzollernplatz Berlin\, Nassauische Strasse 66\, Berlin\, Berlin\, 10717\, Deutschland
CATEGORIES:20. Jahrhundert,Audio,Barock,Berlin,Chor,Gottesdienst,Kirche,Klassik,Konzert,Liturgie,NoonSong,PDF,Renaissance,Romantik,Vokal
ATTACH;FMTTYPE=image/jpeg:https://noonsong.de/wp-content/uploads/2023/05/title-picture-for-noonsong-367.jpg
ORGANIZER;CN="NoonSong e.V.":MAILTO:contact@noonsong.de
END:VEVENT
END:VCALENDAR