BEGIN:VCALENDAR
VERSION:2.0
PRODID:-//NoonSong - ECPv6.15.20//NONSGML v1.0//EN
CALSCALE:GREGORIAN
METHOD:PUBLISH
X-WR-CALNAME:NoonSong
X-ORIGINAL-URL:https://noonsong.de
X-WR-CALDESC:Veranstaltungen für NoonSong
REFRESH-INTERVAL;VALUE=DURATION:PT1H
X-Robots-Tag:noindex
X-PUBLISHED-TTL:PT1H
BEGIN:VTIMEZONE
TZID:Europe/Berlin
BEGIN:DAYLIGHT
TZOFFSETFROM:+0100
TZOFFSETTO:+0200
TZNAME:CEST
DTSTART:20160327T010000
END:DAYLIGHT
BEGIN:STANDARD
TZOFFSETFROM:+0200
TZOFFSETTO:+0100
TZNAME:CET
DTSTART:20161030T010000
END:STANDARD
BEGIN:DAYLIGHT
TZOFFSETFROM:+0100
TZOFFSETTO:+0200
TZNAME:CEST
DTSTART:20170326T010000
END:DAYLIGHT
BEGIN:STANDARD
TZOFFSETFROM:+0200
TZOFFSETTO:+0100
TZNAME:CET
DTSTART:20171029T010000
END:STANDARD
BEGIN:DAYLIGHT
TZOFFSETFROM:+0100
TZOFFSETTO:+0200
TZNAME:CEST
DTSTART:20180325T010000
END:DAYLIGHT
BEGIN:STANDARD
TZOFFSETFROM:+0200
TZOFFSETTO:+0100
TZNAME:CET
DTSTART:20181028T010000
END:STANDARD
END:VTIMEZONE
BEGIN:VEVENT
DTSTART;TZID=Europe/Berlin:20170429T120000
DTEND;TZID=Europe/Berlin:20170429T130000
DTSTAMP:20260424T183824
CREATED:20250707T193916Z
LAST-MODIFIED:20250707T193916Z
UID:41211-1493467200-1493470800@noonsong.de
SUMMARY:374. NoonSong am 29.04.2017 um 12:00
DESCRIPTION:Programm\n\n\n\n\nOrgelvorspiel: Johann Sebastian Bach (1685-1750): Präludium und Fuge B-Dur (BWV 560)Preces: John Tavener (1944-2013): Preces & Responses für achtstimmig gemischten Chor a cappellaTagespsalm: Psalm 95: Moritz Hauptmann (1792-1868): Morgengesang (op. 33) für achtstimmig gemischten Chor a cappellaWochenpsalm: Psalm 23: Friedrich Kiel (1821-1885): Und ob ich schon wanderte im finstern Tal (op. 82\, Heft 1) für fünfstimmig gemischten Chor a cappellaResponsorium: gregorianisch\n\nCanticum: Ēriks Ešenvalds (*1977): Magnificat für achtstimmig gemischten Chor a cappella und Sopran-SoloChoral: Heinrich Schütz (1585-1672): Der Herr ist mein getreuer Hirt für vierstimmig gemischten Chor a cappellaOrgelnachspiel: Johann Sebastian Bach (1685-1750): Concerto a-Moll nach Antonio Vivaldi (BWV 593)\, 1. SatzSchriftlesung: Evangelium nach Johannes 10\,11-16 \n\n\n\n\n\n\n\n\nLiturgie: Misericordias Domini\nPfarrer: Dr. Sebastian W. Stork\nOrganist: Mirlan Kasymaliev\nOrt: Kirche am Hohenzollernplatz\n\n\n\n\n\n\n\n\n\nNoonSong hören\n\n\n\nHören Sie sich an dieser Stelle den NoonSong an. Möchten Sie viele der älteren NoonSongs noch einmal hören\, bitten wir Sie\, sich anzumelden. \n\n	Dieser Inhalt ist nur für angemeldete Benutzer sichtbar. Bitte melde dich an\, um diesen Inhalt anzuzeigen.\n\n\n\n\n\n\n\n\n\nProgrammheft\n\n\n\nLesen Sie an dieser Stelle das Programmheft des NoonSongs. \n\n\n\n\n\n\n\n\n\n\n\nPDF DOWNLOAD\n\n\n\n\n\n\n\n\n\n\n\n\n\n\, \, \, Tavener\, Sir John; Tavener\, John Kenneth\, Geistliche Gesänge\, op. 33. Kommt\, lasset uns anbeten\n\, Hauptmann\, M.\, Motetten\, op. 82. Und ob ich schon wanderte im finstern Tal\nUnd ob ich schon wanderte im finstern Tal\nUnd ob ich schon wanderte im finstern Thal\nPsalm 23\nMotetten op. 82\, Nr. 1\nop. 82\,1\, Kiel\, Frédéric; Kiel\, Fr.\, \, Esenvalds\, Eriks \, \, Schütz\, Hinrich; Schütz\, Henricus; Schütz\, Heinrico; Schütz\, H.; Schütze\, Henrich; Schütze\, Heinrich; Schuetz\, Heinrich; Schutz\, Heinrich; Schuetz von Pfeilstadt\, Henri; Schüzzius\, Heinricus; Schüzze\, Heinrich; Schüz\, Heinrich; Schüz\, Henricus; Schützius\, Henricus; Schützen\, Heinrich; Schützen\, Henrich; Schütz\, Henrich; Schütz; Sagittarius\, Heinricus; Sagittario\, Henrico; Sagittarius\, Henricus; Sagittarius\, Heinricus\,; Sagitarius\, Henricus; Saettario\, Enrico; Šjutc\, Genrich\, Präludien und Fugen\, Orgel\, BWV 553-560. Nr. 8\nPräludien und Fugen\, Orgel\, BWV 560 (B-Dur)\nPräludien und Fugen\, Org\, BWV 553 – 560. Präludium und Fuge\, BWV 560\nPräludien und Fugen\, Org BWV 553 – 560. Präludium und Fuge BWV 560\nPräludien und Fugen\, Org\, BWV 553 – 560 <Präludium und Fuge BWV 560>\nKleines Präludium und Fuga in B-Dur (BWV 560)\, Bach; Bach\, G. S.; Bach\, Iogann Sebastʹjan; Bach\, Joh. Sebastian; Bach\, Giov. Sebast.; Bach\, Jean Sebastien; Bach\, Jean Sebastian; Bach\, J. Seb.; Bach\, Sebastiano; Bach\, John Sebastian; Bach\, Iogann S.; Bach\, Iogann Sebast'jan; Bach\, Iogann Sebastian; Bach\, Giovanni Sebastian; Bach\, Johan Sebastian; Bach\, Joannes Sebastianus; Bach\, Giov. Seb.; Bach\, Giovanni S.; Bāḵ\, Jōhān Sebaṣtī'ān; Bach\, I. S.; Bach\, J.-S.; Bach\, Giovanni Sebastiano; Bach\, Jean-Sebastien; Bach\, Sebastian; Bach\, Jan Sebastian; Bach\, J. S.; Bach\, Johann-Sebastian; Bach\, Jean S.; Bach\, Johannes S.; Bach\, Johannes Sebastian; Bach\, Joh. Seb.; Bach\, Joh.-Seb.; Bach\, Joh. Sebas.; Bach\, Johann Seb.; Bach\, Joh. Sebast.; Bach\, Johann S.; Bach\, Iogann Sebastjan; Bach\, Jean Sébastien; Bach\, Jean-Sébastien; Bach\, Johann; Bakh\, Iogann Sebastian\, Konzerte nach verschiedenen Meistern\, BWV 592-596. Nr. 2. Satz 1\nKonzerte\, Orgel\, BWV 593 (a-Moll). Satz 1\nKonzerte nach verschiedenen Meistern\, BWV 592 – 597. Konzert\, BWV 593. 1. Satz Konzerte nach verschiedenen Meistern\, BWV 592 – 597 <Konzert BWV 593\,1>\nBWV 593/1\, Bach; Bach\, G. S.; Bach\, Iogann Sebastʹjan; Bach\, Joh. Sebastian; Bach\, Giov. Sebast.; Bach\, Jean Sebastien; Bach\, Jean Sebastian; Bach\, J. Seb.; Bach\, Sebastiano; Bach\, John Sebastian; Bach\, Iogann S.; Bach\, Iogann Sebast'jan; Bach\, Iogann Sebastian; Bach\, Giovanni Sebastian; Bach\, Johan Sebastian; Bach\, Joannes Sebastianus; Bach\, Giov. Seb.; Bach\, Giovanni S.; Bāḵ\, Jōhān Sebaṣtī'ān; Bach\, I. S.; Bach\, J.-S.; Bach\, Giovanni Sebastiano; Bach\, Jean-Sebastien; Bach\, Sebastian; Bach\, Jan Sebastian; Bach\, J. S.; Bach\, Johann-Sebastian; Bach\, Jean S.; Bach\, Johannes S.; Bach\, Johannes Sebastian; Bach\, Joh. Seb.; Bach\, Joh.-Seb.; Bach\, Joh. Sebas.; Bach\, Johann Seb.; Bach\, Joh. Sebast.; Bach\, Johann S.; Bach\, Iogann Sebastjan; Bach\, Jean Sébastien; Bach\, Jean-Sébastien; Bach\, Johann; Bakh\, Iogann Sebastian\,
URL:https://noonsong.de/event/noonsong-event-2017-04-29/
LOCATION:Kirche Am Hohenzollernplatz Berlin\, Nassauische Strasse 66\, Berlin\, Berlin\, 10717\, Deutschland
CATEGORIES:20. Jahrhundert,21. Jahrhundert,Audio,Barock,Berlin,Chor,Gottesdienst,Kirche,Konzert,Liturgie,NoonSong,PDF,Romantik,Vokal
ATTACH;FMTTYPE=image/jpeg:https://noonsong.de/wp-content/uploads/2023/05/title-picture-for-noonsong-374.jpg
ORGANIZER;CN="NoonSong e.V.":MAILTO:contact@noonsong.de
END:VEVENT
END:VCALENDAR