BEGIN:VCALENDAR
VERSION:2.0
PRODID:-//NoonSong - ECPv6.15.20//NONSGML v1.0//EN
CALSCALE:GREGORIAN
METHOD:PUBLISH
X-WR-CALNAME:NoonSong
X-ORIGINAL-URL:https://noonsong.de
X-WR-CALDESC:Veranstaltungen für NoonSong
REFRESH-INTERVAL;VALUE=DURATION:PT1H
X-Robots-Tag:noindex
X-PUBLISHED-TTL:PT1H
BEGIN:VTIMEZONE
TZID:Europe/Berlin
BEGIN:DAYLIGHT
TZOFFSETFROM:+0100
TZOFFSETTO:+0200
TZNAME:CEST
DTSTART:20160327T010000
END:DAYLIGHT
BEGIN:STANDARD
TZOFFSETFROM:+0200
TZOFFSETTO:+0100
TZNAME:CET
DTSTART:20161030T010000
END:STANDARD
BEGIN:DAYLIGHT
TZOFFSETFROM:+0100
TZOFFSETTO:+0200
TZNAME:CEST
DTSTART:20170326T010000
END:DAYLIGHT
BEGIN:STANDARD
TZOFFSETFROM:+0200
TZOFFSETTO:+0100
TZNAME:CET
DTSTART:20171029T010000
END:STANDARD
BEGIN:DAYLIGHT
TZOFFSETFROM:+0100
TZOFFSETTO:+0200
TZNAME:CEST
DTSTART:20180325T010000
END:DAYLIGHT
BEGIN:STANDARD
TZOFFSETFROM:+0200
TZOFFSETTO:+0100
TZNAME:CET
DTSTART:20181028T010000
END:STANDARD
END:VTIMEZONE
BEGIN:VEVENT
DTSTART;TZID=Europe/Berlin:20170610T120000
DTEND;TZID=Europe/Berlin:20170610T130000
DTSTAMP:20260421T115115
CREATED:20250713T020049Z
LAST-MODIFIED:20250713T020049Z
UID:41417-1497096000-1497099600@noonsong.de
SUMMARY:380. NoonSong am 10.06.2017 um 12:00
DESCRIPTION:Programm\n\n\n\n\nOrgelvorspiel: Johann Sebastian Bach (1685-1750): Präludium und Fuge G-Dur (BWV 541): PräludiumPreces: Thomas Morley (1557-1602): Preces & Responses für fünfstimmig gemischten Chor a cappellaTagespsalm: Psalm 103: Heinrich Schütz (1585-1672): Lobe den Herren\, meine Seele (SWV 39) für Soli\, zwei vierstimmige Chöre und ContinuoWochenpsalm: Psalm 113: Domenico Scarlatti (1685-1757): Laudate pueri für Doppelchor a cappellaResponsorium: gregorianisch\n\nCanticum: Felice Anerio (ca. 1560-1614): Te Deum für vierstimmig gemischten Chor a cappellaChoral: Johannes Eccard (1553-1611): Komm\, Gott Schöpfer\, heiliger Geist für fünfstimmig gemischten Chor a cappellaOrgelnachspiel: Louis Nicolas Clérambault (1676-1749): Récit de Nazard\, aus: Suite du premier TonSchriftlesung: Buch Jesaja 6\,1-13 \n\n\n\n\n\n\n\n\nLiturgie: Trinitatis\nPfarrer: Christhard G. Neubert\nOrganist: Rudolf Seidel\nOrt: Kirche am Hohenzollernplatz\n\n\n\n\n\n\n\n\n\nNoonSong hören\n\n\n\nHören Sie sich an dieser Stelle den NoonSong an. Möchten Sie viele der älteren NoonSongs noch einmal hören\, bitten wir Sie\, sich anzumelden. \n\n	Dieser Inhalt ist nur für angemeldete Benutzer sichtbar. Bitte melde dich an\, um diesen Inhalt anzuzeigen.\n\n\n\n\n\n\n\n\, \, \, Morlei\, Tomaso; Morlei\, Thomas\, \, Schütz\, Hinrich; Schütz\, Henricus; Schütz\, Heinrico; Schütz\, H.; Schütze\, Henrich; Schütze\, Heinrich; Schuetz\, Heinrich; Schutz\, Heinrich; Schuetz von Pfeilstadt\, Henri; Schüzzius\, Heinricus; Schüzze\, Heinrich; Schüz\, Heinrich; Schüz\, Henricus; Schützius\, Henricus; Schützen\, Heinrich; Schützen\, Henrich; Schütz\, Henrich; Schütz; Sagittarius\, Heinricus; Sagittario\, Henrico; Sagittarius\, Henricus; Sagittarius\, Heinricus\,; Sagitarius\, Henricus; Saettario\, Enrico; Šjutc\, Genrich\, \, Scarlatti\, …; Scarlatti\, Giuseppe D.; Scarlatti\, D.; Scarlatti-Benjamin\, …; Scarlatti\, Dominico; Scarlatti\, Dominique; Skarlatti\, Domeniko; Scarlatti\, Giuseppe Domenico\, \, Anerio\, J. F.; Anerius\, Felix; Anerius\, Felicius; Arnerius\, Felix\, \, Eccardus\, Johannes aus Mühlhausen; Eccard\, Johann; Eccard\, Johann.; Eccard\, J.; Eccard\, Johan; Eccardt\, Johannes; Eccardus\, Johannes; Eckard\, Johann\, Präludium und Fuge\, Orgel\, BWV 541 (G-Dur). Praeludium\nPräludien und Fugen\, Org\, BWV 541. Präludium\nPräludien und Fugen\, Org\, BWV 541\nBWV 541/1\, Bach; Bach\, G. S.; Bach\, Iogann Sebastʹjan; Bach\, Joh. Sebastian; Bach\, Giov. Sebast.; Bach\, Jean Sebastien; Bach\, Jean Sebastian; Bach\, J. Seb.; Bach\, Sebastiano; Bach\, John Sebastian; Bach\, Iogann S.; Bach\, Iogann Sebast'jan; Bach\, Iogann Sebastian; Bach\, Giovanni Sebastian; Bach\, Johan Sebastian; Bach\, Joannes Sebastianus; Bach\, Giov. Seb.; Bach\, Giovanni S.; Bāḵ\, Jōhān Sebaṣtī'ān; Bach\, I. S.; Bach\, J.-S.; Bach\, Giovanni Sebastiano; Bach\, Jean-Sebastien; Bach\, Sebastian; Bach\, Jan Sebastian; Bach\, J. S.; Bach\, Johann-Sebastian; Bach\, Jean S.; Bach\, Johannes S.; Bach\, Johannes Sebastian; Bach\, Joh. Seb.; Bach\, Joh.-Seb.; Bach\, Joh. Sebas.; Bach\, Johann Seb.; Bach\, Joh. Sebast.; Bach\, Johann S.; Bach\, Iogann Sebastjan; Bach\, Jean Sébastien; Bach\, Jean-Sébastien; Bach\, Johann; Bakh\, Iogann Sebastian\, Livre d'orgue. Suite\, 2. Ton\, Récit de Nazard\, Clérambault\, Louis N.; Clérambault\, L.-N.; Klerambo\, L. N.; Clérambault\, L. N.; Clairembault\, Louis Nicolas; Clerambaut\, …; Clerembault; Clérambault\, Nicolas; Clérambault\, Louis-Nicolas; Klerambo\, L.-N.; Clérambault\, Mr.; Clairembault\, Louis-Nicolas\,
URL:https://noonsong.de/event/noonsong-event-2017-06-10/
LOCATION:Kirche Am Hohenzollernplatz Berlin\, Nassauische Strasse 66\, Berlin\, Berlin\, 10717\, Deutschland
CATEGORIES:Audio,Barock,Berlin,Chor,Gottesdienst,Kirche,Konzert,Liturgie,NoonSong,Renaissance,Vokal
ATTACH;FMTTYPE=image/jpeg:https://noonsong.de/wp-content/uploads/2023/05/title-picture-for-noonsong-380.jpg
ORGANIZER;CN="NoonSong e.V.":MAILTO:contact@noonsong.de
END:VEVENT
END:VCALENDAR