BEGIN:VCALENDAR
VERSION:2.0
PRODID:-//NoonSong - ECPv6.15.20//NONSGML v1.0//EN
CALSCALE:GREGORIAN
METHOD:PUBLISH
X-WR-CALNAME:NoonSong
X-ORIGINAL-URL:https://noonsong.de
X-WR-CALDESC:Veranstaltungen für NoonSong
REFRESH-INTERVAL;VALUE=DURATION:PT1H
X-Robots-Tag:noindex
X-PUBLISHED-TTL:PT1H
BEGIN:VTIMEZONE
TZID:Europe/Berlin
BEGIN:DAYLIGHT
TZOFFSETFROM:+0100
TZOFFSETTO:+0200
TZNAME:CEST
DTSTART:20170326T010000
END:DAYLIGHT
BEGIN:STANDARD
TZOFFSETFROM:+0200
TZOFFSETTO:+0100
TZNAME:CET
DTSTART:20171029T010000
END:STANDARD
BEGIN:DAYLIGHT
TZOFFSETFROM:+0100
TZOFFSETTO:+0200
TZNAME:CEST
DTSTART:20180325T010000
END:DAYLIGHT
BEGIN:STANDARD
TZOFFSETFROM:+0200
TZOFFSETTO:+0100
TZNAME:CET
DTSTART:20181028T010000
END:STANDARD
BEGIN:DAYLIGHT
TZOFFSETFROM:+0100
TZOFFSETTO:+0200
TZNAME:CEST
DTSTART:20190331T010000
END:DAYLIGHT
BEGIN:STANDARD
TZOFFSETFROM:+0200
TZOFFSETTO:+0100
TZNAME:CET
DTSTART:20191027T010000
END:STANDARD
END:VTIMEZONE
BEGIN:VEVENT
DTSTART;TZID=Europe/Berlin:20180602T120000
DTEND;TZID=Europe/Berlin:20180602T130000
DTSTAMP:20260424T133211
CREATED:20260424T071641Z
LAST-MODIFIED:20260424T071641Z
UID:41501-1527940800-1527944400@noonsong.de
SUMMARY:424. NoonSong am 02.06.2018 um 12:00
DESCRIPTION:Programm\n\n\n\n\nOrgelvorspiel: Josef Gabriel Rheinberger (1839-1901): Andante amabile (op. 162)Preces: William Smith (1603-1645): Preces & Responses für vierstimmig gemischten Chor a cappellaTagespsalm: Psalm 33: Josef Gabriel Rheinberger (1839-1901): Frohlocket\, ihr Gerechten für vierstimmig gemischten Chor a cappellaWochenpsalm: Psalm 34a: Gottfried August Homilius (1714-1785): Ich will den Herrn loben allezeit für vierstimmig gemischten Chor a cappellaResponsorium: gregorianisch\n\nCanticum: Ēriks Ešenvalds (*1977): Magnificat für achtstimmig gemischten Chor a cappella und Sopran-SoloChoral: Hans Leo Haßler (1564-1612): Von Gott will ich nicht lassen für vierstimmig gemischten Chor a cappellaOrgelnachspiel: Johann Sebastian Bach (1685-1750): Präludium und Fuge G-Dur (BWV 541): FugeSchriftlesung: 1. Johannesbrief 4\,16b-21 \n\n\n\n\n\n\n\n\nLiturgie: 1. Sonntag nach Trinitatis\nPfarrerin: Barbara Deml\nOrganist: Daniel Clark\nOrt: Kirche am Hohenzollernplatz\n\n\n\n\n\n\n\n\n\nNoonSong hören\n\n\n\nHören Sie sich an dieser Stelle den NoonSong an. Möchten Sie viele der älteren NoonSongs noch einmal hören\, bitten wir Sie\, sich anzumelden. \n\n	Dieser Inhalt ist nur für angemeldete Benutzer sichtbar. Bitte melde dich an\, um diesen Inhalt anzuzeigen.\n\n\n\n\n\n\n\n\n\nProgrammheft\n\n\n\nLesen Sie an dieser Stelle das Programmheft des NoonSongs. \n\n\n\n\n\n\n\n\n\n\n\nPDF DOWNLOAD\n\n\n\n\n\n\n\n\n\n\n\n\n\n\, \, \, \, Motetten\, op. 40. Frohlocket\, ihr Gerechten\nFrohlocket\, ihr Gerechten\nPsalm 33\nMotetten op. 40\, Nr. 5\, Rheinberger\, Josef\, 1839-1901; Rheinberger\, …; Rheinberger\, Gabriel; Rheinberger\, Josef von; Rheinberger\, Giuseppe; Rheinberger\, Gabriel J.; Rheinberger\, Joseph Gabriel von; Rheinberger\, J.; Rheinberger\, J. G.; Rheinberger\, Josef G.; Rheinberger\, Jos.; Rheinberger\, Josef Gabriel; Rheinberger\, Gabriel Joseph; Rheinberger\, Gabriel Josef; Rheinberger\, Joseph von; Rheinberger\, Joseph Gabriel; Rheinberger\, Joseph G.; Rheinberger\, Josef\, \, Homilius\, Gottfried; Homilius\, Gottfried A.; Hommilius\, Gottfried August\, \, Esenvalds\, Eriks \, \, Hassler\, Hans Leo; Hassler\, J. L.; Hasler\, Jean Leo; Hasler\, Hans Leo von; Hasler\, Giovan Leo; Hasler\, Ioannes Leo; Hasler\, L.; Hasler\, Hanns Leo; Hassler\, Hans L.; Hasler\, Hans L.; Hasler\, Joanne Leone; Hasler\, …; Hassler\, Johann Leo; Hasler\, Johann Leo; Hasler\, Hans Leo; Hasler\, Johannes Leo; Hasler\, J. L.; Haslerus\, Hans Leo; Hassler\, H. L.; Hassler\, Léo; Hassler\, Hans Leo; Haslero\, Joanne Leone\, \, Rheinberger\, Josef\, 1839-1901; Rheinberger\, …; Rheinberger\, Gabriel; Rheinberger\, Josef von; Rheinberger\, Giuseppe; Rheinberger\, Gabriel J.; Rheinberger\, Joseph Gabriel von; Rheinberger\, J.; Rheinberger\, J. G.; Rheinberger\, Josef G.; Rheinberger\, Jos.; Rheinberger\, Josef Gabriel; Rheinberger\, Gabriel Joseph; Rheinberger\, Gabriel Josef; Rheinberger\, Joseph von; Rheinberger\, Joseph Gabriel; Rheinberger\, Joseph G.; Rheinberger\, Josef\, Präludium und Fuge\, Orgel\, BWV 541 (G-Dur). Fuga\nPräludien und Fugen\, Org\, BWV 541. Fuge\nPräludien und Fugen\, Org\, BWV 541 <Fuge>\nFuga in G-Dur (BWV 541)\nBWV 541/2\, Bach; Bach\, G. S.; Bach\, Iogann Sebastʹjan; Bach\, Joh. Sebastian; Bach\, Giov. Sebast.; Bach\, Jean Sebastien; Bach\, Jean Sebastian; Bach\, J. Seb.; Bach\, Sebastiano; Bach\, John Sebastian; Bach\, Iogann S.; Bach\, Iogann Sebast'jan; Bach\, Iogann Sebastian; Bach\, Giovanni Sebastian; Bach\, Johan Sebastian; Bach\, Joannes Sebastianus; Bach\, Giov. Seb.; Bach\, Giovanni S.; Bāḵ\, Jōhān Sebaṣtī'ān; Bach\, I. S.; Bach\, J.-S.; Bach\, Giovanni Sebastiano; Bach\, Jean-Sebastien; Bach\, Sebastian; Bach\, Jan Sebastian; Bach\, J. S.; Bach\, Johann-Sebastian; Bach\, Jean S.; Bach\, Johannes S.; Bach\, Johannes Sebastian; Bach\, Joh. Seb.; Bach\, Joh.-Seb.; Bach\, Joh. Sebas.; Bach\, Johann Seb.; Bach\, Joh. Sebast.; Bach\, Johann S.; Bach\, Iogann Sebastjan; Bach\, Jean Sébastien; Bach\, Jean-Sébastien; Bach\, Johann; Bakh\, Iogann Sebastian\,
URL:https://noonsong.de/event/noonsong-event-2018-06-02/
LOCATION:Kirche Am Hohenzollernplatz Berlin\, Nassauische Strasse 66\, Berlin\, Berlin\, 10717\, Deutschland
CATEGORIES:20. Jahrhundert,Audio,Barock,Berlin,Chor,Gottesdienst,Kirche,Klassik,Konzert,Liturgie,NoonSong,PDF,Renaissance,Romantik,Vokal
ATTACH;FMTTYPE=image/jpeg:https://noonsong.de/wp-content/uploads/2023/05/title-picture-for-noonsong-424.jpg
ORGANIZER;CN="NoonSong e.V.":MAILTO:contact@noonsong.de
END:VEVENT
END:VCALENDAR