BEGIN:VCALENDAR
VERSION:2.0
PRODID:-//NoonSong - ECPv6.15.20//NONSGML v1.0//EN
CALSCALE:GREGORIAN
METHOD:PUBLISH
X-WR-CALNAME:NoonSong
X-ORIGINAL-URL:https://noonsong.de
X-WR-CALDESC:Veranstaltungen für NoonSong
REFRESH-INTERVAL;VALUE=DURATION:PT1H
X-Robots-Tag:noindex
X-PUBLISHED-TTL:PT1H
BEGIN:VTIMEZONE
TZID:Europe/Berlin
BEGIN:DAYLIGHT
TZOFFSETFROM:+0100
TZOFFSETTO:+0200
TZNAME:CEST
DTSTART:20170326T010000
END:DAYLIGHT
BEGIN:STANDARD
TZOFFSETFROM:+0200
TZOFFSETTO:+0100
TZNAME:CET
DTSTART:20171029T010000
END:STANDARD
BEGIN:DAYLIGHT
TZOFFSETFROM:+0100
TZOFFSETTO:+0200
TZNAME:CEST
DTSTART:20180325T010000
END:DAYLIGHT
BEGIN:STANDARD
TZOFFSETFROM:+0200
TZOFFSETTO:+0100
TZNAME:CET
DTSTART:20181028T010000
END:STANDARD
BEGIN:DAYLIGHT
TZOFFSETFROM:+0100
TZOFFSETTO:+0200
TZNAME:CEST
DTSTART:20190331T010000
END:DAYLIGHT
BEGIN:STANDARD
TZOFFSETFROM:+0200
TZOFFSETTO:+0100
TZNAME:CET
DTSTART:20191027T010000
END:STANDARD
END:VTIMEZONE
BEGIN:VEVENT
DTSTART;TZID=Europe/Berlin:20180630T120000
DTEND;TZID=Europe/Berlin:20180630T130000
DTSTAMP:20260419T145759
CREATED:20250707T194234Z
LAST-MODIFIED:20250707T194234Z
UID:41365-1530360000-1530363600@noonsong.de
SUMMARY:428. NoonSong am 30.06.2018 um 12:00
DESCRIPTION:Programm\n\n\n\n\nOrgelvorspiel: Charles-Marie Widor (1844-1937): Toccata\, aus der 4. SymphoniePreces: Richard Ayleward (1626-1669): Preces & Responses für vierstimmig gemischten Chor a cappellaTagespsalm: Psalm 70: Adrian Batten (1591-1637): Haste the\, o God für vierstimmig gemischten Chor a cappellaWochenpsalm: Psalm 73: Reinhold Succo (1837-1897): Wenn ich nur dich habe für vierstimmig gemischten Chor a cappellaResponsorium: gregorianisch\n\nCanticum: Giuseppe Ottavio Pitoni (1657-1743): Magnificat für vierstimmig gemischten Chor a cappellaChoral: Philibert Jambe de Fer (um 1515-1572): Preis\, Lob und Dank für vierstimmig gemischten Chor a cappellaOrgelnachspiel: Charles-Marie Widor (1844-1937): Andante cantabile\, aus der 4. SymphonieSchriftlesung: Buch Hiob 28\,12-15.20-28 \n\n\n\n\n\n\n\n\nLiturgie: 5. Sonntag nach Trinitatis\nPfarrerin: Claudia Wüstenhagen\nOrganist: Rudolf Seidel\nOrt: Kirche am Hohenzollernplatz\n\n\n\n\n\n\n\n\n\nNoonSong hören\n\n\n\nHören Sie sich an dieser Stelle den NoonSong an. Möchten Sie viele der älteren NoonSongs noch einmal hören\, bitten wir Sie\, sich anzumelden. \n\n	Dieser Inhalt ist nur für angemeldete Benutzer sichtbar. Bitte melde dich an\, um diesen Inhalt anzuzeigen.\n\n\n\n\n\n\n\n\n\nProgrammheft\n\n\n\nLesen Sie an dieser Stelle das Programmheft des NoonSongs. \n\n\n\n\n\n\n\n\n\n\n\nPDF DOWNLOAD\n\n\n\n\n\n\n\n\n\n\n\n\n\n\, \, \, \, \, \, \, Succo\, Reinhard\, \, Pitoni\, G. O. (1657-1743); Pitoni\, Johannes O.; Pitoni\, Giuseppe O.; Pittoni\, G. O.; Pitoni\, Josepho Octavio; Pitoni\, Giuseppe Antonio; Pitoni\, Octavio\, \, Fer\, Philibert Jambe de; Philibert; Fer\, Philibert J. de; Jambe-de-Fer\, Philipbert; Jambe de Fer\, Philipbert\, Sinfonien\, Orgel\, Nr. 1-4\, op. 13. Nr. 4\nSinfonien\, Org op. 13\, 4 \, Widor\, Ch. M.; Widor\, Charles M.; Widor\, Charles Maria; Widor\, Ch.-M.; Widor\, Charles Marie; Widor\, Charles-Marie-Jean-Albert; Widor\, …; Widor\, Charles-M.; Widor\, Charles Marie Jean Albert; Widor\, Charles\, Sinfonien\, Orgel\, Nr. 1-4\, op. 13. Nr. 4\nSinfonien\, Org op. 13\, 4\nAndante cantabile aus der 4. Orgelsymphonie\, Widor\, Ch. M.; Widor\, Charles M.; Widor\, Charles Maria; Widor\, Ch.-M.; Widor\, Charles Marie; Widor\, Charles-Marie-Jean-Albert; Widor\, …; Widor\, Charles-M.; Widor\, Charles Marie Jean Albert; Widor\, Charles\,
URL:https://noonsong.de/event/noonsong-event-2018-06-30/
LOCATION:Kirche Am Hohenzollernplatz Berlin\, Nassauische Strasse 66\, Berlin\, Berlin\, 10717\, Deutschland
CATEGORIES:20. Jahrhundert,Audio,Barock,Berlin,Chor,Gottesdienst,Kirche,Konzert,Liturgie,NoonSong,PDF,Renaissance,Romantik,Vokal
ATTACH;FMTTYPE=image/jpeg:https://noonsong.de/wp-content/uploads/2023/05/title-picture-for-noonsong-428.jpg
ORGANIZER;CN="NoonSong e.V.":MAILTO:contact@noonsong.de
END:VEVENT
END:VCALENDAR