BEGIN:VCALENDAR
VERSION:2.0
PRODID:-//NoonSong - ECPv6.15.20//NONSGML v1.0//EN
CALSCALE:GREGORIAN
METHOD:PUBLISH
X-WR-CALNAME:NoonSong
X-ORIGINAL-URL:https://noonsong.de
X-WR-CALDESC:Veranstaltungen für NoonSong
REFRESH-INTERVAL;VALUE=DURATION:PT1H
X-Robots-Tag:noindex
X-PUBLISHED-TTL:PT1H
BEGIN:VTIMEZONE
TZID:Europe/Berlin
BEGIN:DAYLIGHT
TZOFFSETFROM:+0100
TZOFFSETTO:+0200
TZNAME:CEST
DTSTART:20170326T010000
END:DAYLIGHT
BEGIN:STANDARD
TZOFFSETFROM:+0200
TZOFFSETTO:+0100
TZNAME:CET
DTSTART:20171029T010000
END:STANDARD
BEGIN:DAYLIGHT
TZOFFSETFROM:+0100
TZOFFSETTO:+0200
TZNAME:CEST
DTSTART:20180325T010000
END:DAYLIGHT
BEGIN:STANDARD
TZOFFSETFROM:+0200
TZOFFSETTO:+0100
TZNAME:CET
DTSTART:20181028T010000
END:STANDARD
BEGIN:DAYLIGHT
TZOFFSETFROM:+0100
TZOFFSETTO:+0200
TZNAME:CEST
DTSTART:20190331T010000
END:DAYLIGHT
BEGIN:STANDARD
TZOFFSETFROM:+0200
TZOFFSETTO:+0100
TZNAME:CET
DTSTART:20191027T010000
END:STANDARD
END:VTIMEZONE
BEGIN:VEVENT
DTSTART;TZID=Europe/Berlin:20181027T120000
DTEND;TZID=Europe/Berlin:20181027T130000
DTSTAMP:20260424T183952
CREATED:20260424T071659Z
LAST-MODIFIED:20260424T071659Z
UID:41424-1540641600-1540645200@noonsong.de
SUMMARY:441. NoonSong am 27.10.2018 um 12:00
DESCRIPTION:Programm\n\n\n\n\nOrgelvorspiel: Nicolaus Bruhns (1665-1697): Präludium e-mollPreces: Bernard Rose (1916-1996): Preces & Responses für vierstimmig gemischten Chor a cappellaTagespsalm: Psalm 51b: Andreas Hammerschmidt (1612-1675): Schaffe in mir\, Gott für sechsstimmig gemischten Chor a cappellaWochenpsalm: Psalm 143: Gottfried August Homilius (1714-1785): Herr\, lehre mich tun nach deinem Wohlgefallen für vierstimmig gemischten Chor a cappellaResponsorium: gregorianisch\n\nCanticum: anonym (gregorianisch): Magnificat primi toni für einstimmigen Chor a cappellaChoral: Michael Praetorius (1571-1621): Herr Jesu\, Gnadensonne für vierstimmig gemischten Chor a cappellaOrgelnachspiel: Nicolaus Bruhns (1665-1697): Fuge e-MollSchriftlesung: Buch Jeremia 7\,1-11 \n\n\n\n\n\n\n\n\nLiturgie: 22. Sonntag nach Trinitatis\nPfarrerin: Barbara Deml\nOrganist: Jack Day\nOrt: Kirche am Hohenzollernplatz\n\n\n\n\n\n\n\n\n\nNoonSong hören\n\n\n\nHören Sie sich an dieser Stelle den NoonSong an. Möchten Sie viele der älteren NoonSongs noch einmal hören\, bitten wir Sie\, sich anzumelden. \n\n	Dieser Inhalt ist nur für angemeldete Benutzer sichtbar. Bitte melde dich an\, um diesen Inhalt anzuzeigen.\n\n\n\n\n\n\n\n\n\nProgrammheft\n\n\n\nLesen Sie an dieser Stelle das Programmheft des NoonSongs. \n\n\n\n\n\n\n\n\n\n\n\nPDF DOWNLOAD\n\n\n\n\n\n\n\n\n\n\n\n\n\n\, \, \, Rose\, Bernard George Williams\, Fest- und Zeit-Andachten. Schaffe in mir\, Gott\, ein reines Herz\nSchaffe in mir\, Gott\, ein reines Herz\, Hammerschmied\, Andres; Hammerschmiedt\, Andreas; Hammerschmidt\, A.; Hammerschmied\, Andreas; Hammerschmid\, Andreas; Hammerschmied\, Andrea; Hammerschmiedt\, Andrea; Hammerschmieden\, Andrea; Hammerschmidii\, Andree\, \, Homilius\, Gottfried; Homilius\, Gottfried A.; Hommilius\, Gottfried August\, \, Anonymus\, \, Praetorius\, M.; Praetorius; Praetorij\, Michaëlis; Prätorius\, Michael; Prätorius\, Mich.; Schultheiß\, Michael; Schultheiss\, Michael\, \, Bruhns; Bruhns\, Nicol.; Bruhns\, N.; Bruhns\, Nicolas; Bruns\, Nikolaus; Bruhns\, Nikolaus; Bruhn\, Nicolaus\, \, Bruhns; Bruhns\, Nicol.; Bruhns\, N.; Bruhns\, Nicolas; Bruns\, Nikolaus; Bruhns\, Nikolaus; Bruhn\, Nicolaus\,
URL:https://noonsong.de/event/noonsong-event-2018-10-27/
LOCATION:Kirche Am Hohenzollernplatz Berlin\, Nassauische Strasse 66\, Berlin\, Berlin\, 10717\, Deutschland
CATEGORIES:20. Jahrhundert,Audio,Barock,Berlin,Chor,Gottesdienst,Gregorianik,Kirche,Klassik,Konzert,Liturgie,NoonSong,PDF,Renaissance,Vokal
ATTACH;FMTTYPE=image/jpeg:https://noonsong.de/wp-content/uploads/2023/05/title-picture-for-noonsong-441.jpg
ORGANIZER;CN="NoonSong e.V.":MAILTO:contact@noonsong.de
END:VEVENT
END:VCALENDAR