BEGIN:VCALENDAR
VERSION:2.0
PRODID:-//NoonSong - ECPv6.15.20//NONSGML v1.0//EN
CALSCALE:GREGORIAN
METHOD:PUBLISH
X-WR-CALNAME:NoonSong
X-ORIGINAL-URL:https://noonsong.de
X-WR-CALDESC:Veranstaltungen für NoonSong
REFRESH-INTERVAL;VALUE=DURATION:PT1H
X-Robots-Tag:noindex
X-PUBLISHED-TTL:PT1H
BEGIN:VTIMEZONE
TZID:Europe/Berlin
BEGIN:DAYLIGHT
TZOFFSETFROM:+0100
TZOFFSETTO:+0200
TZNAME:CEST
DTSTART:20180325T010000
END:DAYLIGHT
BEGIN:STANDARD
TZOFFSETFROM:+0200
TZOFFSETTO:+0100
TZNAME:CET
DTSTART:20181028T010000
END:STANDARD
BEGIN:DAYLIGHT
TZOFFSETFROM:+0100
TZOFFSETTO:+0200
TZNAME:CEST
DTSTART:20190331T010000
END:DAYLIGHT
BEGIN:STANDARD
TZOFFSETFROM:+0200
TZOFFSETTO:+0100
TZNAME:CET
DTSTART:20191027T010000
END:STANDARD
BEGIN:DAYLIGHT
TZOFFSETFROM:+0100
TZOFFSETTO:+0200
TZNAME:CEST
DTSTART:20200329T010000
END:DAYLIGHT
BEGIN:STANDARD
TZOFFSETFROM:+0200
TZOFFSETTO:+0100
TZNAME:CET
DTSTART:20201025T010000
END:STANDARD
END:VTIMEZONE
BEGIN:VEVENT
DTSTART;TZID=Europe/Berlin:20190105T120000
DTEND;TZID=Europe/Berlin:20190105T130000
DTSTAMP:20260424T153132
CREATED:20250707T194021Z
LAST-MODIFIED:20250707T194021Z
UID:41667-1546689600-1546693200@noonsong.de
SUMMARY:450. NoonSong am 05.01.2019 um 12:00
DESCRIPTION:Programm\n\n\n\n\nOrgelvorspiel: Dietrich Buxtehude (1637-1707): Präludium und Fuge D-Dur (BuxWV 139)Preces: William Smith (1603-1645): Preces & Responses für vierstimmig gemischten Chor a cappellaTagespsalm: Psalm 100: Claudio Merulo (1533-1604): Jubilate Deo für sechststimmig gemischten Chor a cappellaWochenpsalm: Psalm 72b: Ascanio Trombetti (1544-1590): Sit nomen eius für achtstimmigen Doppelchor a cappellaResponsorium: gregorianisch\n\nCanticum: Andreas Hammerschmidt (1612-1675): Das Wort ward Fleisch für sechsstimmig gemischten Chor a cappellaChoral: Johann Sebastian Bach (1685-1750): Wie schön leuchtet der Morgenstern für vierstimmig gemischten Chor a cappellaOrgelnachspiel: Louis Vierne (1870-1937): Carillon de WestminsterSchriftlesung: Evangelium nach Markus 2\,1-12 \n\n\n\n\n\n\n\n\nLiturgie: Epiphanias\nPfarrer: Alexander Brodt-Zabka\nOrganist: Rudolf Seidel\nOrt: Kirche am Hohenzollernplatz\n\n\n\n\n\n\n\n\n\nNoonSong hören\n\n\n\nHören Sie sich an dieser Stelle den NoonSong an. Möchten Sie viele der älteren NoonSongs noch einmal hören\, bitten wir Sie\, sich anzumelden. \n\n	Dieser Inhalt ist nur für angemeldete Benutzer sichtbar. Bitte melde dich an\, um diesen Inhalt anzuzeigen.\n\n\n\n\n\n\n\n\n\nProgrammheft\n\n\n\nLesen Sie an dieser Stelle das Programmheft des NoonSongs. \n\n\n\n\n\n\n\n\n\n\n\nPDF DOWNLOAD\n\n\n\n\n\n\n\n\n\n\n\n\n\n\, \, \, \, \, Merulo\, Claud.; Coreggio\, Claudio; Claudio\, da Correggio; Merlotti\, Claudio; Meruli\, Claudio; Correggio\, Claudio da\, \, Ascanio\, Bolognese; Bolognese\, Ascanio; Cavallari\, Ascanio; Cavalaro\, Ascanio\, Fest- und Zeit-Andachten. Das Wort ward Fleisch\nFest- und Zeit-Andachten (Das Wort ward Fleisch)\nDas Wort ward Fleisch\nFest- und Zeit-Andachten. Das Wort ward Fleisch\, Hammerschmied\, Andres; Hammerschmiedt\, Andreas; Hammerschmidt\, A.; Hammerschmied\, Andreas; Hammerschmid\, Andreas; Hammerschmied\, Andrea; Hammerschmiedt\, Andrea; Hammerschmieden\, Andrea; Hammerschmidii\, Andree\, Choräle\, BWV 253-438. Wie schön leuchtet der Morgenstern\nChoräle\, BWV 436\nChoräle aus der Sammlung "Joh. Seb. Bachs vierstimmige Choralgesänge" …. Wie schön leuchtet der Morgenstern\nWie schön leuchtet der Morgenstern\nChoräle BWV 253 – 438. Wie schön leuchtet der Morgenstern\nBWV 436\, Bach; Bach\, G. S.; Bach\, Iogann Sebastʹjan; Bach\, Joh. Sebastian; Bach\, Giov. Sebast.; Bach\, Jean Sebastien; Bach\, Jean Sebastian; Bach\, J. Seb.; Bach\, Sebastiano; Bach\, John Sebastian; Bach\, Iogann S.; Bach\, Iogann Sebast'jan; Bach\, Iogann Sebastian; Bach\, Giovanni Sebastian; Bach\, Johan Sebastian; Bach\, Joannes Sebastianus; Bach\, Giov. Seb.; Bach\, Giovanni S.; Bāḵ\, Jōhān Sebaṣtī'ān; Bach\, I. S.; Bach\, J.-S.; Bach\, Giovanni Sebastiano; Bach\, Jean-Sebastien; Bach\, Sebastian; Bach\, Jan Sebastian; Bach\, J. S.; Bach\, Johann-Sebastian; Bach\, Jean S.; Bach\, Johannes S.; Bach\, Johannes Sebastian; Bach\, Joh. Seb.; Bach\, Joh.-Seb.; Bach\, Joh. Sebas.; Bach\, Johann Seb.; Bach\, Joh. Sebast.; Bach\, Johann S.; Bach\, Iogann Sebastjan; Bach\, Jean Sébastien; Bach\, Jean-Sébastien; Bach\, Johann; Bakh\, Iogann Sebastian\, Präludien\, Orgel\, BuxWV 139 (D-Dur)\nPräludien\, Org\, BuxWV 139\nPräludien\, Org (D-Dur)\nPräludien und Fugen\, Org\, BuxWV 139\nPräludien\, Org K 139\, Buxtehude\, …; Buxtehude\, D.; Buxtehude\, Diderik; Buxtehude\, Diderich; Buxtehude\, Dieterich\, Fantasiestücke\, Org\, op. 54. Carillon de Westminster\nFantasiestücke\, Org\, op. 54 <Carillon de Westminster>\nCarillon de Westminster\nPièces de fantaisie op. 54. Carillon de Westminster\, Vierne\, Louis\, 1870-1937; Vierne\, …; Vierne\, Louis V.; Vierne\, Louis-Victor-Jules; Vierne\, Louis Victor Jules; Vierne\, Luis; Vierne\, L.\,
URL:https://noonsong.de/event/noonsong-event-2019-01-05/
LOCATION:Kirche Am Hohenzollernplatz Berlin\, Nassauische Strasse 66\, Berlin\, Berlin\, 10717\, Deutschland
CATEGORIES:20. Jahrhundert,Audio,Barock,Berlin,Chor,Gottesdienst,Kirche,Konzert,Liturgie,NoonSong,PDF,Renaissance,Romantik,Vokal
ATTACH;FMTTYPE=image/jpeg:https://noonsong.de/wp-content/uploads/2023/05/title-picture-for-noonsong-450-1.jpg
ORGANIZER;CN="NoonSong e.V.":MAILTO:contact@noonsong.de
END:VEVENT
END:VCALENDAR